BEGIN:VCALENDAR
VERSION:2.0
PRODID:-//Poblenou Urban District - ECPv6.15.20//NONSGML v1.0//EN
CALSCALE:GREGORIAN
METHOD:PUBLISH
X-ORIGINAL-URL:https://poblenouurbandistrict.com/ca
X-WR-CALDESC:Esdeveniments per Poblenou Urban District
REFRESH-INTERVAL;VALUE=DURATION:PT1H
X-Robots-Tag:noindex
X-PUBLISHED-TTL:PT1H
BEGIN:VTIMEZONE
TZID:Europe/Madrid
BEGIN:DAYLIGHT
TZOFFSETFROM:+0100
TZOFFSETTO:+0200
TZNAME:CEST
DTSTART:20240331T010000
END:DAYLIGHT
BEGIN:STANDARD
TZOFFSETFROM:+0200
TZOFFSETTO:+0100
TZNAME:CET
DTSTART:20241027T010000
END:STANDARD
BEGIN:DAYLIGHT
TZOFFSETFROM:+0100
TZOFFSETTO:+0200
TZNAME:CEST
DTSTART:20250330T010000
END:DAYLIGHT
BEGIN:STANDARD
TZOFFSETFROM:+0200
TZOFFSETTO:+0100
TZNAME:CET
DTSTART:20251026T010000
END:STANDARD
BEGIN:DAYLIGHT
TZOFFSETFROM:+0100
TZOFFSETTO:+0200
TZNAME:CEST
DTSTART:20260329T010000
END:DAYLIGHT
BEGIN:STANDARD
TZOFFSETFROM:+0200
TZOFFSETTO:+0100
TZNAME:CET
DTSTART:20261025T010000
END:STANDARD
END:VTIMEZONE
BEGIN:VEVENT
DTSTART;TZID=Europe/Madrid:20250915T110000
DTEND;TZID=Europe/Madrid:20250915T110000
DTSTAMP:20260421T102944
CREATED:20250912T080623Z
LAST-MODIFIED:20250912T080803Z
UID:10007247-1757934000-1757934000@poblenouurbandistrict.com
SUMMARY:[:ca]El llenguatge del buit: trobada amb Sandra Sanseverino\, a Piramidón[:es]El lenguaje del vacío: encuentro con Sandra Sanseverino\, en Piramidón[:en]The language of the void: meeting with Sandra Sanseverino\, at Piramidón.[:]
DESCRIPTION:A partir de la seva exposició La forma del buit\, l’artista ens convida a una trobada on compartirà el seu procés pictòric: un recorregut fet de transformacions\, diàlegs entre figuració i abstracció\, paraula i pensament. Sanseverino parlarà dels moments de transició que han marcat la seva trajectòria i de com ha anat trobant la identitat en la seva obra a partir d’una via negativa: tenir clar què “no” fer per saber què fer. També es mencionaran els seus referents teòrics per entendre la seva influència en el procés pictòric.La sessió és gratuïta i oberta al públic. Confirmació d’assistència a: gestio@piramidon.com (fins a completar aforament).Us hi esperem!
URL:https://poblenouurbandistrict.com/ca/agenda/el-llenguatge-del-buit-trobada-amb-sandra-sanseverino-a-piramidon/
LOCATION:Piramidón\, Centre D’art Contemporani\, Carrer del Concili de Trento\, 313\, Barcelona\, Barcelona\, 08020\, Espanya
ATTACH;FMTTYPE=image/jpeg:https://media.poblenouurbandistrict.com/2025/09/25092833/05.jpg
END:VEVENT
BEGIN:VEVENT
DTSTART;TZID=Europe/Madrid:20250915T180000
DTEND;TZID=Europe/Madrid:20250915T180000
DTSTAMP:20260421T102944
CREATED:20250905T105852Z
LAST-MODIFIED:20250905T105852Z
UID:10007229-1757959200-1757959200@poblenouurbandistrict.com
SUMMARY:DAMAS GRATIS + LOS MIRLOS - CUMBIA EXPLOSION TOUR 2025
DESCRIPTION:
URL:https://poblenouurbandistrict.com/ca/agenda/damas-gratis-los-mirlos-cumbia-explosion-tour-2025/
LOCATION:Sala Razzmatazz\, C/ dels Almogàvers\, 122\, Barcelona\, Barcelona\, 08018\, Espanya
ATTACH;FMTTYPE=image/jpeg:https://media.poblenouurbandistrict.com/2025/09/25092525/damasweb-1000x540-1.jpg
END:VEVENT
BEGIN:VEVENT
DTSTART;TZID=Europe/Madrid:20250915T200000
DTEND;TZID=Europe/Madrid:20251015T200000
DTSTAMP:20260421T102944
CREATED:20250903T110426Z
LAST-MODIFIED:20250903T110426Z
UID:10007223-1757966400-1760558400@poblenouurbandistrict.com
SUMMARY:[:ca]El potser com a públic\, de Perejaume[:es]El potser com a públic de Perejaume[:en]El potser com a públic de Perejaume[:]
DESCRIPTION:Amb Sílvia Bel\, Ainara Elejalde i Anna Maluquer \nEnguany La Beckett té honor de poder engegar la programació amb una proposta del pintor i poeta català Perejaume\, gràcies a la col·laboració que mantenen des de fa anys amb el Festival Alcools de poesia en escena. Una peça escènica amb públic humà confrontat a un públic forestal. Què fa el públic? Qui és?.
URL:https://poblenouurbandistrict.com/ca/agenda/el-potser-com-a-public-de-perejaume/
LOCATION:Sala Beckett\, C. de Pere IV\, 228\, 232\, Barcelona\, Barcelona\, 08005
ATTACH;FMTTYPE=image/jpeg:https://media.poblenouurbandistrict.com/2025/09/25092436/unnamed-3.jpg
END:VEVENT
BEGIN:VEVENT
DTSTART;TZID=Europe/Madrid:20250915T203000
DTEND;TZID=Europe/Madrid:20250915T203000
DTSTAMP:20260421T102944
CREATED:20250903T094839Z
LAST-MODIFIED:20250903T094839Z
UID:10007205-1757968200-1757968200@poblenouurbandistrict.com
SUMMARY:DAVY LYONS + LUISA Y EL MAR
DESCRIPTION:
URL:https://poblenouurbandistrict.com/ca/agenda/davy-lyons-luisa-y-el-mar/
LOCATION:La Nau
ATTACH;FMTTYPE=image/jpeg:https://media.poblenouurbandistrict.com/2025/09/25092248/luisayelmar-copia-1.jpg
END:VEVENT
END:VCALENDAR