BEGIN:VCALENDAR
VERSION:2.0
PRODID:-//Poblenou Urban District - ECPv6.15.20//NONSGML v1.0//EN
CALSCALE:GREGORIAN
METHOD:PUBLISH
X-WR-CALNAME:Poblenou Urban District
X-ORIGINAL-URL:https://poblenouurbandistrict.com/ca
X-WR-CALDESC:Esdeveniments per Poblenou Urban District
REFRESH-INTERVAL;VALUE=DURATION:PT1H
X-Robots-Tag:noindex
X-PUBLISHED-TTL:PT1H
BEGIN:VTIMEZONE
TZID:Europe/Madrid
BEGIN:DAYLIGHT
TZOFFSETFROM:+0100
TZOFFSETTO:+0200
TZNAME:CEST
DTSTART:20240331T010000
END:DAYLIGHT
BEGIN:STANDARD
TZOFFSETFROM:+0200
TZOFFSETTO:+0100
TZNAME:CET
DTSTART:20241027T010000
END:STANDARD
BEGIN:DAYLIGHT
TZOFFSETFROM:+0100
TZOFFSETTO:+0200
TZNAME:CEST
DTSTART:20250330T010000
END:DAYLIGHT
BEGIN:STANDARD
TZOFFSETFROM:+0200
TZOFFSETTO:+0100
TZNAME:CET
DTSTART:20251026T010000
END:STANDARD
BEGIN:DAYLIGHT
TZOFFSETFROM:+0100
TZOFFSETTO:+0200
TZNAME:CEST
DTSTART:20260329T010000
END:DAYLIGHT
BEGIN:STANDARD
TZOFFSETFROM:+0200
TZOFFSETTO:+0100
TZNAME:CET
DTSTART:20261025T010000
END:STANDARD
END:VTIMEZONE
BEGIN:VEVENT
DTSTART;TZID=Europe/Madrid:20250915T200000
DTEND;TZID=Europe/Madrid:20251015T200000
DTSTAMP:20260421T102749
CREATED:20250903T110426Z
LAST-MODIFIED:20250903T110426Z
UID:10007223-1757966400-1760558400@poblenouurbandistrict.com
SUMMARY:[:ca]El potser com a públic\, de Perejaume[:es]El potser com a públic de Perejaume[:en]El potser com a públic de Perejaume[:]
DESCRIPTION:Amb Sílvia Bel\, Ainara Elejalde i Anna Maluquer \nEnguany La Beckett té honor de poder engegar la programació amb una proposta del pintor i poeta català Perejaume\, gràcies a la col·laboració que mantenen des de fa anys amb el Festival Alcools de poesia en escena. Una peça escènica amb públic humà confrontat a un públic forestal. Què fa el públic? Qui és?.
URL:https://poblenouurbandistrict.com/ca/agenda/el-potser-com-a-public-de-perejaume/
LOCATION:Sala Beckett\, C. de Pere IV\, 228\, 232\, Barcelona\, Barcelona\, 08005
ATTACH;FMTTYPE=image/jpeg:https://media.poblenouurbandistrict.com/2025/09/25092436/unnamed-3.jpg
END:VEVENT
BEGIN:VEVENT
DTSTART;VALUE=DATE:20250917
DTEND;VALUE=DATE:20251020
DTSTAMP:20260421T102749
CREATED:20250903T102708Z
LAST-MODIFIED:20250903T104003Z
UID:10007219-1758067200-1760918399@poblenouurbandistrict.com
SUMMARY:DEL FANDOM AL TROLEIG Una sàtira del bla bla bla de Berta Prieto
DESCRIPTION:Amb Belén Barenys\, Roser Dresaire\, Irene Moray\, Mireia Portas i Laura Roig  \nLa sàtira del bla bla bla de la Berta Prieto torna a la Beckett! Recuperem aquest espectacle que la temporada passada va tenir una acollida excel·lent entre públics de diferents generacions.
URL:https://poblenouurbandistrict.com/ca/agenda/del-fandom-al-troleig-una-satira-del-bla-bla-bla-de-berta-prieto-2/
LOCATION:Sala Beckett\, C. de Pere IV\, 228\, 232\, Barcelona\, Barcelona\, 08005
ATTACH;FMTTYPE=image/jpeg:https://media.poblenouurbandistrict.com/2025/09/25092427/unnamed-2.jpg
END:VEVENT
BEGIN:VEVENT
DTSTART;VALUE=DATE:20250918
DTEND;VALUE=DATE:20251014
DTSTAMP:20260421T102749
CREATED:20250916T120135Z
LAST-MODIFIED:20250916T120344Z
UID:10007260-1758153600-1760399999@poblenouurbandistrict.com
SUMMARY:[:ca]Inauguració "The Soft Collapse" de Per Hendrik Adolfsson a La Plataforma[:es]Inauguración "The Soft Collapse" de Per Hendrik Adolfsson en La Plataforma[:]
DESCRIPTION:Disculpa\, pero esta entrada está disponible sólo en Castellano.
URL:https://poblenouurbandistrict.com/ca/agenda/inauguracio-the-soft-collapse-de-per-hendrik-adolfsson-a-la-plataforma/
LOCATION:La Plataforma\, Pujades 99\, bxs.\, Barcelona\, Catalunya\, España
ATTACH;FMTTYPE=image/jpeg:https://media.poblenouurbandistrict.com/2025/09/25092809/banner-nesletter.jpg
ORGANIZER;CN="La Plataforma":MAILTO:bcnplataforma@gmail.com
END:VEVENT
BEGIN:VEVENT
DTSTART;TZID=Europe/Madrid:20250918T190000
DTEND;TZID=Europe/Madrid:20250918T190000
DTSTAMP:20260421T102749
CREATED:20250905T110440Z
LAST-MODIFIED:20250905T110440Z
UID:10007232-1758222000-1758222000@poblenouurbandistrict.com
SUMMARY:ELA TAUBERT - PREGUNTAS A LAS 11:11 TOUR
DESCRIPTION:
URL:https://poblenouurbandistrict.com/ca/agenda/ela-taubert-preguntas-a-las-1111-tour/
LOCATION:Sala Razzmatazz\, C/ dels Almogàvers\, 122\, Barcelona\, Barcelona\, 08018\, Espanya
ATTACH;FMTTYPE=image/jpeg:https://media.poblenouurbandistrict.com/2025/09/25092535/et-1000x540-1.jpg
END:VEVENT
BEGIN:VEVENT
DTSTART;TZID=Europe/Madrid:20250918T193000
DTEND;TZID=Europe/Madrid:20250918T193000
DTSTAMP:20260421T102749
CREATED:20250905T110243Z
LAST-MODIFIED:20250905T110243Z
UID:10007231-1758223800-1758223800@poblenouurbandistrict.com
SUMMARY:[:ca]LA P'TITE FUMÉE[:es]LA P'TITE FUMÉE[:en] LA P'TITE FUMÉE[:]
DESCRIPTION:
URL:https://poblenouurbandistrict.com/ca/agenda/la-ptite-fumee/
LOCATION:Sala Razzmatazz\, C/ dels Almogàvers\, 122\, Barcelona\, Barcelona\, 08018\, Espanya
ATTACH;FMTTYPE=image/jpeg:https://media.poblenouurbandistrict.com/2025/09/25092532/ptite-1000x540-1.jpg
END:VEVENT
BEGIN:VEVENT
DTSTART;TZID=Europe/Madrid:20250918T193000
DTEND;TZID=Europe/Madrid:20250918T193000
DTSTAMP:20260421T102749
CREATED:20250905T110628Z
LAST-MODIFIED:20250905T110628Z
UID:10007233-1758223800-1758223800@poblenouurbandistrict.com
SUMMARY:BIIG PIIG
DESCRIPTION:
URL:https://poblenouurbandistrict.com/ca/agenda/biig-piig/
LOCATION:Sala Razzmatazz\, C/ dels Almogàvers\, 122\, Barcelona\, Barcelona\, 08018\, Espanya
ATTACH;FMTTYPE=image/png:https://media.poblenouurbandistrict.com/2025/09/25092540/bp.png
END:VEVENT
BEGIN:VEVENT
DTSTART;TZID=Europe/Madrid:20250918T210000
DTEND;TZID=Europe/Madrid:20250918T210000
DTSTAMP:20260421T102749
CREATED:20250903T100059Z
LAST-MODIFIED:20250903T100135Z
UID:10007209-1758229200-1758229200@poblenouurbandistrict.com
SUMMARY:CEACHEI Una celebración a la chilena en Barcelona
DESCRIPTION:
URL:https://poblenouurbandistrict.com/ca/agenda/ceachei-una-celebracion-a-la-chilena-en-barcelona-2/
LOCATION:La Nau
ATTACH;FMTTYPE=image/png:https://media.poblenouurbandistrict.com/2025/09/25092255/captura-de-pantalla-2025-07-29-a-las-175031.png
END:VEVENT
END:VCALENDAR