BEGIN:VCALENDAR
VERSION:2.0
PRODID:-//Poblenou Urban District - ECPv6.15.20//NONSGML v1.0//EN
CALSCALE:GREGORIAN
METHOD:PUBLISH
X-ORIGINAL-URL:https://poblenouurbandistrict.com/ca
X-WR-CALDESC:Esdeveniments per Poblenou Urban District
REFRESH-INTERVAL;VALUE=DURATION:PT1H
X-Robots-Tag:noindex
X-PUBLISHED-TTL:PT1H
BEGIN:VTIMEZONE
TZID:Europe/Madrid
BEGIN:DAYLIGHT
TZOFFSETFROM:+0100
TZOFFSETTO:+0200
TZNAME:CEST
DTSTART:20210328T010000
END:DAYLIGHT
BEGIN:STANDARD
TZOFFSETFROM:+0200
TZOFFSETTO:+0100
TZNAME:CET
DTSTART:20211031T010000
END:STANDARD
BEGIN:DAYLIGHT
TZOFFSETFROM:+0100
TZOFFSETTO:+0200
TZNAME:CEST
DTSTART:20220327T010000
END:DAYLIGHT
BEGIN:STANDARD
TZOFFSETFROM:+0200
TZOFFSETTO:+0100
TZNAME:CET
DTSTART:20221030T010000
END:STANDARD
BEGIN:DAYLIGHT
TZOFFSETFROM:+0100
TZOFFSETTO:+0200
TZNAME:CEST
DTSTART:20230326T010000
END:DAYLIGHT
BEGIN:STANDARD
TZOFFSETFROM:+0200
TZOFFSETTO:+0100
TZNAME:CET
DTSTART:20231029T010000
END:STANDARD
END:VTIMEZONE
BEGIN:VEVENT
DTSTART;VALUE=DATE:20220420
DTEND;VALUE=DATE:20220421
DTSTAMP:20260420T183851
CREATED:20220406T145042Z
LAST-MODIFIED:20220406T145042Z
UID:10003143-1650412800-1650499199@poblenouurbandistrict.com
SUMMARY:Festival: Extrabold
DESCRIPTION:Del 20 al 22 d’abril\, torna el Festival Extrabold\, un festival de disseny gràfic organitzat pels mateixos estudiants i que durant uns dies omple la universitat de tallers\, instal·lacions\, xerrades i molta festa. Aquesta quinta edició vol posar sobre la taula la relació implícita entre política i disseny.
URL:https://poblenouurbandistrict.com/ca/agenda/festival-extrabold/2022-04-20/
LOCATION:BAU\, Carrer de Pujades\, 118\, Barcelona\, Barcelona\, 08005\, Espanya
CATEGORIES:Art,Exposició,Taller,Xerrada
ATTACH;FMTTYPE=image/jpeg:https://media.poblenouurbandistrict.com/2022/04/25050219/277969429-508723784068352-5515992131221451667-n.jpg
END:VEVENT
BEGIN:VEVENT
DTSTART;TZID=Europe/Madrid:20220420T090000
DTEND;TZID=Europe/Madrid:20220420T210000
DTSTAMP:20260420T183851
CREATED:20220422T103838Z
LAST-MODIFIED:20220422T103838Z
UID:10003185-1650445200-1650488400@poblenouurbandistrict.com
SUMMARY:[:ca]Exposició: Mirades Extraterrestres[:es]Exposición Miradas Extraterrestres[:en]Exhibition: Extraterrestrial Views[:]
DESCRIPTION:El Departament d’Art de BAU i la llibreria La Insòlita proposen una exposició sobre la fusió del món artificial\, natural i dinàmic per a la creació de noves criatures. Una mostra de com l’alumnat ha avaluat i reflexionat sobre el món que ens envolta al mateix temps que ha explorat diferents llenguatges gràfics.
URL:https://poblenouurbandistrict.com/ca/agenda/exposicio-mirades-extraterrestres/2022-04-20/
LOCATION:BAU\, Carrer de Pujades\, 118\, Barcelona\, Barcelona\, 08005\, Espanya
CATEGORIES:Art,Exposició
ATTACH;FMTTYPE=image/jpeg:https://media.poblenouurbandistrict.com/2022/04/25050525/screenshot-2022-04-22-at-123740.jpg
END:VEVENT
BEGIN:VEVENT
DTSTART;VALUE=DATE:20220421
DTEND;VALUE=DATE:20220422
DTSTAMP:20260420T183851
CREATED:20220406T145042Z
LAST-MODIFIED:20220406T145042Z
UID:10003144-1650499200-1650585599@poblenouurbandistrict.com
SUMMARY:Festival: Extrabold
DESCRIPTION:Del 20 al 22 d’abril\, torna el Festival Extrabold\, un festival de disseny gràfic organitzat pels mateixos estudiants i que durant uns dies omple la universitat de tallers\, instal·lacions\, xerrades i molta festa. Aquesta quinta edició vol posar sobre la taula la relació implícita entre política i disseny.
URL:https://poblenouurbandistrict.com/ca/agenda/festival-extrabold/2022-04-21/
LOCATION:BAU\, Carrer de Pujades\, 118\, Barcelona\, Barcelona\, 08005\, Espanya
CATEGORIES:Art,Exposició,Taller,Xerrada
ATTACH;FMTTYPE=image/jpeg:https://media.poblenouurbandistrict.com/2022/04/25050219/277969429-508723784068352-5515992131221451667-n.jpg
END:VEVENT
BEGIN:VEVENT
DTSTART;TZID=Europe/Madrid:20220421T090000
DTEND;TZID=Europe/Madrid:20220421T210000
DTSTAMP:20260420T183851
CREATED:20220422T103838Z
LAST-MODIFIED:20220422T103838Z
UID:10003186-1650531600-1650574800@poblenouurbandistrict.com
SUMMARY:[:ca]Exposició: Mirades Extraterrestres[:es]Exposición Miradas Extraterrestres[:en]Exhibition: Extraterrestrial Views[:]
DESCRIPTION:El Departament d’Art de BAU i la llibreria La Insòlita proposen una exposició sobre la fusió del món artificial\, natural i dinàmic per a la creació de noves criatures. Una mostra de com l’alumnat ha avaluat i reflexionat sobre el món que ens envolta al mateix temps que ha explorat diferents llenguatges gràfics.
URL:https://poblenouurbandistrict.com/ca/agenda/exposicio-mirades-extraterrestres/2022-04-21/
LOCATION:BAU\, Carrer de Pujades\, 118\, Barcelona\, Barcelona\, 08005\, Espanya
CATEGORIES:Art,Exposició
ATTACH;FMTTYPE=image/jpeg:https://media.poblenouurbandistrict.com/2022/04/25050525/screenshot-2022-04-22-at-123740.jpg
END:VEVENT
BEGIN:VEVENT
DTSTART;VALUE=DATE:20220422
DTEND;VALUE=DATE:20220423
DTSTAMP:20260420T183851
CREATED:20220406T145042Z
LAST-MODIFIED:20220406T145042Z
UID:10003145-1650585600-1650671999@poblenouurbandistrict.com
SUMMARY:Festival: Extrabold
DESCRIPTION:Del 20 al 22 d’abril\, torna el Festival Extrabold\, un festival de disseny gràfic organitzat pels mateixos estudiants i que durant uns dies omple la universitat de tallers\, instal·lacions\, xerrades i molta festa. Aquesta quinta edició vol posar sobre la taula la relació implícita entre política i disseny.
URL:https://poblenouurbandistrict.com/ca/agenda/festival-extrabold/2022-04-22/
LOCATION:BAU\, Carrer de Pujades\, 118\, Barcelona\, Barcelona\, 08005\, Espanya
CATEGORIES:Art,Exposició,Taller,Xerrada
ATTACH;FMTTYPE=image/jpeg:https://media.poblenouurbandistrict.com/2022/04/25050219/277969429-508723784068352-5515992131221451667-n.jpg
END:VEVENT
BEGIN:VEVENT
DTSTART;TZID=Europe/Madrid:20220422T090000
DTEND;TZID=Europe/Madrid:20220422T210000
DTSTAMP:20260420T183851
CREATED:20220422T103838Z
LAST-MODIFIED:20220422T103838Z
UID:10003187-1650618000-1650661200@poblenouurbandistrict.com
SUMMARY:[:ca]Exposició: Mirades Extraterrestres[:es]Exposición Miradas Extraterrestres[:en]Exhibition: Extraterrestrial Views[:]
DESCRIPTION:El Departament d’Art de BAU i la llibreria La Insòlita proposen una exposició sobre la fusió del món artificial\, natural i dinàmic per a la creació de noves criatures. Una mostra de com l’alumnat ha avaluat i reflexionat sobre el món que ens envolta al mateix temps que ha explorat diferents llenguatges gràfics.
URL:https://poblenouurbandistrict.com/ca/agenda/exposicio-mirades-extraterrestres/2022-04-22/
LOCATION:BAU\, Carrer de Pujades\, 118\, Barcelona\, Barcelona\, 08005\, Espanya
CATEGORIES:Art,Exposició
ATTACH;FMTTYPE=image/jpeg:https://media.poblenouurbandistrict.com/2022/04/25050525/screenshot-2022-04-22-at-123740.jpg
END:VEVENT
BEGIN:VEVENT
DTSTART;TZID=Europe/Madrid:20220422T090000
DTEND;TZID=Europe/Madrid:20220422T210000
DTSTAMP:20260420T183851
CREATED:20220427T163938Z
LAST-MODIFIED:20220427T163938Z
UID:10003238-1650618000-1650661200@poblenouurbandistrict.com
SUMMARY:[:ca]Exposició: Vestit floral[:es]Exposición: Vestido floral[:en]Exhibition: Floral dress[:]
DESCRIPTION:Un vestit de cua elaborat amb flors donarà la benvinguda a l’entrada del Disseny Hub\, una mostra instal·lada fins al 15 de maig.
URL:https://poblenouurbandistrict.com/ca/agenda/exposicio-vestit-floral/2022-04-22/
LOCATION:Disseny Hub\, Pl. de les Glòries Catalanes 37\, Barcelona\, Catalunya\, 08018\, España
CATEGORIES:Art,Exposició
ATTACH;FMTTYPE=image/jpeg:https://media.poblenouurbandistrict.com/2022/04/25050752/screenshot-2022-04-27-at-183838.jpg
ORGANIZER;CN="Disseny Hub":MAILTO:dissenyhub@bcn.cat
END:VEVENT
BEGIN:VEVENT
DTSTART;TZID=Europe/Madrid:20220422T180000
DTEND;TZID=Europe/Madrid:20220422T210000
DTSTAMP:20260420T183851
CREATED:20220421T155139Z
LAST-MODIFIED:20220421T155139Z
UID:10003164-1650650400-1650661200@poblenouurbandistrict.com
SUMMARY:[:ca]Exposició: "De la Desfragmentació a la Unificació"[:es]Exposición: "De la Desfragmentación a la Unificación"[:en]Exposition: "From Defragmentation to Unification"[:]
DESCRIPTION:El 22 d’abril en l’encantadora galeria de Chez Xefo en Poble Nou\, Magda Ćwik presentarà al públic una sèrie d’obres anomenades “De la Defragmentación a la Unificació”\, una exposició que vol portar a l’espectador a una experiència significativa en la qual l’artista compartirà algunes de les seves “eines catàrtiques” que li van ser revelades en les seves últimes meditacions i recerques científiques. Disponible fins al 8 de maig.
URL:https://poblenouurbandistrict.com/ca/agenda/exposicio-de-la-desfragmentacio-a-la-unificacio/2022-04-22/
LOCATION:Chez Xefo\, Carrer de Badajoz\, 46\, Barcelona\, 08005
CATEGORIES:Art,Exposició
ATTACH;FMTTYPE=image/jpeg:https://media.poblenouurbandistrict.com/2022/04/25050507/chez-xefo-square.jpg
END:VEVENT
BEGIN:VEVENT
DTSTART;TZID=Europe/Madrid:20220423T090000
DTEND;TZID=Europe/Madrid:20220423T210000
DTSTAMP:20260420T183851
CREATED:20220422T103838Z
LAST-MODIFIED:20220422T103838Z
UID:10003188-1650704400-1650747600@poblenouurbandistrict.com
SUMMARY:[:ca]Exposició: Mirades Extraterrestres[:es]Exposición Miradas Extraterrestres[:en]Exhibition: Extraterrestrial Views[:]
DESCRIPTION:El Departament d’Art de BAU i la llibreria La Insòlita proposen una exposició sobre la fusió del món artificial\, natural i dinàmic per a la creació de noves criatures. Una mostra de com l’alumnat ha avaluat i reflexionat sobre el món que ens envolta al mateix temps que ha explorat diferents llenguatges gràfics.
URL:https://poblenouurbandistrict.com/ca/agenda/exposicio-mirades-extraterrestres/2022-04-23/
LOCATION:BAU\, Carrer de Pujades\, 118\, Barcelona\, Barcelona\, 08005\, Espanya
CATEGORIES:Art,Exposició
ATTACH;FMTTYPE=image/jpeg:https://media.poblenouurbandistrict.com/2022/04/25050525/screenshot-2022-04-22-at-123740.jpg
END:VEVENT
BEGIN:VEVENT
DTSTART;TZID=Europe/Madrid:20220423T090000
DTEND;TZID=Europe/Madrid:20220423T210000
DTSTAMP:20260420T183851
CREATED:20220427T163938Z
LAST-MODIFIED:20220427T163938Z
UID:10003239-1650704400-1650747600@poblenouurbandistrict.com
SUMMARY:[:ca]Exposició: Vestit floral[:es]Exposición: Vestido floral[:en]Exhibition: Floral dress[:]
DESCRIPTION:Un vestit de cua elaborat amb flors donarà la benvinguda a l’entrada del Disseny Hub\, una mostra instal·lada fins al 15 de maig.
URL:https://poblenouurbandistrict.com/ca/agenda/exposicio-vestit-floral/2022-04-23/
LOCATION:Disseny Hub\, Pl. de les Glòries Catalanes 37\, Barcelona\, Catalunya\, 08018\, España
CATEGORIES:Art,Exposició
ATTACH;FMTTYPE=image/jpeg:https://media.poblenouurbandistrict.com/2022/04/25050752/screenshot-2022-04-27-at-183838.jpg
ORGANIZER;CN="Disseny Hub":MAILTO:dissenyhub@bcn.cat
END:VEVENT
BEGIN:VEVENT
DTSTART;TZID=Europe/Madrid:20220423T110000
DTEND;TZID=Europe/Madrid:20220423T150000
DTSTAMP:20260420T183851
CREATED:20220421T153209Z
LAST-MODIFIED:20220421T161450Z
UID:10003163-1650711600-1650726000@poblenouurbandistrict.com
SUMMARY:[:ca]Vermut & Art\, clausura de «Parafernalia» de Jan Vallverdú[:es]Vermut & Art\, clausura de «Parafernalia» de Jan Vallverdú[:en]Vermut & Art\, closure of «Parafernalia» by Jan Vallverdú[:]
DESCRIPTION:El pròxim dissabte 23 d’abril la galeria La Plataforma clausura “Parafernàlia”\, l’exposició individual de l’artista Jan Vallverdú\, on podràs gaudir d’un vermut i conèixer personalment a l’artista.
URL:https://poblenouurbandistrict.com/ca/agenda/vermut-art-clausura-de-parafernalia-de-jan-vallverdu/
LOCATION:La Plataforma\, Pujades 99\, bxs.\, Barcelona\, Catalunya\, España
CATEGORIES:Art,Exposició
ATTACH;FMTTYPE=image/jpeg:https://media.poblenouurbandistrict.com/2022/04/25050513/unnamed.jpg
ORGANIZER;CN="La Plataforma":MAILTO:bcnplataforma@gmail.com
END:VEVENT
BEGIN:VEVENT
DTSTART;TZID=Europe/Madrid:20220424T090000
DTEND;TZID=Europe/Madrid:20220424T210000
DTSTAMP:20260420T183851
CREATED:20220422T103838Z
LAST-MODIFIED:20220422T103838Z
UID:10003189-1650790800-1650834000@poblenouurbandistrict.com
SUMMARY:[:ca]Exposició: Mirades Extraterrestres[:es]Exposición Miradas Extraterrestres[:en]Exhibition: Extraterrestrial Views[:]
DESCRIPTION:El Departament d’Art de BAU i la llibreria La Insòlita proposen una exposició sobre la fusió del món artificial\, natural i dinàmic per a la creació de noves criatures. Una mostra de com l’alumnat ha avaluat i reflexionat sobre el món que ens envolta al mateix temps que ha explorat diferents llenguatges gràfics.
URL:https://poblenouurbandistrict.com/ca/agenda/exposicio-mirades-extraterrestres/2022-04-24/
LOCATION:BAU\, Carrer de Pujades\, 118\, Barcelona\, Barcelona\, 08005\, Espanya
CATEGORIES:Art,Exposició
ATTACH;FMTTYPE=image/jpeg:https://media.poblenouurbandistrict.com/2022/04/25050525/screenshot-2022-04-22-at-123740.jpg
END:VEVENT
BEGIN:VEVENT
DTSTART;TZID=Europe/Madrid:20220424T090000
DTEND;TZID=Europe/Madrid:20220424T210000
DTSTAMP:20260420T183851
CREATED:20220427T163938Z
LAST-MODIFIED:20220427T163938Z
UID:10003240-1650790800-1650834000@poblenouurbandistrict.com
SUMMARY:[:ca]Exposició: Vestit floral[:es]Exposición: Vestido floral[:en]Exhibition: Floral dress[:]
DESCRIPTION:Un vestit de cua elaborat amb flors donarà la benvinguda a l’entrada del Disseny Hub\, una mostra instal·lada fins al 15 de maig.
URL:https://poblenouurbandistrict.com/ca/agenda/exposicio-vestit-floral/2022-04-24/
LOCATION:Disseny Hub\, Pl. de les Glòries Catalanes 37\, Barcelona\, Catalunya\, 08018\, España
CATEGORIES:Art,Exposició
ATTACH;FMTTYPE=image/jpeg:https://media.poblenouurbandistrict.com/2022/04/25050752/screenshot-2022-04-27-at-183838.jpg
ORGANIZER;CN="Disseny Hub":MAILTO:dissenyhub@bcn.cat
END:VEVENT
BEGIN:VEVENT
DTSTART;TZID=Europe/Madrid:20220425T090000
DTEND;TZID=Europe/Madrid:20220425T210000
DTSTAMP:20260420T183851
CREATED:20220422T103838Z
LAST-MODIFIED:20220422T103838Z
UID:10003190-1650877200-1650920400@poblenouurbandistrict.com
SUMMARY:[:ca]Exposició: Mirades Extraterrestres[:es]Exposición Miradas Extraterrestres[:en]Exhibition: Extraterrestrial Views[:]
DESCRIPTION:El Departament d’Art de BAU i la llibreria La Insòlita proposen una exposició sobre la fusió del món artificial\, natural i dinàmic per a la creació de noves criatures. Una mostra de com l’alumnat ha avaluat i reflexionat sobre el món que ens envolta al mateix temps que ha explorat diferents llenguatges gràfics.
URL:https://poblenouurbandistrict.com/ca/agenda/exposicio-mirades-extraterrestres/2022-04-25/
LOCATION:BAU\, Carrer de Pujades\, 118\, Barcelona\, Barcelona\, 08005\, Espanya
CATEGORIES:Art,Exposició
ATTACH;FMTTYPE=image/jpeg:https://media.poblenouurbandistrict.com/2022/04/25050525/screenshot-2022-04-22-at-123740.jpg
END:VEVENT
BEGIN:VEVENT
DTSTART;TZID=Europe/Madrid:20220425T090000
DTEND;TZID=Europe/Madrid:20220425T210000
DTSTAMP:20260420T183851
CREATED:20220427T163938Z
LAST-MODIFIED:20220427T163938Z
UID:10003241-1650877200-1650920400@poblenouurbandistrict.com
SUMMARY:[:ca]Exposició: Vestit floral[:es]Exposición: Vestido floral[:en]Exhibition: Floral dress[:]
DESCRIPTION:Un vestit de cua elaborat amb flors donarà la benvinguda a l’entrada del Disseny Hub\, una mostra instal·lada fins al 15 de maig.
URL:https://poblenouurbandistrict.com/ca/agenda/exposicio-vestit-floral/2022-04-25/
LOCATION:Disseny Hub\, Pl. de les Glòries Catalanes 37\, Barcelona\, Catalunya\, 08018\, España
CATEGORIES:Art,Exposició
ATTACH;FMTTYPE=image/jpeg:https://media.poblenouurbandistrict.com/2022/04/25050752/screenshot-2022-04-27-at-183838.jpg
ORGANIZER;CN="Disseny Hub":MAILTO:dissenyhub@bcn.cat
END:VEVENT
BEGIN:VEVENT
DTSTART;TZID=Europe/Madrid:20220426T090000
DTEND;TZID=Europe/Madrid:20220426T210000
DTSTAMP:20260420T183851
CREATED:20220422T103838Z
LAST-MODIFIED:20220422T103838Z
UID:10003191-1650963600-1651006800@poblenouurbandistrict.com
SUMMARY:[:ca]Exposició: Mirades Extraterrestres[:es]Exposición Miradas Extraterrestres[:en]Exhibition: Extraterrestrial Views[:]
DESCRIPTION:El Departament d’Art de BAU i la llibreria La Insòlita proposen una exposició sobre la fusió del món artificial\, natural i dinàmic per a la creació de noves criatures. Una mostra de com l’alumnat ha avaluat i reflexionat sobre el món que ens envolta al mateix temps que ha explorat diferents llenguatges gràfics.
URL:https://poblenouurbandistrict.com/ca/agenda/exposicio-mirades-extraterrestres/2022-04-26/
LOCATION:BAU\, Carrer de Pujades\, 118\, Barcelona\, Barcelona\, 08005\, Espanya
CATEGORIES:Art,Exposició
ATTACH;FMTTYPE=image/jpeg:https://media.poblenouurbandistrict.com/2022/04/25050525/screenshot-2022-04-22-at-123740.jpg
END:VEVENT
BEGIN:VEVENT
DTSTART;TZID=Europe/Madrid:20220426T090000
DTEND;TZID=Europe/Madrid:20220426T210000
DTSTAMP:20260420T183851
CREATED:20220427T163938Z
LAST-MODIFIED:20220427T163938Z
UID:10003242-1650963600-1651006800@poblenouurbandistrict.com
SUMMARY:[:ca]Exposició: Vestit floral[:es]Exposición: Vestido floral[:en]Exhibition: Floral dress[:]
DESCRIPTION:Un vestit de cua elaborat amb flors donarà la benvinguda a l’entrada del Disseny Hub\, una mostra instal·lada fins al 15 de maig.
URL:https://poblenouurbandistrict.com/ca/agenda/exposicio-vestit-floral/2022-04-26/
LOCATION:Disseny Hub\, Pl. de les Glòries Catalanes 37\, Barcelona\, Catalunya\, 08018\, España
CATEGORIES:Art,Exposició
ATTACH;FMTTYPE=image/jpeg:https://media.poblenouurbandistrict.com/2022/04/25050752/screenshot-2022-04-27-at-183838.jpg
ORGANIZER;CN="Disseny Hub":MAILTO:dissenyhub@bcn.cat
END:VEVENT
BEGIN:VEVENT
DTSTART;TZID=Europe/Madrid:20220426T180000
DTEND;TZID=Europe/Madrid:20220426T210000
DTSTAMP:20260420T183851
CREATED:20220421T155139Z
LAST-MODIFIED:20220421T155139Z
UID:10003165-1650996000-1651006800@poblenouurbandistrict.com
SUMMARY:[:ca]Exposició: "De la Desfragmentació a la Unificació"[:es]Exposición: "De la Desfragmentación a la Unificación"[:en]Exposition: "From Defragmentation to Unification"[:]
DESCRIPTION:El 22 d’abril en l’encantadora galeria de Chez Xefo en Poble Nou\, Magda Ćwik presentarà al públic una sèrie d’obres anomenades “De la Defragmentación a la Unificació”\, una exposició que vol portar a l’espectador a una experiència significativa en la qual l’artista compartirà algunes de les seves “eines catàrtiques” que li van ser revelades en les seves últimes meditacions i recerques científiques. Disponible fins al 8 de maig.
URL:https://poblenouurbandistrict.com/ca/agenda/exposicio-de-la-desfragmentacio-a-la-unificacio/2022-04-26/
LOCATION:Chez Xefo\, Carrer de Badajoz\, 46\, Barcelona\, 08005
CATEGORIES:Art,Exposició
ATTACH;FMTTYPE=image/jpeg:https://media.poblenouurbandistrict.com/2022/04/25050507/chez-xefo-square.jpg
END:VEVENT
BEGIN:VEVENT
DTSTART;TZID=Europe/Madrid:20220427T090000
DTEND;TZID=Europe/Madrid:20220427T210000
DTSTAMP:20260420T183851
CREATED:20220422T103838Z
LAST-MODIFIED:20220422T103838Z
UID:10003192-1651050000-1651093200@poblenouurbandistrict.com
SUMMARY:[:ca]Exposició: Mirades Extraterrestres[:es]Exposición Miradas Extraterrestres[:en]Exhibition: Extraterrestrial Views[:]
DESCRIPTION:El Departament d’Art de BAU i la llibreria La Insòlita proposen una exposició sobre la fusió del món artificial\, natural i dinàmic per a la creació de noves criatures. Una mostra de com l’alumnat ha avaluat i reflexionat sobre el món que ens envolta al mateix temps que ha explorat diferents llenguatges gràfics.
URL:https://poblenouurbandistrict.com/ca/agenda/exposicio-mirades-extraterrestres/2022-04-27/
LOCATION:BAU\, Carrer de Pujades\, 118\, Barcelona\, Barcelona\, 08005\, Espanya
CATEGORIES:Art,Exposició
ATTACH;FMTTYPE=image/jpeg:https://media.poblenouurbandistrict.com/2022/04/25050525/screenshot-2022-04-22-at-123740.jpg
END:VEVENT
BEGIN:VEVENT
DTSTART;TZID=Europe/Madrid:20220427T090000
DTEND;TZID=Europe/Madrid:20220427T210000
DTSTAMP:20260420T183851
CREATED:20220427T163938Z
LAST-MODIFIED:20220427T163938Z
UID:10003243-1651050000-1651093200@poblenouurbandistrict.com
SUMMARY:[:ca]Exposició: Vestit floral[:es]Exposición: Vestido floral[:en]Exhibition: Floral dress[:]
DESCRIPTION:Un vestit de cua elaborat amb flors donarà la benvinguda a l’entrada del Disseny Hub\, una mostra instal·lada fins al 15 de maig.
URL:https://poblenouurbandistrict.com/ca/agenda/exposicio-vestit-floral/2022-04-27/
LOCATION:Disseny Hub\, Pl. de les Glòries Catalanes 37\, Barcelona\, Catalunya\, 08018\, España
CATEGORIES:Art,Exposició
ATTACH;FMTTYPE=image/jpeg:https://media.poblenouurbandistrict.com/2022/04/25050752/screenshot-2022-04-27-at-183838.jpg
ORGANIZER;CN="Disseny Hub":MAILTO:dissenyhub@bcn.cat
END:VEVENT
BEGIN:VEVENT
DTSTART;TZID=Europe/Madrid:20220427T180000
DTEND;TZID=Europe/Madrid:20220427T210000
DTSTAMP:20260420T183851
CREATED:20220421T155139Z
LAST-MODIFIED:20220421T155139Z
UID:10003166-1651082400-1651093200@poblenouurbandistrict.com
SUMMARY:[:ca]Exposició: "De la Desfragmentació a la Unificació"[:es]Exposición: "De la Desfragmentación a la Unificación"[:en]Exposition: "From Defragmentation to Unification"[:]
DESCRIPTION:El 22 d’abril en l’encantadora galeria de Chez Xefo en Poble Nou\, Magda Ćwik presentarà al públic una sèrie d’obres anomenades “De la Defragmentación a la Unificació”\, una exposició que vol portar a l’espectador a una experiència significativa en la qual l’artista compartirà algunes de les seves “eines catàrtiques” que li van ser revelades en les seves últimes meditacions i recerques científiques. Disponible fins al 8 de maig.
URL:https://poblenouurbandistrict.com/ca/agenda/exposicio-de-la-desfragmentacio-a-la-unificacio/2022-04-27/
LOCATION:Chez Xefo\, Carrer de Badajoz\, 46\, Barcelona\, 08005
CATEGORIES:Art,Exposició
ATTACH;FMTTYPE=image/jpeg:https://media.poblenouurbandistrict.com/2022/04/25050507/chez-xefo-square.jpg
END:VEVENT
BEGIN:VEVENT
DTSTART;TZID=Europe/Madrid:20220428T090000
DTEND;TZID=Europe/Madrid:20220428T210000
DTSTAMP:20260420T183851
CREATED:20220422T103838Z
LAST-MODIFIED:20220422T103838Z
UID:10003193-1651136400-1651179600@poblenouurbandistrict.com
SUMMARY:[:ca]Exposició: Mirades Extraterrestres[:es]Exposición Miradas Extraterrestres[:en]Exhibition: Extraterrestrial Views[:]
DESCRIPTION:El Departament d’Art de BAU i la llibreria La Insòlita proposen una exposició sobre la fusió del món artificial\, natural i dinàmic per a la creació de noves criatures. Una mostra de com l’alumnat ha avaluat i reflexionat sobre el món que ens envolta al mateix temps que ha explorat diferents llenguatges gràfics.
URL:https://poblenouurbandistrict.com/ca/agenda/exposicio-mirades-extraterrestres/2022-04-28/
LOCATION:BAU\, Carrer de Pujades\, 118\, Barcelona\, Barcelona\, 08005\, Espanya
CATEGORIES:Art,Exposició
ATTACH;FMTTYPE=image/jpeg:https://media.poblenouurbandistrict.com/2022/04/25050525/screenshot-2022-04-22-at-123740.jpg
END:VEVENT
BEGIN:VEVENT
DTSTART;TZID=Europe/Madrid:20220428T090000
DTEND;TZID=Europe/Madrid:20220428T210000
DTSTAMP:20260420T183851
CREATED:20220427T163938Z
LAST-MODIFIED:20220427T163938Z
UID:10003244-1651136400-1651179600@poblenouurbandistrict.com
SUMMARY:[:ca]Exposició: Vestit floral[:es]Exposición: Vestido floral[:en]Exhibition: Floral dress[:]
DESCRIPTION:Un vestit de cua elaborat amb flors donarà la benvinguda a l’entrada del Disseny Hub\, una mostra instal·lada fins al 15 de maig.
URL:https://poblenouurbandistrict.com/ca/agenda/exposicio-vestit-floral/2022-04-28/
LOCATION:Disseny Hub\, Pl. de les Glòries Catalanes 37\, Barcelona\, Catalunya\, 08018\, España
CATEGORIES:Art,Exposició
ATTACH;FMTTYPE=image/jpeg:https://media.poblenouurbandistrict.com/2022/04/25050752/screenshot-2022-04-27-at-183838.jpg
ORGANIZER;CN="Disseny Hub":MAILTO:dissenyhub@bcn.cat
END:VEVENT
BEGIN:VEVENT
DTSTART;TZID=Europe/Madrid:20220428T180000
DTEND;TZID=Europe/Madrid:20220428T210000
DTSTAMP:20260420T183851
CREATED:20220421T155139Z
LAST-MODIFIED:20220421T155139Z
UID:10003167-1651168800-1651179600@poblenouurbandistrict.com
SUMMARY:[:ca]Exposició: "De la Desfragmentació a la Unificació"[:es]Exposición: "De la Desfragmentación a la Unificación"[:en]Exposition: "From Defragmentation to Unification"[:]
DESCRIPTION:El 22 d’abril en l’encantadora galeria de Chez Xefo en Poble Nou\, Magda Ćwik presentarà al públic una sèrie d’obres anomenades “De la Defragmentación a la Unificació”\, una exposició que vol portar a l’espectador a una experiència significativa en la qual l’artista compartirà algunes de les seves “eines catàrtiques” que li van ser revelades en les seves últimes meditacions i recerques científiques. Disponible fins al 8 de maig.
URL:https://poblenouurbandistrict.com/ca/agenda/exposicio-de-la-desfragmentacio-a-la-unificacio/2022-04-28/
LOCATION:Chez Xefo\, Carrer de Badajoz\, 46\, Barcelona\, 08005
CATEGORIES:Art,Exposició
ATTACH;FMTTYPE=image/jpeg:https://media.poblenouurbandistrict.com/2022/04/25050507/chez-xefo-square.jpg
END:VEVENT
BEGIN:VEVENT
DTSTART;TZID=Europe/Madrid:20220429T090000
DTEND;TZID=Europe/Madrid:20220429T210000
DTSTAMP:20260420T183851
CREATED:20220427T163938Z
LAST-MODIFIED:20220427T163938Z
UID:10003245-1651222800-1651266000@poblenouurbandistrict.com
SUMMARY:[:ca]Exposició: Vestit floral[:es]Exposición: Vestido floral[:en]Exhibition: Floral dress[:]
DESCRIPTION:Un vestit de cua elaborat amb flors donarà la benvinguda a l’entrada del Disseny Hub\, una mostra instal·lada fins al 15 de maig.
URL:https://poblenouurbandistrict.com/ca/agenda/exposicio-vestit-floral/2022-04-29/
LOCATION:Disseny Hub\, Pl. de les Glòries Catalanes 37\, Barcelona\, Catalunya\, 08018\, España
CATEGORIES:Art,Exposició
ATTACH;FMTTYPE=image/jpeg:https://media.poblenouurbandistrict.com/2022/04/25050752/screenshot-2022-04-27-at-183838.jpg
ORGANIZER;CN="Disseny Hub":MAILTO:dissenyhub@bcn.cat
END:VEVENT
BEGIN:VEVENT
DTSTART;TZID=Europe/Madrid:20220429T180000
DTEND;TZID=Europe/Madrid:20220429T210000
DTSTAMP:20260420T183851
CREATED:20220421T155139Z
LAST-MODIFIED:20220421T155139Z
UID:10003168-1651255200-1651266000@poblenouurbandistrict.com
SUMMARY:[:ca]Exposició: "De la Desfragmentació a la Unificació"[:es]Exposición: "De la Desfragmentación a la Unificación"[:en]Exposition: "From Defragmentation to Unification"[:]
DESCRIPTION:El 22 d’abril en l’encantadora galeria de Chez Xefo en Poble Nou\, Magda Ćwik presentarà al públic una sèrie d’obres anomenades “De la Defragmentación a la Unificació”\, una exposició que vol portar a l’espectador a una experiència significativa en la qual l’artista compartirà algunes de les seves “eines catàrtiques” que li van ser revelades en les seves últimes meditacions i recerques científiques. Disponible fins al 8 de maig.
URL:https://poblenouurbandistrict.com/ca/agenda/exposicio-de-la-desfragmentacio-a-la-unificacio/2022-04-29/
LOCATION:Chez Xefo\, Carrer de Badajoz\, 46\, Barcelona\, 08005
CATEGORIES:Art,Exposició
ATTACH;FMTTYPE=image/jpeg:https://media.poblenouurbandistrict.com/2022/04/25050507/chez-xefo-square.jpg
END:VEVENT
BEGIN:VEVENT
DTSTART;VALUE=DATE:20220430
DTEND;VALUE=DATE:20220501
DTSTAMP:20260420T183851
CREATED:20220427T153717Z
LAST-MODIFIED:20220524T132814Z
UID:10003223-1651276800-1651363199@poblenouurbandistrict.com
SUMMARY:[:ca]Portes obertes BAU[:es]Puertas abiertas BAU[:en]Open Day BAU[:]
DESCRIPTION:BAU celebrarà el dissabte 30 d’abril la tercera jornada de portes obertes del 2022 per a totes les persones interessades a conèixer el centre i els programes de formació contínua de BAU: \n\nMàster Universitari en Disseny\nMàsters i Postgraus (títols propis)\nCursos d’Especialització en línia (BAU/RMIT)\nUniversitat d’Estiu
URL:https://poblenouurbandistrict.com/ca/agenda/portes-obertes-bau/
LOCATION:BAU\, Carrer de Pujades\, 118\, Barcelona\, Barcelona\, 08005\, Espanya
CATEGORIES:Art,Curs,Taller,Xerrada
ATTACH;FMTTYPE=image/jpeg:https://media.poblenouurbandistrict.com/2022/02/25044618/escola-bau-2022-02-scaled.jpg
END:VEVENT
BEGIN:VEVENT
DTSTART;TZID=Europe/Madrid:20220430T090000
DTEND;TZID=Europe/Madrid:20220430T210000
DTSTAMP:20260420T183851
CREATED:20220427T163938Z
LAST-MODIFIED:20220427T163938Z
UID:10003246-1651309200-1651352400@poblenouurbandistrict.com
SUMMARY:[:ca]Exposició: Vestit floral[:es]Exposición: Vestido floral[:en]Exhibition: Floral dress[:]
DESCRIPTION:Un vestit de cua elaborat amb flors donarà la benvinguda a l’entrada del Disseny Hub\, una mostra instal·lada fins al 15 de maig.
URL:https://poblenouurbandistrict.com/ca/agenda/exposicio-vestit-floral/2022-04-30/
LOCATION:Disseny Hub\, Pl. de les Glòries Catalanes 37\, Barcelona\, Catalunya\, 08018\, España
CATEGORIES:Art,Exposició
ATTACH;FMTTYPE=image/jpeg:https://media.poblenouurbandistrict.com/2022/04/25050752/screenshot-2022-04-27-at-183838.jpg
ORGANIZER;CN="Disseny Hub":MAILTO:dissenyhub@bcn.cat
END:VEVENT
END:VCALENDAR