BEGIN:VCALENDAR
VERSION:2.0
PRODID:-//Poblenou Urban District - ECPv6.15.20//NONSGML v1.0//EN
CALSCALE:GREGORIAN
METHOD:PUBLISH
X-ORIGINAL-URL:https://poblenouurbandistrict.com/ca
X-WR-CALDESC:Esdeveniments per Poblenou Urban District
REFRESH-INTERVAL;VALUE=DURATION:PT1H
X-Robots-Tag:noindex
X-PUBLISHED-TTL:PT1H
BEGIN:VTIMEZONE
TZID:Europe/Madrid
BEGIN:DAYLIGHT
TZOFFSETFROM:+0100
TZOFFSETTO:+0200
TZNAME:CEST
DTSTART:20210328T010000
END:DAYLIGHT
BEGIN:STANDARD
TZOFFSETFROM:+0200
TZOFFSETTO:+0100
TZNAME:CET
DTSTART:20211031T010000
END:STANDARD
BEGIN:DAYLIGHT
TZOFFSETFROM:+0100
TZOFFSETTO:+0200
TZNAME:CEST
DTSTART:20220327T010000
END:DAYLIGHT
BEGIN:STANDARD
TZOFFSETFROM:+0200
TZOFFSETTO:+0100
TZNAME:CET
DTSTART:20221030T010000
END:STANDARD
BEGIN:DAYLIGHT
TZOFFSETFROM:+0100
TZOFFSETTO:+0200
TZNAME:CEST
DTSTART:20230326T010000
END:DAYLIGHT
BEGIN:STANDARD
TZOFFSETFROM:+0200
TZOFFSETTO:+0100
TZNAME:CET
DTSTART:20231029T010000
END:STANDARD
END:VTIMEZONE
BEGIN:VEVENT
DTSTART;TZID=Europe/Madrid:20220927T100000
DTEND;TZID=Europe/Madrid:20221001T190000
DTSTAMP:20260420T093431
CREATED:20220912T150431Z
LAST-MODIFIED:20220912T150525Z
UID:10003985-1664272800-1664650800@poblenouurbandistrict.com
SUMMARY:[:ca]Exposició: Somni atemporal[:es]Exposición: Somni atemporal[:en]Exhibition: Timeless dream[:]
DESCRIPTION:JOAN ILL \nSomni atemporal\n15.09 >> 11.11.2022\nINAUGURACIÓ DIJOUS 15 DE SETEMBRE\n19h a 21:30h a L&B Gallery \nDIJOUS 15\nVideo-instal.lació site-specific de Joan Ill Somni\na bord de l’embarcació Niña Luisita en el Real Club Nàutic de Barcelona\n1r torn 21:30h a 22:30h\n2n torn 22:30h a 23:30h\nNomés amb reserva via galeria@ibcontemporaryart.com (COMPLET) \nDIVENDRES 16\nAperitiu amb l’artista\n13h a L&B Gallery \nDISSABTE 17\nAperitiu amb l’artista\n12h a L&B Gallery
URL:https://poblenouurbandistrict.com/ca/agenda/exposicio-somni-atemporal-2022-09-20/2022-09-27/
LOCATION:L&B Gallery\, Àlaba 58\, Barcelona\, Barcelona\, 08005\, Espanya
CATEGORIES:Art,Exposició
ATTACH;FMTTYPE=image/jpeg:https://media.poblenouurbandistrict.com/2022/09/25054055/capture-decran-2022-09-12-a-170026.jpg
ORGANIZER;CN="L&B Gallery":MAILTO:galeria@lbcontemporaryart.com
END:VEVENT
BEGIN:VEVENT
DTSTART;TZID=Europe/Madrid:20221004T100000
DTEND;TZID=Europe/Madrid:20221008T190000
DTSTAMP:20260420T093431
CREATED:20220912T150431Z
LAST-MODIFIED:20220912T150525Z
UID:10003986-1664877600-1665255600@poblenouurbandistrict.com
SUMMARY:[:ca]Exposició: Somni atemporal[:es]Exposición: Somni atemporal[:en]Exhibition: Timeless dream[:]
DESCRIPTION:JOAN ILL \nSomni atemporal\n15.09 >> 11.11.2022\nINAUGURACIÓ DIJOUS 15 DE SETEMBRE\n19h a 21:30h a L&B Gallery \nDIJOUS 15\nVideo-instal.lació site-specific de Joan Ill Somni\na bord de l’embarcació Niña Luisita en el Real Club Nàutic de Barcelona\n1r torn 21:30h a 22:30h\n2n torn 22:30h a 23:30h\nNomés amb reserva via galeria@ibcontemporaryart.com (COMPLET) \nDIVENDRES 16\nAperitiu amb l’artista\n13h a L&B Gallery \nDISSABTE 17\nAperitiu amb l’artista\n12h a L&B Gallery
URL:https://poblenouurbandistrict.com/ca/agenda/exposicio-somni-atemporal-2022-09-20/2022-10-04/
LOCATION:L&B Gallery\, Àlaba 58\, Barcelona\, Barcelona\, 08005\, Espanya
CATEGORIES:Art,Exposició
ATTACH;FMTTYPE=image/jpeg:https://media.poblenouurbandistrict.com/2022/09/25054055/capture-decran-2022-09-12-a-170026.jpg
ORGANIZER;CN="L&B Gallery":MAILTO:galeria@lbcontemporaryart.com
END:VEVENT
BEGIN:VEVENT
DTSTART;TZID=Europe/Madrid:20221004T110000
DTEND;TZID=Europe/Madrid:20221009T180000
DTSTAMP:20260420T093431
CREATED:20220616T104557Z
LAST-MODIFIED:20220912T142409Z
UID:10003835-1664881200-1665338400@poblenouurbandistrict.com
SUMMARY:[:ca]Exposició: Eugènia Balcells - Ella\, una i altra vegada[:es]Exposición: Eugènia Balcells - Ella\, una y otra vez[:en]Exhibition: Eugènia Balcells - Ella\, una i altra vegada[:]
DESCRIPTION:Al llarg de l’exposició\, els arquetips femenins –tot incloent-se i excloent-se mútuament– van dibuixant un vocabulari propi des del qual repensar les relacions humanes en què avui ens movem. \nDisponible fins al 22 de gener del 2023.
URL:https://poblenouurbandistrict.com/ca/agenda/exposicio-eugenia-balcells-ella-una-i-altra-vegada/2022-10-04/
LOCATION:Museu Can Framis\, carrer de Roc Boronat\, 116\, 126\, Barcelona\, Barcelona\, 08018\, Espanya
CATEGORIES:Art,Exposició
ATTACH;FMTTYPE=image/jpeg:https://media.poblenouurbandistrict.com/2022/06/25053058/screenshot-2022-06-16-at-124529.jpg
END:VEVENT
BEGIN:VEVENT
DTSTART;TZID=Europe/Madrid:20221007T190000
DTEND;TZID=Europe/Madrid:20221007T203000
DTSTAMP:20260420T093431
CREATED:20221004T141005Z
LAST-MODIFIED:20221004T141152Z
UID:10004022-1665169200-1665174600@poblenouurbandistrict.com
SUMMARY:[:ca]Inauguració de l'exposició Block de Sasha Sime[:es]Inauguración de la exposición Block de Sasha Sime[:en]Opening of the exhibition Block by Sasha Sime[:]
DESCRIPTION:La galeria La Plataforma inaugura aquest divendres 7 d’octubre l’exposició Block\, de l’artista Sasha Sime. Una nova exposició que forma part del circuit de galeries\, museus i showrooms AR-DE per als propers 14\, 15 i 16 d’octubre. \nL’exposició es pot visitar fins al 07/11/2022 \n“Els primers blocks van aparèixer el 2018 com a contrast a un conjunt d’obres expressionistes abstractes que estava creant. Hi havia tres llenços en blanc\, esperant ser pintats\, però en lloc de petits detalls\, rascades i flux\, decidí tallar la superfície del llenç en parts enormes i massives: blocs. Per a mi\, els blocks són l’expressió visual de l’enfocament. Elegí un material bàsic: la tinta\, i la deixo fluir – despacio\, traç per traç\, empesa pel meu moviment receptiu. Enfocament\, repetició i gravetat – tres components dels blocks d’aquesta exposició. També va ser la meva primera experiència amb la ceràmica – un fang espès\, aplanat i picat. Prenc una base dels meus dibuixos a tinta\, i després jugo amb la profunditat i el material mateix\, investigant les seves propietats físiques.” – Sasha Sime
URL:https://poblenouurbandistrict.com/ca/agenda/inauguracio-de-lexposicio-block-de-sasha-sime/
LOCATION:La Plataforma\, Pujades 99\, bxs.\, Barcelona\, Catalunya\, España
CATEGORIES:Art
ATTACH;FMTTYPE=image/jpeg:https://media.poblenouurbandistrict.com/2022/09/25054438/la-plataforma-1500x1000-1.jpg
ORGANIZER;CN="La Plataforma":MAILTO:bcnplataforma@gmail.com
END:VEVENT
BEGIN:VEVENT
DTSTART;TZID=Europe/Madrid:20221008T110000
DTEND;TZID=Europe/Madrid:20221008T200000
DTSTAMP:20260420T093431
CREATED:20221005T145532Z
LAST-MODIFIED:20221006T124652Z
UID:10004028-1665226800-1665259200@poblenouurbandistrict.com
SUMMARY:[:ca]Inauguració: 3r aniversari de Unusual Concept Store[:es]inauguración: 3r aniversario de Unusual Concept Store[:]
DESCRIPTION:Per celebrar el 3r Aniversari\, Unusual Store Barcelona ens conviden aquest dissabte\, 8 d’octubre\, a brindar amb ells mentre descobrim totes les novetats de tardor-hivern.\nNo us ho perdies\, hi haurà música\, cocktails\, artistes convidats i mooooolt brillantor ✨✨✨\n📍Ramón Turró\, 147 \n 
URL:https://poblenouurbandistrict.com/ca/agenda/inauguracio-3r-aniversari-de-unusual-concept-store/
LOCATION:Unusual\, Ramón Turró\, 147\, Barcelona\, Barcelona\, 08005\, Espanya
CATEGORIES:Art,Diseño
ATTACH;FMTTYPE=image/png:https://poblenouurbandistrict.com/wp-content/uploads/2022/10/diseno-sin-titulo-2-1.jpg
ORGANIZER;CN="Unusual":MAILTO:info@unusualconcept.store
END:VEVENT
BEGIN:VEVENT
DTSTART;TZID=Europe/Madrid:20221011T100000
DTEND;TZID=Europe/Madrid:20221015T190000
DTSTAMP:20260420T093431
CREATED:20220912T150431Z
LAST-MODIFIED:20220912T150525Z
UID:10003987-1665482400-1665860400@poblenouurbandistrict.com
SUMMARY:[:ca]Exposició: Somni atemporal[:es]Exposición: Somni atemporal[:en]Exhibition: Timeless dream[:]
DESCRIPTION:JOAN ILL \nSomni atemporal\n15.09 >> 11.11.2022\nINAUGURACIÓ DIJOUS 15 DE SETEMBRE\n19h a 21:30h a L&B Gallery \nDIJOUS 15\nVideo-instal.lació site-specific de Joan Ill Somni\na bord de l’embarcació Niña Luisita en el Real Club Nàutic de Barcelona\n1r torn 21:30h a 22:30h\n2n torn 22:30h a 23:30h\nNomés amb reserva via galeria@ibcontemporaryart.com (COMPLET) \nDIVENDRES 16\nAperitiu amb l’artista\n13h a L&B Gallery \nDISSABTE 17\nAperitiu amb l’artista\n12h a L&B Gallery
URL:https://poblenouurbandistrict.com/ca/agenda/exposicio-somni-atemporal-2022-09-20/2022-10-11/
LOCATION:L&B Gallery\, Àlaba 58\, Barcelona\, Barcelona\, 08005\, Espanya
CATEGORIES:Art,Exposició
ATTACH;FMTTYPE=image/jpeg:https://media.poblenouurbandistrict.com/2022/09/25054055/capture-decran-2022-09-12-a-170026.jpg
ORGANIZER;CN="L&B Gallery":MAILTO:galeria@lbcontemporaryart.com
END:VEVENT
BEGIN:VEVENT
DTSTART;TZID=Europe/Madrid:20221011T110000
DTEND;TZID=Europe/Madrid:20221016T180000
DTSTAMP:20260420T093431
CREATED:20220616T104557Z
LAST-MODIFIED:20220912T142409Z
UID:10003836-1665486000-1665943200@poblenouurbandistrict.com
SUMMARY:[:ca]Exposició: Eugènia Balcells - Ella\, una i altra vegada[:es]Exposición: Eugènia Balcells - Ella\, una y otra vez[:en]Exhibition: Eugènia Balcells - Ella\, una i altra vegada[:]
DESCRIPTION:Al llarg de l’exposició\, els arquetips femenins –tot incloent-se i excloent-se mútuament– van dibuixant un vocabulari propi des del qual repensar les relacions humanes en què avui ens movem. \nDisponible fins al 22 de gener del 2023.
URL:https://poblenouurbandistrict.com/ca/agenda/exposicio-eugenia-balcells-ella-una-i-altra-vegada/2022-10-11/
LOCATION:Museu Can Framis\, carrer de Roc Boronat\, 116\, 126\, Barcelona\, Barcelona\, 08018\, Espanya
CATEGORIES:Art,Exposició
ATTACH;FMTTYPE=image/jpeg:https://media.poblenouurbandistrict.com/2022/06/25053058/screenshot-2022-06-16-at-124529.jpg
END:VEVENT
BEGIN:VEVENT
DTSTART;TZID=Europe/Madrid:20221013T190000
DTEND;TZID=Europe/Madrid:20221013T210000
DTSTAMP:20260420T093431
CREATED:20221011T114940Z
LAST-MODIFIED:20221013T121052Z
UID:10004029-1665687600-1665694800@poblenouurbandistrict.com
SUMMARY:[:ca]Exposició: Inauguració Naturaleza Brutal (y Brutalizada)[:es]Exposición: Inauguración Naturaleza Brutal (y Brutalizada)[:]
DESCRIPTION:Aquest dijous 13 d’octubre MANUEL PIJOAN inaugura una exposició estupenda i sorprenent\, on s’il·lustren una sèrie d’aspectes del món natural com aspectes brutals de la natura i la brutalitat que nosaltres hi exercim. \n📍 Galeria CHEZ XEFO\n🗓 dijous 13/10\n🕣 19hs \nL´exhibició es podrà visitar fins al 4/11 de dilluns a divendres de 17 a 21hs. \nTambé estarà oberta el dissabte 15/10 de 17 a 21hs en el marc del cicle AR-DE
URL:https://poblenouurbandistrict.com/ca/agenda/exposicio-inauguracio-naturaleza-brutal-y-brutalizada/
LOCATION:Chez Xefo\, Carrer de Badajoz\, 46\, Barcelona\, 08005
CATEGORIES:Art,Exposició
ATTACH;FMTTYPE=image/jpeg:https://media.poblenouurbandistrict.com/2022/10/25054539/310979497-630165688845407-6782883594176769541-n.jpg
END:VEVENT
BEGIN:VEVENT
DTSTART;VALUE=DATE:20221014
DTEND;VALUE=DATE:20221017
DTSTAMP:20260420T093431
CREATED:20220912T153135Z
LAST-MODIFIED:20220912T153135Z
UID:10003995-1665705600-1665964799@poblenouurbandistrict.com
SUMMARY:AR-DE
DESCRIPTION:Els dies 14\,15 i 16 d’octubre prepara’t per recórrer els carrers del Districte Creatiu amb AR-DE\, el circuit de l’art i el disseny on trobaràs un conjunt de les millors galeries d’art\, showrooms i museus del Districte Creatiu que programen exposicions úniques per a que t’acostis a gaudir de la seva excel·lent programació. Una bona oportunitat per conèixer artistes emergents i consagrats i dissenyadors nacionals i internacionals.
URL:https://poblenouurbandistrict.com/ca/agenda/ar-de-2/
LOCATION:Poblenou Urban District\, Pujades 99\, bxs.\, Barcelona\, Catalunya\, España
CATEGORIES:Art,Diseño,Exposició
ATTACH;FMTTYPE=image/jpeg:https://media.poblenouurbandistrict.com/2022/09/25054206/capture-decran-2022-09-12-a-173014.jpg
ORGANIZER;CN="Poblenou Urban District":MAILTO:info@poblenouurbandistrict.com
END:VEVENT
BEGIN:VEVENT
DTSTART;TZID=Europe/Madrid:20221018T100000
DTEND;TZID=Europe/Madrid:20221022T190000
DTSTAMP:20260420T093431
CREATED:20220912T150431Z
LAST-MODIFIED:20220912T150525Z
UID:10003988-1666087200-1666465200@poblenouurbandistrict.com
SUMMARY:[:ca]Exposició: Somni atemporal[:es]Exposición: Somni atemporal[:en]Exhibition: Timeless dream[:]
DESCRIPTION:JOAN ILL \nSomni atemporal\n15.09 >> 11.11.2022\nINAUGURACIÓ DIJOUS 15 DE SETEMBRE\n19h a 21:30h a L&B Gallery \nDIJOUS 15\nVideo-instal.lació site-specific de Joan Ill Somni\na bord de l’embarcació Niña Luisita en el Real Club Nàutic de Barcelona\n1r torn 21:30h a 22:30h\n2n torn 22:30h a 23:30h\nNomés amb reserva via galeria@ibcontemporaryart.com (COMPLET) \nDIVENDRES 16\nAperitiu amb l’artista\n13h a L&B Gallery \nDISSABTE 17\nAperitiu amb l’artista\n12h a L&B Gallery
URL:https://poblenouurbandistrict.com/ca/agenda/exposicio-somni-atemporal-2022-09-20/2022-10-18/
LOCATION:L&B Gallery\, Àlaba 58\, Barcelona\, Barcelona\, 08005\, Espanya
CATEGORIES:Art,Exposició
ATTACH;FMTTYPE=image/jpeg:https://media.poblenouurbandistrict.com/2022/09/25054055/capture-decran-2022-09-12-a-170026.jpg
ORGANIZER;CN="L&B Gallery":MAILTO:galeria@lbcontemporaryart.com
END:VEVENT
BEGIN:VEVENT
DTSTART;TZID=Europe/Madrid:20221018T110000
DTEND;TZID=Europe/Madrid:20221023T180000
DTSTAMP:20260420T093431
CREATED:20220616T104557Z
LAST-MODIFIED:20220912T142409Z
UID:10003837-1666090800-1666548000@poblenouurbandistrict.com
SUMMARY:[:ca]Exposició: Eugènia Balcells - Ella\, una i altra vegada[:es]Exposición: Eugènia Balcells - Ella\, una y otra vez[:en]Exhibition: Eugènia Balcells - Ella\, una i altra vegada[:]
DESCRIPTION:Al llarg de l’exposició\, els arquetips femenins –tot incloent-se i excloent-se mútuament– van dibuixant un vocabulari propi des del qual repensar les relacions humanes en què avui ens movem. \nDisponible fins al 22 de gener del 2023.
URL:https://poblenouurbandistrict.com/ca/agenda/exposicio-eugenia-balcells-ella-una-i-altra-vegada/2022-10-18/
LOCATION:Museu Can Framis\, carrer de Roc Boronat\, 116\, 126\, Barcelona\, Barcelona\, 08018\, Espanya
CATEGORIES:Art,Exposició
ATTACH;FMTTYPE=image/jpeg:https://media.poblenouurbandistrict.com/2022/06/25053058/screenshot-2022-06-16-at-124529.jpg
END:VEVENT
BEGIN:VEVENT
DTSTART;TZID=Europe/Madrid:20221025T100000
DTEND;TZID=Europe/Madrid:20221029T190000
DTSTAMP:20260420T093431
CREATED:20220912T150431Z
LAST-MODIFIED:20220912T150525Z
UID:10003989-1666692000-1667070000@poblenouurbandistrict.com
SUMMARY:[:ca]Exposició: Somni atemporal[:es]Exposición: Somni atemporal[:en]Exhibition: Timeless dream[:]
DESCRIPTION:JOAN ILL \nSomni atemporal\n15.09 >> 11.11.2022\nINAUGURACIÓ DIJOUS 15 DE SETEMBRE\n19h a 21:30h a L&B Gallery \nDIJOUS 15\nVideo-instal.lació site-specific de Joan Ill Somni\na bord de l’embarcació Niña Luisita en el Real Club Nàutic de Barcelona\n1r torn 21:30h a 22:30h\n2n torn 22:30h a 23:30h\nNomés amb reserva via galeria@ibcontemporaryart.com (COMPLET) \nDIVENDRES 16\nAperitiu amb l’artista\n13h a L&B Gallery \nDISSABTE 17\nAperitiu amb l’artista\n12h a L&B Gallery
URL:https://poblenouurbandistrict.com/ca/agenda/exposicio-somni-atemporal-2022-09-20/2022-10-25/
LOCATION:L&B Gallery\, Àlaba 58\, Barcelona\, Barcelona\, 08005\, Espanya
CATEGORIES:Art,Exposició
ATTACH;FMTTYPE=image/jpeg:https://media.poblenouurbandistrict.com/2022/09/25054055/capture-decran-2022-09-12-a-170026.jpg
ORGANIZER;CN="L&B Gallery":MAILTO:galeria@lbcontemporaryart.com
END:VEVENT
BEGIN:VEVENT
DTSTART;TZID=Europe/Madrid:20221025T110000
DTEND;TZID=Europe/Madrid:20221030T170000
DTSTAMP:20260420T093431
CREATED:20220616T104557Z
LAST-MODIFIED:20220912T142409Z
UID:10003838-1666695600-1667149200@poblenouurbandistrict.com
SUMMARY:[:ca]Exposició: Eugènia Balcells - Ella\, una i altra vegada[:es]Exposición: Eugènia Balcells - Ella\, una y otra vez[:en]Exhibition: Eugènia Balcells - Ella\, una i altra vegada[:]
DESCRIPTION:Al llarg de l’exposició\, els arquetips femenins –tot incloent-se i excloent-se mútuament– van dibuixant un vocabulari propi des del qual repensar les relacions humanes en què avui ens movem. \nDisponible fins al 22 de gener del 2023.
URL:https://poblenouurbandistrict.com/ca/agenda/exposicio-eugenia-balcells-ella-una-i-altra-vegada/2022-10-25/
LOCATION:Museu Can Framis\, carrer de Roc Boronat\, 116\, 126\, Barcelona\, Barcelona\, 08018\, Espanya
CATEGORIES:Art,Exposició
ATTACH;FMTTYPE=image/jpeg:https://media.poblenouurbandistrict.com/2022/06/25053058/screenshot-2022-06-16-at-124529.jpg
END:VEVENT
END:VCALENDAR