BEGIN:VCALENDAR
VERSION:2.0
PRODID:-//Poblenou Urban District - ECPv6.15.20//NONSGML v1.0//EN
CALSCALE:GREGORIAN
METHOD:PUBLISH
X-WR-CALNAME:Poblenou Urban District
X-ORIGINAL-URL:https://poblenouurbandistrict.com/ca
X-WR-CALDESC:Esdeveniments per Poblenou Urban District
REFRESH-INTERVAL;VALUE=DURATION:PT1H
X-Robots-Tag:noindex
X-PUBLISHED-TTL:PT1H
BEGIN:VTIMEZONE
TZID:Europe/Madrid
BEGIN:DAYLIGHT
TZOFFSETFROM:+0100
TZOFFSETTO:+0200
TZNAME:CEST
DTSTART:20210328T010000
END:DAYLIGHT
BEGIN:STANDARD
TZOFFSETFROM:+0200
TZOFFSETTO:+0100
TZNAME:CET
DTSTART:20211031T010000
END:STANDARD
BEGIN:DAYLIGHT
TZOFFSETFROM:+0100
TZOFFSETTO:+0200
TZNAME:CEST
DTSTART:20220327T010000
END:DAYLIGHT
BEGIN:STANDARD
TZOFFSETFROM:+0200
TZOFFSETTO:+0100
TZNAME:CET
DTSTART:20221030T010000
END:STANDARD
BEGIN:DAYLIGHT
TZOFFSETFROM:+0100
TZOFFSETTO:+0200
TZNAME:CEST
DTSTART:20230326T010000
END:DAYLIGHT
BEGIN:STANDARD
TZOFFSETFROM:+0200
TZOFFSETTO:+0100
TZNAME:CET
DTSTART:20231029T010000
END:STANDARD
END:VTIMEZONE
BEGIN:VEVENT
DTSTART;TZID=Europe/Madrid:20221101T100000
DTEND;TZID=Europe/Madrid:20221105T190000
DTSTAMP:20260420T060718
CREATED:20220912T150431Z
LAST-MODIFIED:20220912T150525Z
UID:10003990-1667296800-1667674800@poblenouurbandistrict.com
SUMMARY:[:ca]Exposició: Somni atemporal[:es]Exposición: Somni atemporal[:en]Exhibition: Timeless dream[:]
DESCRIPTION:JOAN ILL \nSomni atemporal\n15.09 >> 11.11.2022\nINAUGURACIÓ DIJOUS 15 DE SETEMBRE\n19h a 21:30h a L&B Gallery \nDIJOUS 15\nVideo-instal.lació site-specific de Joan Ill Somni\na bord de l’embarcació Niña Luisita en el Real Club Nàutic de Barcelona\n1r torn 21:30h a 22:30h\n2n torn 22:30h a 23:30h\nNomés amb reserva via galeria@ibcontemporaryart.com (COMPLET) \nDIVENDRES 16\nAperitiu amb l’artista\n13h a L&B Gallery \nDISSABTE 17\nAperitiu amb l’artista\n12h a L&B Gallery
URL:https://poblenouurbandistrict.com/ca/agenda/exposicio-somni-atemporal-2022-09-20/2022-11-01/
LOCATION:L&B Gallery\, Àlaba 58\, Barcelona\, Barcelona\, 08005\, Espanya
CATEGORIES:Art,Exposició
ATTACH;FMTTYPE=image/jpeg:https://media.poblenouurbandistrict.com/2022/09/25054055/capture-decran-2022-09-12-a-170026.jpg
ORGANIZER;CN="L&B Gallery":MAILTO:galeria@lbcontemporaryart.com
END:VEVENT
BEGIN:VEVENT
DTSTART;TZID=Europe/Madrid:20221101T110000
DTEND;TZID=Europe/Madrid:20221106T180000
DTSTAMP:20260420T060718
CREATED:20220616T104557Z
LAST-MODIFIED:20220912T142409Z
UID:10003839-1667300400-1667757600@poblenouurbandistrict.com
SUMMARY:[:ca]Exposició: Eugènia Balcells - Ella\, una i altra vegada[:es]Exposición: Eugènia Balcells - Ella\, una y otra vez[:en]Exhibition: Eugènia Balcells - Ella\, una i altra vegada[:]
DESCRIPTION:Al llarg de l’exposició\, els arquetips femenins –tot incloent-se i excloent-se mútuament– van dibuixant un vocabulari propi des del qual repensar les relacions humanes en què avui ens movem. \nDisponible fins al 22 de gener del 2023.
URL:https://poblenouurbandistrict.com/ca/agenda/exposicio-eugenia-balcells-ella-una-i-altra-vegada/2022-11-01/
LOCATION:Museu Can Framis\, carrer de Roc Boronat\, 116\, 126\, Barcelona\, Barcelona\, 08018\, Espanya
CATEGORIES:Art,Exposició
ATTACH;FMTTYPE=image/jpeg:https://media.poblenouurbandistrict.com/2022/06/25053058/screenshot-2022-06-16-at-124529.jpg
END:VEVENT
BEGIN:VEVENT
DTSTART;VALUE=DATE:20221105
DTEND;VALUE=DATE:20221106
DTSTAMP:20260420T060718
CREATED:20220912T153529Z
LAST-MODIFIED:20221021T115127Z
UID:10003996-1667606400-1667692799@poblenouurbandistrict.com
SUMMARY:Urban Talks
DESCRIPTION:El 15 d’octubre\, celebrem les Urban Talks\, un cicle de xerrades itinerants que tenen com a objectiu obrir un debat amb la ciutadania sobre la cultura i la creativitat en relació amb l’entorn urbà. Les Urban Talks són una oportunitat única per dialogar sobre l´art\, el patrimoni\, l´economia\, la tecnologia o la sostenibilitat amb professionals que han destacat per la seva activitat en aquests camps i que ens permeten veure amb optimisme el futur de les ciutats. \n  \nDescobreix totes les Talks
URL:https://poblenouurbandistrict.com/ca/agenda/urban-talks-2/
LOCATION:Poblenou Urban District\, Pujades 99\, bxs.\, Barcelona\, Catalunya\, España
CATEGORIES:Art,Diseño,Xerrada
ATTACH;FMTTYPE=image/jpeg:https://media.poblenouurbandistrict.com/2022/10/25054626/captura-de-pantalla-2022-10-20-a-les-174252.jpg
ORGANIZER;CN="Poblenou Urban District":MAILTO:info@poblenouurbandistrict.com
END:VEVENT
BEGIN:VEVENT
DTSTART;TZID=Europe/Madrid:20221107T080000
DTEND;TZID=Europe/Madrid:20221130T170000
DTSTAMP:20260420T060718
CREATED:20221102T122338Z
LAST-MODIFIED:20221102T122415Z
UID:10004043-1667808000-1669827600@poblenouurbandistrict.com
SUMMARY:Festival: Volta
DESCRIPTION:Art urbà efímer al Disseny Hub Barcelona \nA partir del 7 de novembre el Disseny Hub Barcelona acollirà al seu exterior la producció de tres obres d’art urbà a càrrec d’Octavi Serra\, Pati Baztán i El Rughi que\, degut al seu caràcter efímer\, es podran veure només fins al 30 de novembre. \nEn el marc del projecte\, el 12 de novembre es realitzaran cinc tallers pràctics gratuïts vinculats a les arts de carrer i la creativitat urbana dirigits tant a públic familiar com professional. \nAixí mateix\, el 15 de novembre es durà a terme una visita guiada per les obres artístiques i un debat sobre «Art\, espai públic i ciutat» en el qual s’exploraran noves mirades entorn de l’aportació de l’art per a resignificar i subvertir la percepció de les ciutats\, oferir relectures sobre la memòria o la pertinença i destacar alhora tot el que succeeix als marges i les perifèries. \nImprescindible reservar plaça per a participar als tallers\, la visita guiada i el debat. \n«Volta. Ciclo de creatividad urbana»\n7—30 novembre\nDisseny Hub Barcelona
URL:https://poblenouurbandistrict.com/ca/agenda/festival-volta/
LOCATION:Disseny Hub\, Pl. de les Glòries Catalanes 37\, Barcelona\, Catalunya\, 08018\, España
CATEGORIES:Art,Exposició
ATTACH;FMTTYPE=image/jpeg:https://media.poblenouurbandistrict.com/2022/11/25054825/volta.jpg
ORGANIZER;CN="Disseny Hub":MAILTO:dissenyhub@bcn.cat
END:VEVENT
BEGIN:VEVENT
DTSTART;TZID=Europe/Madrid:20221108T100000
DTEND;TZID=Europe/Madrid:20221112T190000
DTSTAMP:20260420T060718
CREATED:20220912T150431Z
LAST-MODIFIED:20220912T150525Z
UID:10003991-1667901600-1668279600@poblenouurbandistrict.com
SUMMARY:[:ca]Exposició: Somni atemporal[:es]Exposición: Somni atemporal[:en]Exhibition: Timeless dream[:]
DESCRIPTION:JOAN ILL \nSomni atemporal\n15.09 >> 11.11.2022\nINAUGURACIÓ DIJOUS 15 DE SETEMBRE\n19h a 21:30h a L&B Gallery \nDIJOUS 15\nVideo-instal.lació site-specific de Joan Ill Somni\na bord de l’embarcació Niña Luisita en el Real Club Nàutic de Barcelona\n1r torn 21:30h a 22:30h\n2n torn 22:30h a 23:30h\nNomés amb reserva via galeria@ibcontemporaryart.com (COMPLET) \nDIVENDRES 16\nAperitiu amb l’artista\n13h a L&B Gallery \nDISSABTE 17\nAperitiu amb l’artista\n12h a L&B Gallery
URL:https://poblenouurbandistrict.com/ca/agenda/exposicio-somni-atemporal-2022-09-20/2022-11-08/
LOCATION:L&B Gallery\, Àlaba 58\, Barcelona\, Barcelona\, 08005\, Espanya
CATEGORIES:Art,Exposició
ATTACH;FMTTYPE=image/jpeg:https://media.poblenouurbandistrict.com/2022/09/25054055/capture-decran-2022-09-12-a-170026.jpg
ORGANIZER;CN="L&B Gallery":MAILTO:galeria@lbcontemporaryart.com
END:VEVENT
BEGIN:VEVENT
DTSTART;TZID=Europe/Madrid:20221108T110000
DTEND;TZID=Europe/Madrid:20221113T180000
DTSTAMP:20260420T060718
CREATED:20220616T104557Z
LAST-MODIFIED:20220912T142409Z
UID:10003840-1667905200-1668362400@poblenouurbandistrict.com
SUMMARY:[:ca]Exposició: Eugènia Balcells - Ella\, una i altra vegada[:es]Exposición: Eugènia Balcells - Ella\, una y otra vez[:en]Exhibition: Eugènia Balcells - Ella\, una i altra vegada[:]
DESCRIPTION:Al llarg de l’exposició\, els arquetips femenins –tot incloent-se i excloent-se mútuament– van dibuixant un vocabulari propi des del qual repensar les relacions humanes en què avui ens movem. \nDisponible fins al 22 de gener del 2023.
URL:https://poblenouurbandistrict.com/ca/agenda/exposicio-eugenia-balcells-ella-una-i-altra-vegada/2022-11-08/
LOCATION:Museu Can Framis\, carrer de Roc Boronat\, 116\, 126\, Barcelona\, Barcelona\, 08018\, Espanya
CATEGORIES:Art,Exposició
ATTACH;FMTTYPE=image/jpeg:https://media.poblenouurbandistrict.com/2022/06/25053058/screenshot-2022-06-16-at-124529.jpg
END:VEVENT
BEGIN:VEVENT
DTSTART;TZID=Europe/Madrid:20221115T110000
DTEND;TZID=Europe/Madrid:20221120T180000
DTSTAMP:20260420T060718
CREATED:20220616T104557Z
LAST-MODIFIED:20220912T142409Z
UID:10003841-1668510000-1668967200@poblenouurbandistrict.com
SUMMARY:[:ca]Exposició: Eugènia Balcells - Ella\, una i altra vegada[:es]Exposición: Eugènia Balcells - Ella\, una y otra vez[:en]Exhibition: Eugènia Balcells - Ella\, una i altra vegada[:]
DESCRIPTION:Al llarg de l’exposició\, els arquetips femenins –tot incloent-se i excloent-se mútuament– van dibuixant un vocabulari propi des del qual repensar les relacions humanes en què avui ens movem. \nDisponible fins al 22 de gener del 2023.
URL:https://poblenouurbandistrict.com/ca/agenda/exposicio-eugenia-balcells-ella-una-i-altra-vegada/2022-11-15/
LOCATION:Museu Can Framis\, carrer de Roc Boronat\, 116\, 126\, Barcelona\, Barcelona\, 08018\, Espanya
CATEGORIES:Art,Exposició
ATTACH;FMTTYPE=image/jpeg:https://media.poblenouurbandistrict.com/2022/06/25053058/screenshot-2022-06-16-at-124529.jpg
END:VEVENT
BEGIN:VEVENT
DTSTART;TZID=Europe/Madrid:20221119T110000
DTEND;TZID=Europe/Madrid:20221119T140000
DTSTAMP:20260420T060718
CREATED:20221117T125545Z
LAST-MODIFIED:20221117T125545Z
UID:10003620-1668855600-1668866400@poblenouurbandistrict.com
SUMMARY:[:ca]Vermut a Piramidón[:es]Vermut en Piramidón[:]
DESCRIPTION:Tornen els dissabtes de vermut de Piramidón Centre! En aquesta ocasió ens conviden aquest proper dissabte 19 de novembre a visitar l’exposició de @pol_pinto. “Repetició a Repetició” així com la mostra col·lectiva “2022_n3” on participen els seus artistes residents\, prenent un vermut amb les millors vistes de Barcelona.
URL:https://poblenouurbandistrict.com/ca/agenda/vermut-a-piramidon/
LOCATION:Piramidón\, Centre D’art Contemporani\, Carrer del Concili de Trento\, 313\, Barcelona\, Barcelona\, 08020\, Espanya
CATEGORIES:Art,Xerrada
ATTACH;FMTTYPE=image/jpeg:https://media.poblenouurbandistrict.com/2022/11/25055017/vermuth-piramidon-e1729169926526.jpg
END:VEVENT
BEGIN:VEVENT
DTSTART;TZID=Europe/Madrid:20221122T110000
DTEND;TZID=Europe/Madrid:20221127T180000
DTSTAMP:20260420T060718
CREATED:20220616T104557Z
LAST-MODIFIED:20220912T142409Z
UID:10003842-1669114800-1669572000@poblenouurbandistrict.com
SUMMARY:[:ca]Exposició: Eugènia Balcells - Ella\, una i altra vegada[:es]Exposición: Eugènia Balcells - Ella\, una y otra vez[:en]Exhibition: Eugènia Balcells - Ella\, una i altra vegada[:]
DESCRIPTION:Al llarg de l’exposició\, els arquetips femenins –tot incloent-se i excloent-se mútuament– van dibuixant un vocabulari propi des del qual repensar les relacions humanes en què avui ens movem. \nDisponible fins al 22 de gener del 2023.
URL:https://poblenouurbandistrict.com/ca/agenda/exposicio-eugenia-balcells-ella-una-i-altra-vegada/2022-11-22/
LOCATION:Museu Can Framis\, carrer de Roc Boronat\, 116\, 126\, Barcelona\, Barcelona\, 08018\, Espanya
CATEGORIES:Art,Exposició
ATTACH;FMTTYPE=image/jpeg:https://media.poblenouurbandistrict.com/2022/06/25053058/screenshot-2022-06-16-at-124529.jpg
END:VEVENT
BEGIN:VEVENT
DTSTART;TZID=Europe/Madrid:20221129T110000
DTEND;TZID=Europe/Madrid:20221204T180000
DTSTAMP:20260420T060718
CREATED:20220616T104557Z
LAST-MODIFIED:20220912T142409Z
UID:10003843-1669719600-1670176800@poblenouurbandistrict.com
SUMMARY:[:ca]Exposició: Eugènia Balcells - Ella\, una i altra vegada[:es]Exposición: Eugènia Balcells - Ella\, una y otra vez[:en]Exhibition: Eugènia Balcells - Ella\, una i altra vegada[:]
DESCRIPTION:Al llarg de l’exposició\, els arquetips femenins –tot incloent-se i excloent-se mútuament– van dibuixant un vocabulari propi des del qual repensar les relacions humanes en què avui ens movem. \nDisponible fins al 22 de gener del 2023.
URL:https://poblenouurbandistrict.com/ca/agenda/exposicio-eugenia-balcells-ella-una-i-altra-vegada/2022-11-29/
LOCATION:Museu Can Framis\, carrer de Roc Boronat\, 116\, 126\, Barcelona\, Barcelona\, 08018\, Espanya
CATEGORIES:Art,Exposició
ATTACH;FMTTYPE=image/jpeg:https://media.poblenouurbandistrict.com/2022/06/25053058/screenshot-2022-06-16-at-124529.jpg
END:VEVENT
END:VCALENDAR