BEGIN:VCALENDAR
VERSION:2.0
PRODID:-//Poblenou Urban District - ECPv6.15.20//NONSGML v1.0//EN
CALSCALE:GREGORIAN
METHOD:PUBLISH
X-WR-CALNAME:Poblenou Urban District
X-ORIGINAL-URL:https://poblenouurbandistrict.com/ca
X-WR-CALDESC:Esdeveniments per Poblenou Urban District
REFRESH-INTERVAL;VALUE=DURATION:PT1H
X-Robots-Tag:noindex
X-PUBLISHED-TTL:PT1H
BEGIN:VTIMEZONE
TZID:Europe/Madrid
BEGIN:DAYLIGHT
TZOFFSETFROM:+0100
TZOFFSETTO:+0200
TZNAME:CEST
DTSTART:20210328T010000
END:DAYLIGHT
BEGIN:STANDARD
TZOFFSETFROM:+0200
TZOFFSETTO:+0100
TZNAME:CET
DTSTART:20211031T010000
END:STANDARD
BEGIN:DAYLIGHT
TZOFFSETFROM:+0100
TZOFFSETTO:+0200
TZNAME:CEST
DTSTART:20220327T010000
END:DAYLIGHT
BEGIN:STANDARD
TZOFFSETFROM:+0200
TZOFFSETTO:+0100
TZNAME:CET
DTSTART:20221030T010000
END:STANDARD
BEGIN:DAYLIGHT
TZOFFSETFROM:+0100
TZOFFSETTO:+0200
TZNAME:CEST
DTSTART:20230326T010000
END:DAYLIGHT
BEGIN:STANDARD
TZOFFSETFROM:+0200
TZOFFSETTO:+0100
TZNAME:CET
DTSTART:20231029T010000
END:STANDARD
BEGIN:DAYLIGHT
TZOFFSETFROM:+0100
TZOFFSETTO:+0200
TZNAME:CEST
DTSTART:20240331T010000
END:DAYLIGHT
BEGIN:STANDARD
TZOFFSETFROM:+0200
TZOFFSETTO:+0100
TZNAME:CET
DTSTART:20241027T010000
END:STANDARD
END:VTIMEZONE
BEGIN:VEVENT
DTSTART;TZID=Europe/Madrid:20221129T110000
DTEND;TZID=Europe/Madrid:20221204T180000
DTSTAMP:20260420T041034
CREATED:20220616T104557Z
LAST-MODIFIED:20220912T142409Z
UID:10003843-1669719600-1670176800@poblenouurbandistrict.com
SUMMARY:[:ca]Exposició: Eugènia Balcells - Ella\, una i altra vegada[:es]Exposición: Eugènia Balcells - Ella\, una y otra vez[:en]Exhibition: Eugènia Balcells - Ella\, una i altra vegada[:]
DESCRIPTION:Al llarg de l’exposició\, els arquetips femenins –tot incloent-se i excloent-se mútuament– van dibuixant un vocabulari propi des del qual repensar les relacions humanes en què avui ens movem. \nDisponible fins al 22 de gener del 2023.
URL:https://poblenouurbandistrict.com/ca/agenda/exposicio-eugenia-balcells-ella-una-i-altra-vegada/2022-11-29/
LOCATION:Museu Can Framis\, carrer de Roc Boronat\, 116\, 126\, Barcelona\, Barcelona\, 08018\, Espanya
CATEGORIES:Art,Exposició
ATTACH;FMTTYPE=image/jpeg:https://media.poblenouurbandistrict.com/2022/06/25053058/screenshot-2022-06-16-at-124529.jpg
END:VEVENT
BEGIN:VEVENT
DTSTART;TZID=Europe/Madrid:20221206T110000
DTEND;TZID=Europe/Madrid:20221211T180000
DTSTAMP:20260420T041034
CREATED:20220616T104557Z
LAST-MODIFIED:20220912T142409Z
UID:10003844-1670324400-1670781600@poblenouurbandistrict.com
SUMMARY:[:ca]Exposició: Eugènia Balcells - Ella\, una i altra vegada[:es]Exposición: Eugènia Balcells - Ella\, una y otra vez[:en]Exhibition: Eugènia Balcells - Ella\, una i altra vegada[:]
DESCRIPTION:Al llarg de l’exposició\, els arquetips femenins –tot incloent-se i excloent-se mútuament– van dibuixant un vocabulari propi des del qual repensar les relacions humanes en què avui ens movem. \nDisponible fins al 22 de gener del 2023.
URL:https://poblenouurbandistrict.com/ca/agenda/exposicio-eugenia-balcells-ella-una-i-altra-vegada/2022-12-06/
LOCATION:Museu Can Framis\, carrer de Roc Boronat\, 116\, 126\, Barcelona\, Barcelona\, 08018\, Espanya
CATEGORIES:Art,Exposició
ATTACH;FMTTYPE=image/jpeg:https://media.poblenouurbandistrict.com/2022/06/25053058/screenshot-2022-06-16-at-124529.jpg
END:VEVENT
BEGIN:VEVENT
DTSTART;TZID=Europe/Madrid:20221213T110000
DTEND;TZID=Europe/Madrid:20221218T180000
DTSTAMP:20260420T041034
CREATED:20220616T104557Z
LAST-MODIFIED:20220912T142409Z
UID:10003845-1670929200-1671386400@poblenouurbandistrict.com
SUMMARY:[:ca]Exposició: Eugènia Balcells - Ella\, una i altra vegada[:es]Exposición: Eugènia Balcells - Ella\, una y otra vez[:en]Exhibition: Eugènia Balcells - Ella\, una i altra vegada[:]
DESCRIPTION:Al llarg de l’exposició\, els arquetips femenins –tot incloent-se i excloent-se mútuament– van dibuixant un vocabulari propi des del qual repensar les relacions humanes en què avui ens movem. \nDisponible fins al 22 de gener del 2023.
URL:https://poblenouurbandistrict.com/ca/agenda/exposicio-eugenia-balcells-ella-una-i-altra-vegada/2022-12-13/
LOCATION:Museu Can Framis\, carrer de Roc Boronat\, 116\, 126\, Barcelona\, Barcelona\, 08018\, Espanya
CATEGORIES:Art,Exposició
ATTACH;FMTTYPE=image/jpeg:https://media.poblenouurbandistrict.com/2022/06/25053058/screenshot-2022-06-16-at-124529.jpg
END:VEVENT
BEGIN:VEVENT
DTSTART;TZID=Europe/Madrid:20221215T100000
DTEND;TZID=Europe/Madrid:20221215T190000
DTSTAMP:20260420T041034
CREATED:20221213T105505Z
LAST-MODIFIED:20221213T225222Z
UID:10004323-1671098400-1671130800@poblenouurbandistrict.com
SUMMARY:[:ca]La Colectiva[:es]La Colectiva[:]
DESCRIPTION:En motiu del seu dotzè aniversari\, La Plataforma inaugurarà la primera edició de “La Colectiva”: una exposició on podràs trobar obra de tots els artistes que col·laboren amb la galeria\, una mostra que reuneix disciplines artístiques diverses en un mateix espai\, transformant la galeria d’art en una concept store.  També trobaràs una selecció de llibres que abasten des de l’art\, el disseny gràfic i la fotografia fins a contes i històries il·lustrades per als més petits\, d’editorials i fins i tot llibres d’artistes. I també objectes de disseny ideals per regalar. \n“La Colectiva” estarà oberta al públic del 15 de desembre al 28 de febrer.
URL:https://poblenouurbandistrict.com/ca/agenda/la-colectiva/2022-12-15/
LOCATION:La Plataforma\, Pujades 99\, bxs.\, Barcelona\, Catalunya\, España
CATEGORIES:Art,Diseño,Exposició
ATTACH;FMTTYPE=image/png:https://poblenouurbandistrict.com/wp-content/uploads/2022/12/diseno-sin-titulo-6.jpg
ORGANIZER;CN="La Plataforma":MAILTO:bcnplataforma@gmail.com
END:VEVENT
BEGIN:VEVENT
DTSTART;TZID=Europe/Madrid:20221215T120000
DTEND;TZID=Europe/Madrid:20221215T133000
DTSTAMP:20260420T041034
CREATED:20221213T103906Z
LAST-MODIFIED:20221213T103906Z
UID:10004321-1671105600-1671111000@poblenouurbandistrict.com
SUMMARY:[:ca]Visita Guiada a la col·lecció de pintura[:es]Visita guiada a la colección de pintura contemporánea[:]
DESCRIPTION:Visita guiada a la recentment renovada exposició permanent Monòleg\, diàleg i concepte\, una nova mirada a la col·lecció de pintura de la Fundació Vila Casas que crea diàlegs entre obres que comparteixen afinitats formals o conceptuals. Hi descobriràs obres d’artistes com Amèlia Riera\, Mario Pasqualotto\, Mar Arza o Antoni Tàpies; les noves sales monogràfiques d’artistes com Jaume Plensa o Antoni Llena; i el nou vestíbul presidit per una selecció d’obres de Josep Guinovart.
URL:https://poblenouurbandistrict.com/ca/agenda/visita-guiada-a-la-colleccio-de-pintura/
LOCATION:Museu Can Framis\, carrer de Roc Boronat\, 116\, 126\, Barcelona\, Barcelona\, 08018\, Espanya
CATEGORIES:Art,Exposició
ATTACH;FMTTYPE=image/jpeg:https://media.poblenouurbandistrict.com/2022/12/25055415/unnamed.jpeg
END:VEVENT
BEGIN:VEVENT
DTSTART;TZID=Europe/Madrid:20221216T100000
DTEND;TZID=Europe/Madrid:20221216T190000
DTSTAMP:20260420T041034
CREATED:20221213T105505Z
LAST-MODIFIED:20221213T225222Z
UID:10004324-1671184800-1671217200@poblenouurbandistrict.com
SUMMARY:[:ca]La Colectiva[:es]La Colectiva[:]
DESCRIPTION:En motiu del seu dotzè aniversari\, La Plataforma inaugurarà la primera edició de “La Colectiva”: una exposició on podràs trobar obra de tots els artistes que col·laboren amb la galeria\, una mostra que reuneix disciplines artístiques diverses en un mateix espai\, transformant la galeria d’art en una concept store.  També trobaràs una selecció de llibres que abasten des de l’art\, el disseny gràfic i la fotografia fins a contes i històries il·lustrades per als més petits\, d’editorials i fins i tot llibres d’artistes. I també objectes de disseny ideals per regalar. \n“La Colectiva” estarà oberta al públic del 15 de desembre al 28 de febrer.
URL:https://poblenouurbandistrict.com/ca/agenda/la-colectiva/2022-12-16/
LOCATION:La Plataforma\, Pujades 99\, bxs.\, Barcelona\, Catalunya\, España
CATEGORIES:Art,Diseño,Exposició
ATTACH;FMTTYPE=image/png:https://poblenouurbandistrict.com/wp-content/uploads/2022/12/diseno-sin-titulo-6.jpg
ORGANIZER;CN="La Plataforma":MAILTO:bcnplataforma@gmail.com
END:VEVENT
BEGIN:VEVENT
DTSTART;TZID=Europe/Madrid:20221219T100000
DTEND;TZID=Europe/Madrid:20221219T190000
DTSTAMP:20260420T041034
CREATED:20221213T105505Z
LAST-MODIFIED:20221213T225222Z
UID:10004325-1671444000-1671476400@poblenouurbandistrict.com
SUMMARY:[:ca]La Colectiva[:es]La Colectiva[:]
DESCRIPTION:En motiu del seu dotzè aniversari\, La Plataforma inaugurarà la primera edició de “La Colectiva”: una exposició on podràs trobar obra de tots els artistes que col·laboren amb la galeria\, una mostra que reuneix disciplines artístiques diverses en un mateix espai\, transformant la galeria d’art en una concept store.  També trobaràs una selecció de llibres que abasten des de l’art\, el disseny gràfic i la fotografia fins a contes i històries il·lustrades per als més petits\, d’editorials i fins i tot llibres d’artistes. I també objectes de disseny ideals per regalar. \n“La Colectiva” estarà oberta al públic del 15 de desembre al 28 de febrer.
URL:https://poblenouurbandistrict.com/ca/agenda/la-colectiva/2022-12-19/
LOCATION:La Plataforma\, Pujades 99\, bxs.\, Barcelona\, Catalunya\, España
CATEGORIES:Art,Diseño,Exposició
ATTACH;FMTTYPE=image/png:https://poblenouurbandistrict.com/wp-content/uploads/2022/12/diseno-sin-titulo-6.jpg
ORGANIZER;CN="La Plataforma":MAILTO:bcnplataforma@gmail.com
END:VEVENT
BEGIN:VEVENT
DTSTART;TZID=Europe/Madrid:20221220T100000
DTEND;TZID=Europe/Madrid:20221220T190000
DTSTAMP:20260420T041034
CREATED:20221213T105505Z
LAST-MODIFIED:20221213T225222Z
UID:10004326-1671530400-1671562800@poblenouurbandistrict.com
SUMMARY:[:ca]La Colectiva[:es]La Colectiva[:]
DESCRIPTION:En motiu del seu dotzè aniversari\, La Plataforma inaugurarà la primera edició de “La Colectiva”: una exposició on podràs trobar obra de tots els artistes que col·laboren amb la galeria\, una mostra que reuneix disciplines artístiques diverses en un mateix espai\, transformant la galeria d’art en una concept store.  També trobaràs una selecció de llibres que abasten des de l’art\, el disseny gràfic i la fotografia fins a contes i històries il·lustrades per als més petits\, d’editorials i fins i tot llibres d’artistes. I també objectes de disseny ideals per regalar. \n“La Colectiva” estarà oberta al públic del 15 de desembre al 28 de febrer.
URL:https://poblenouurbandistrict.com/ca/agenda/la-colectiva/2022-12-20/
LOCATION:La Plataforma\, Pujades 99\, bxs.\, Barcelona\, Catalunya\, España
CATEGORIES:Art,Diseño,Exposició
ATTACH;FMTTYPE=image/png:https://poblenouurbandistrict.com/wp-content/uploads/2022/12/diseno-sin-titulo-6.jpg
ORGANIZER;CN="La Plataforma":MAILTO:bcnplataforma@gmail.com
END:VEVENT
BEGIN:VEVENT
DTSTART;TZID=Europe/Madrid:20221220T110000
DTEND;TZID=Europe/Madrid:20221225T180000
DTSTAMP:20260420T041034
CREATED:20220616T104557Z
LAST-MODIFIED:20220912T142409Z
UID:10003846-1671534000-1671991200@poblenouurbandistrict.com
SUMMARY:[:ca]Exposició: Eugènia Balcells - Ella\, una i altra vegada[:es]Exposición: Eugènia Balcells - Ella\, una y otra vez[:en]Exhibition: Eugènia Balcells - Ella\, una i altra vegada[:]
DESCRIPTION:Al llarg de l’exposició\, els arquetips femenins –tot incloent-se i excloent-se mútuament– van dibuixant un vocabulari propi des del qual repensar les relacions humanes en què avui ens movem. \nDisponible fins al 22 de gener del 2023.
URL:https://poblenouurbandistrict.com/ca/agenda/exposicio-eugenia-balcells-ella-una-i-altra-vegada/2022-12-20/
LOCATION:Museu Can Framis\, carrer de Roc Boronat\, 116\, 126\, Barcelona\, Barcelona\, 08018\, Espanya
CATEGORIES:Art,Exposició
ATTACH;FMTTYPE=image/jpeg:https://media.poblenouurbandistrict.com/2022/06/25053058/screenshot-2022-06-16-at-124529.jpg
END:VEVENT
BEGIN:VEVENT
DTSTART;TZID=Europe/Madrid:20221221T100000
DTEND;TZID=Europe/Madrid:20221221T190000
DTSTAMP:20260420T041034
CREATED:20221213T105505Z
LAST-MODIFIED:20221213T225222Z
UID:10004327-1671616800-1671649200@poblenouurbandistrict.com
SUMMARY:[:ca]La Colectiva[:es]La Colectiva[:]
DESCRIPTION:En motiu del seu dotzè aniversari\, La Plataforma inaugurarà la primera edició de “La Colectiva”: una exposició on podràs trobar obra de tots els artistes que col·laboren amb la galeria\, una mostra que reuneix disciplines artístiques diverses en un mateix espai\, transformant la galeria d’art en una concept store.  També trobaràs una selecció de llibres que abasten des de l’art\, el disseny gràfic i la fotografia fins a contes i històries il·lustrades per als més petits\, d’editorials i fins i tot llibres d’artistes. I també objectes de disseny ideals per regalar. \n“La Colectiva” estarà oberta al públic del 15 de desembre al 28 de febrer.
URL:https://poblenouurbandistrict.com/ca/agenda/la-colectiva/2022-12-21/
LOCATION:La Plataforma\, Pujades 99\, bxs.\, Barcelona\, Catalunya\, España
CATEGORIES:Art,Diseño,Exposició
ATTACH;FMTTYPE=image/png:https://poblenouurbandistrict.com/wp-content/uploads/2022/12/diseno-sin-titulo-6.jpg
ORGANIZER;CN="La Plataforma":MAILTO:bcnplataforma@gmail.com
END:VEVENT
BEGIN:VEVENT
DTSTART;TZID=Europe/Madrid:20221221T100000
DTEND;TZID=Europe/Madrid:20230105T190000
DTSTAMP:20260420T041034
CREATED:20221221T123717Z
LAST-MODIFIED:20221221T124801Z
UID:10004378-1671616800-1672945200@poblenouurbandistrict.com
SUMMARY:[:ca]Repetició en Repetició[:es]Repetició en Repetició[:]
DESCRIPTION:Piramidó exhibeix l’exposició individual “Repetició a Repetició” de l’artista resident Pol Pintó (Barcelona\, 1993). A la mostra l’artista projecta una obra marcada per la reiteració de traços replicats que mantenen una idèntica pulsió i intencionalitat. Les teles\, de vegades crues\, altres de pigmentades amb tons pastissos a baixíssima saturació sobre els quals s’accentua el negre de les línies\, reflecteixen escenaris d’aparença similar però de simetria impossible.
URL:https://poblenouurbandistrict.com/ca/agenda/repeticio-en-repeticio/
LOCATION:Piramidón\, Centre D’art Contemporani\, Carrer del Concili de Trento\, 313\, Barcelona\, Barcelona\, 08020\, Espanya
CATEGORIES:Art
ATTACH;FMTTYPE=image/jpeg:https://media.poblenouurbandistrict.com/2022/12/25055541/pol-pintor.jpg
END:VEVENT
BEGIN:VEVENT
DTSTART;TZID=Europe/Madrid:20221222T100000
DTEND;TZID=Europe/Madrid:20221222T190000
DTSTAMP:20260420T041034
CREATED:20221213T105505Z
LAST-MODIFIED:20221213T225222Z
UID:10004328-1671703200-1671735600@poblenouurbandistrict.com
SUMMARY:[:ca]La Colectiva[:es]La Colectiva[:]
DESCRIPTION:En motiu del seu dotzè aniversari\, La Plataforma inaugurarà la primera edició de “La Colectiva”: una exposició on podràs trobar obra de tots els artistes que col·laboren amb la galeria\, una mostra que reuneix disciplines artístiques diverses en un mateix espai\, transformant la galeria d’art en una concept store.  També trobaràs una selecció de llibres que abasten des de l’art\, el disseny gràfic i la fotografia fins a contes i històries il·lustrades per als més petits\, d’editorials i fins i tot llibres d’artistes. I també objectes de disseny ideals per regalar. \n“La Colectiva” estarà oberta al públic del 15 de desembre al 28 de febrer.
URL:https://poblenouurbandistrict.com/ca/agenda/la-colectiva/2022-12-22/
LOCATION:La Plataforma\, Pujades 99\, bxs.\, Barcelona\, Catalunya\, España
CATEGORIES:Art,Diseño,Exposició
ATTACH;FMTTYPE=image/png:https://poblenouurbandistrict.com/wp-content/uploads/2022/12/diseno-sin-titulo-6.jpg
ORGANIZER;CN="La Plataforma":MAILTO:bcnplataforma@gmail.com
END:VEVENT
BEGIN:VEVENT
DTSTART;TZID=Europe/Madrid:20221223T100000
DTEND;TZID=Europe/Madrid:20221223T190000
DTSTAMP:20260420T041034
CREATED:20221213T105505Z
LAST-MODIFIED:20221213T225222Z
UID:10004329-1671789600-1671822000@poblenouurbandistrict.com
SUMMARY:[:ca]La Colectiva[:es]La Colectiva[:]
DESCRIPTION:En motiu del seu dotzè aniversari\, La Plataforma inaugurarà la primera edició de “La Colectiva”: una exposició on podràs trobar obra de tots els artistes que col·laboren amb la galeria\, una mostra que reuneix disciplines artístiques diverses en un mateix espai\, transformant la galeria d’art en una concept store.  També trobaràs una selecció de llibres que abasten des de l’art\, el disseny gràfic i la fotografia fins a contes i històries il·lustrades per als més petits\, d’editorials i fins i tot llibres d’artistes. I també objectes de disseny ideals per regalar. \n“La Colectiva” estarà oberta al públic del 15 de desembre al 28 de febrer.
URL:https://poblenouurbandistrict.com/ca/agenda/la-colectiva/2022-12-23/
LOCATION:La Plataforma\, Pujades 99\, bxs.\, Barcelona\, Catalunya\, España
CATEGORIES:Art,Diseño,Exposició
ATTACH;FMTTYPE=image/png:https://poblenouurbandistrict.com/wp-content/uploads/2022/12/diseno-sin-titulo-6.jpg
ORGANIZER;CN="La Plataforma":MAILTO:bcnplataforma@gmail.com
END:VEVENT
BEGIN:VEVENT
DTSTART;TZID=Europe/Madrid:20221226T100000
DTEND;TZID=Europe/Madrid:20221226T190000
DTSTAMP:20260420T041034
CREATED:20221213T105505Z
LAST-MODIFIED:20221213T225222Z
UID:10004330-1672048800-1672081200@poblenouurbandistrict.com
SUMMARY:[:ca]La Colectiva[:es]La Colectiva[:]
DESCRIPTION:En motiu del seu dotzè aniversari\, La Plataforma inaugurarà la primera edició de “La Colectiva”: una exposició on podràs trobar obra de tots els artistes que col·laboren amb la galeria\, una mostra que reuneix disciplines artístiques diverses en un mateix espai\, transformant la galeria d’art en una concept store.  També trobaràs una selecció de llibres que abasten des de l’art\, el disseny gràfic i la fotografia fins a contes i històries il·lustrades per als més petits\, d’editorials i fins i tot llibres d’artistes. I també objectes de disseny ideals per regalar. \n“La Colectiva” estarà oberta al públic del 15 de desembre al 28 de febrer.
URL:https://poblenouurbandistrict.com/ca/agenda/la-colectiva/2022-12-26/
LOCATION:La Plataforma\, Pujades 99\, bxs.\, Barcelona\, Catalunya\, España
CATEGORIES:Art,Diseño,Exposició
ATTACH;FMTTYPE=image/png:https://poblenouurbandistrict.com/wp-content/uploads/2022/12/diseno-sin-titulo-6.jpg
ORGANIZER;CN="La Plataforma":MAILTO:bcnplataforma@gmail.com
END:VEVENT
BEGIN:VEVENT
DTSTART;TZID=Europe/Madrid:20221227T100000
DTEND;TZID=Europe/Madrid:20221227T190000
DTSTAMP:20260420T041034
CREATED:20221213T105505Z
LAST-MODIFIED:20221213T225222Z
UID:10004331-1672135200-1672167600@poblenouurbandistrict.com
SUMMARY:[:ca]La Colectiva[:es]La Colectiva[:]
DESCRIPTION:En motiu del seu dotzè aniversari\, La Plataforma inaugurarà la primera edició de “La Colectiva”: una exposició on podràs trobar obra de tots els artistes que col·laboren amb la galeria\, una mostra que reuneix disciplines artístiques diverses en un mateix espai\, transformant la galeria d’art en una concept store.  També trobaràs una selecció de llibres que abasten des de l’art\, el disseny gràfic i la fotografia fins a contes i històries il·lustrades per als més petits\, d’editorials i fins i tot llibres d’artistes. I també objectes de disseny ideals per regalar. \n“La Colectiva” estarà oberta al públic del 15 de desembre al 28 de febrer.
URL:https://poblenouurbandistrict.com/ca/agenda/la-colectiva/2022-12-27/
LOCATION:La Plataforma\, Pujades 99\, bxs.\, Barcelona\, Catalunya\, España
CATEGORIES:Art,Diseño,Exposició
ATTACH;FMTTYPE=image/png:https://poblenouurbandistrict.com/wp-content/uploads/2022/12/diseno-sin-titulo-6.jpg
ORGANIZER;CN="La Plataforma":MAILTO:bcnplataforma@gmail.com
END:VEVENT
BEGIN:VEVENT
DTSTART;TZID=Europe/Madrid:20221227T110000
DTEND;TZID=Europe/Madrid:20230101T180000
DTSTAMP:20260420T041034
CREATED:20220616T104557Z
LAST-MODIFIED:20220912T142409Z
UID:10003847-1672138800-1672596000@poblenouurbandistrict.com
SUMMARY:[:ca]Exposició: Eugènia Balcells - Ella\, una i altra vegada[:es]Exposición: Eugènia Balcells - Ella\, una y otra vez[:en]Exhibition: Eugènia Balcells - Ella\, una i altra vegada[:]
DESCRIPTION:Al llarg de l’exposició\, els arquetips femenins –tot incloent-se i excloent-se mútuament– van dibuixant un vocabulari propi des del qual repensar les relacions humanes en què avui ens movem. \nDisponible fins al 22 de gener del 2023.
URL:https://poblenouurbandistrict.com/ca/agenda/exposicio-eugenia-balcells-ella-una-i-altra-vegada/2022-12-27/
LOCATION:Museu Can Framis\, carrer de Roc Boronat\, 116\, 126\, Barcelona\, Barcelona\, 08018\, Espanya
CATEGORIES:Art,Exposició
ATTACH;FMTTYPE=image/jpeg:https://media.poblenouurbandistrict.com/2022/06/25053058/screenshot-2022-06-16-at-124529.jpg
END:VEVENT
BEGIN:VEVENT
DTSTART;TZID=Europe/Madrid:20221228T100000
DTEND;TZID=Europe/Madrid:20221228T190000
DTSTAMP:20260420T041034
CREATED:20221213T105505Z
LAST-MODIFIED:20221213T225222Z
UID:10004332-1672221600-1672254000@poblenouurbandistrict.com
SUMMARY:[:ca]La Colectiva[:es]La Colectiva[:]
DESCRIPTION:En motiu del seu dotzè aniversari\, La Plataforma inaugurarà la primera edició de “La Colectiva”: una exposició on podràs trobar obra de tots els artistes que col·laboren amb la galeria\, una mostra que reuneix disciplines artístiques diverses en un mateix espai\, transformant la galeria d’art en una concept store.  També trobaràs una selecció de llibres que abasten des de l’art\, el disseny gràfic i la fotografia fins a contes i històries il·lustrades per als més petits\, d’editorials i fins i tot llibres d’artistes. I també objectes de disseny ideals per regalar. \n“La Colectiva” estarà oberta al públic del 15 de desembre al 28 de febrer.
URL:https://poblenouurbandistrict.com/ca/agenda/la-colectiva/2022-12-28/
LOCATION:La Plataforma\, Pujades 99\, bxs.\, Barcelona\, Catalunya\, España
CATEGORIES:Art,Diseño,Exposició
ATTACH;FMTTYPE=image/png:https://poblenouurbandistrict.com/wp-content/uploads/2022/12/diseno-sin-titulo-6.jpg
ORGANIZER;CN="La Plataforma":MAILTO:bcnplataforma@gmail.com
END:VEVENT
BEGIN:VEVENT
DTSTART;TZID=Europe/Madrid:20221229T100000
DTEND;TZID=Europe/Madrid:20221229T190000
DTSTAMP:20260420T041034
CREATED:20221213T105505Z
LAST-MODIFIED:20221213T225222Z
UID:10004333-1672308000-1672340400@poblenouurbandistrict.com
SUMMARY:[:ca]La Colectiva[:es]La Colectiva[:]
DESCRIPTION:En motiu del seu dotzè aniversari\, La Plataforma inaugurarà la primera edició de “La Colectiva”: una exposició on podràs trobar obra de tots els artistes que col·laboren amb la galeria\, una mostra que reuneix disciplines artístiques diverses en un mateix espai\, transformant la galeria d’art en una concept store.  També trobaràs una selecció de llibres que abasten des de l’art\, el disseny gràfic i la fotografia fins a contes i històries il·lustrades per als més petits\, d’editorials i fins i tot llibres d’artistes. I també objectes de disseny ideals per regalar. \n“La Colectiva” estarà oberta al públic del 15 de desembre al 28 de febrer.
URL:https://poblenouurbandistrict.com/ca/agenda/la-colectiva/2022-12-29/
LOCATION:La Plataforma\, Pujades 99\, bxs.\, Barcelona\, Catalunya\, España
CATEGORIES:Art,Diseño,Exposició
ATTACH;FMTTYPE=image/png:https://poblenouurbandistrict.com/wp-content/uploads/2022/12/diseno-sin-titulo-6.jpg
ORGANIZER;CN="La Plataforma":MAILTO:bcnplataforma@gmail.com
END:VEVENT
BEGIN:VEVENT
DTSTART;TZID=Europe/Madrid:20221230T100000
DTEND;TZID=Europe/Madrid:20221230T190000
DTSTAMP:20260420T041034
CREATED:20221213T105505Z
LAST-MODIFIED:20221213T225222Z
UID:10004334-1672394400-1672426800@poblenouurbandistrict.com
SUMMARY:[:ca]La Colectiva[:es]La Colectiva[:]
DESCRIPTION:En motiu del seu dotzè aniversari\, La Plataforma inaugurarà la primera edició de “La Colectiva”: una exposició on podràs trobar obra de tots els artistes que col·laboren amb la galeria\, una mostra que reuneix disciplines artístiques diverses en un mateix espai\, transformant la galeria d’art en una concept store.  També trobaràs una selecció de llibres que abasten des de l’art\, el disseny gràfic i la fotografia fins a contes i històries il·lustrades per als més petits\, d’editorials i fins i tot llibres d’artistes. I també objectes de disseny ideals per regalar. \n“La Colectiva” estarà oberta al públic del 15 de desembre al 28 de febrer.
URL:https://poblenouurbandistrict.com/ca/agenda/la-colectiva/2022-12-30/
LOCATION:La Plataforma\, Pujades 99\, bxs.\, Barcelona\, Catalunya\, España
CATEGORIES:Art,Diseño,Exposició
ATTACH;FMTTYPE=image/png:https://poblenouurbandistrict.com/wp-content/uploads/2022/12/diseno-sin-titulo-6.jpg
ORGANIZER;CN="La Plataforma":MAILTO:bcnplataforma@gmail.com
END:VEVENT
END:VCALENDAR