BEGIN:VCALENDAR
VERSION:2.0
PRODID:-//Poblenou Urban District - ECPv6.15.20//NONSGML v1.0//EN
CALSCALE:GREGORIAN
METHOD:PUBLISH
X-WR-CALNAME:Poblenou Urban District
X-ORIGINAL-URL:https://poblenouurbandistrict.com/ca
X-WR-CALDESC:Esdeveniments per Poblenou Urban District
REFRESH-INTERVAL;VALUE=DURATION:PT1H
X-Robots-Tag:noindex
X-PUBLISHED-TTL:PT1H
BEGIN:VTIMEZONE
TZID:Europe/Madrid
BEGIN:DAYLIGHT
TZOFFSETFROM:+0100
TZOFFSETTO:+0200
TZNAME:CEST
DTSTART:20210328T010000
END:DAYLIGHT
BEGIN:STANDARD
TZOFFSETFROM:+0200
TZOFFSETTO:+0100
TZNAME:CET
DTSTART:20211031T010000
END:STANDARD
BEGIN:DAYLIGHT
TZOFFSETFROM:+0100
TZOFFSETTO:+0200
TZNAME:CEST
DTSTART:20220327T010000
END:DAYLIGHT
BEGIN:STANDARD
TZOFFSETFROM:+0200
TZOFFSETTO:+0100
TZNAME:CET
DTSTART:20221030T010000
END:STANDARD
BEGIN:DAYLIGHT
TZOFFSETFROM:+0100
TZOFFSETTO:+0200
TZNAME:CEST
DTSTART:20230326T010000
END:DAYLIGHT
BEGIN:STANDARD
TZOFFSETFROM:+0200
TZOFFSETTO:+0100
TZNAME:CET
DTSTART:20231029T010000
END:STANDARD
END:VTIMEZONE
BEGIN:VEVENT
DTSTART;TZID=Europe/Madrid:20220428T090000
DTEND;TZID=Europe/Madrid:20220428T210000
DTSTAMP:20260420T183949
CREATED:20220422T103838Z
LAST-MODIFIED:20220422T103838Z
UID:10003193-1651136400-1651179600@poblenouurbandistrict.com
SUMMARY:[:ca]Exposició: Mirades Extraterrestres[:es]Exposición Miradas Extraterrestres[:en]Exhibition: Extraterrestrial Views[:]
DESCRIPTION:El Departament d’Art de BAU i la llibreria La Insòlita proposen una exposició sobre la fusió del món artificial\, natural i dinàmic per a la creació de noves criatures. Una mostra de com l’alumnat ha avaluat i reflexionat sobre el món que ens envolta al mateix temps que ha explorat diferents llenguatges gràfics.
URL:https://poblenouurbandistrict.com/ca/agenda/exposicio-mirades-extraterrestres/2022-04-28/
LOCATION:BAU\, Carrer de Pujades\, 118\, Barcelona\, Barcelona\, 08005\, Espanya
CATEGORIES:Art,Exposició
ATTACH;FMTTYPE=image/jpeg:https://media.poblenouurbandistrict.com/2022/04/25050525/screenshot-2022-04-22-at-123740.jpg
END:VEVENT
BEGIN:VEVENT
DTSTART;TZID=Europe/Madrid:20220428T090000
DTEND;TZID=Europe/Madrid:20220428T210000
DTSTAMP:20260420T183949
CREATED:20220427T163938Z
LAST-MODIFIED:20220427T163938Z
UID:10003244-1651136400-1651179600@poblenouurbandistrict.com
SUMMARY:[:ca]Exposició: Vestit floral[:es]Exposición: Vestido floral[:en]Exhibition: Floral dress[:]
DESCRIPTION:Un vestit de cua elaborat amb flors donarà la benvinguda a l’entrada del Disseny Hub\, una mostra instal·lada fins al 15 de maig.
URL:https://poblenouurbandistrict.com/ca/agenda/exposicio-vestit-floral/2022-04-28/
LOCATION:Disseny Hub\, Pl. de les Glòries Catalanes 37\, Barcelona\, Catalunya\, 08018\, España
CATEGORIES:Art,Exposició
ATTACH;FMTTYPE=image/jpeg:https://media.poblenouurbandistrict.com/2022/04/25050752/screenshot-2022-04-27-at-183838.jpg
ORGANIZER;CN="Disseny Hub":MAILTO:dissenyhub@bcn.cat
END:VEVENT
BEGIN:VEVENT
DTSTART;TZID=Europe/Madrid:20220428T180000
DTEND;TZID=Europe/Madrid:20220428T210000
DTSTAMP:20260420T183949
CREATED:20220421T155139Z
LAST-MODIFIED:20220421T155139Z
UID:10003167-1651168800-1651179600@poblenouurbandistrict.com
SUMMARY:[:ca]Exposició: "De la Desfragmentació a la Unificació"[:es]Exposición: "De la Desfragmentación a la Unificación"[:en]Exposition: "From Defragmentation to Unification"[:]
DESCRIPTION:El 22 d’abril en l’encantadora galeria de Chez Xefo en Poble Nou\, Magda Ćwik presentarà al públic una sèrie d’obres anomenades “De la Defragmentación a la Unificació”\, una exposició que vol portar a l’espectador a una experiència significativa en la qual l’artista compartirà algunes de les seves “eines catàrtiques” que li van ser revelades en les seves últimes meditacions i recerques científiques. Disponible fins al 8 de maig.
URL:https://poblenouurbandistrict.com/ca/agenda/exposicio-de-la-desfragmentacio-a-la-unificacio/2022-04-28/
LOCATION:Chez Xefo\, Carrer de Badajoz\, 46\, Barcelona\, 08005
CATEGORIES:Art,Exposició
ATTACH;FMTTYPE=image/jpeg:https://media.poblenouurbandistrict.com/2022/04/25050507/chez-xefo-square.jpg
END:VEVENT
END:VCALENDAR