BEGIN:VCALENDAR
VERSION:2.0
PRODID:-//Poblenou Urban District - ECPv6.15.20//NONSGML v1.0//EN
CALSCALE:GREGORIAN
METHOD:PUBLISH
X-WR-CALNAME:Poblenou Urban District
X-ORIGINAL-URL:https://poblenouurbandistrict.com/ca
X-WR-CALDESC:Esdeveniments per Poblenou Urban District
REFRESH-INTERVAL;VALUE=DURATION:PT1H
X-Robots-Tag:noindex
X-PUBLISHED-TTL:PT1H
BEGIN:VTIMEZONE
TZID:Europe/Madrid
BEGIN:DAYLIGHT
TZOFFSETFROM:+0100
TZOFFSETTO:+0200
TZNAME:CEST
DTSTART:20210328T010000
END:DAYLIGHT
BEGIN:STANDARD
TZOFFSETFROM:+0200
TZOFFSETTO:+0100
TZNAME:CET
DTSTART:20211031T010000
END:STANDARD
BEGIN:DAYLIGHT
TZOFFSETFROM:+0100
TZOFFSETTO:+0200
TZNAME:CEST
DTSTART:20220327T010000
END:DAYLIGHT
BEGIN:STANDARD
TZOFFSETFROM:+0200
TZOFFSETTO:+0100
TZNAME:CET
DTSTART:20221030T010000
END:STANDARD
BEGIN:DAYLIGHT
TZOFFSETFROM:+0100
TZOFFSETTO:+0200
TZNAME:CEST
DTSTART:20230326T010000
END:DAYLIGHT
BEGIN:STANDARD
TZOFFSETFROM:+0200
TZOFFSETTO:+0100
TZNAME:CET
DTSTART:20231029T010000
END:STANDARD
END:VTIMEZONE
BEGIN:VEVENT
DTSTART;TZID=Europe/Madrid:20220502T100000
DTEND;TZID=Europe/Madrid:20220506T190000
DTSTAMP:20260420T180714
CREATED:20220628T094347Z
LAST-MODIFIED:20220720T090732Z
UID:10003367-1651485600-1651863600@poblenouurbandistrict.com
SUMMARY:[:ca]Exposició: 2022_N2[:es]Exposición: 2022_N2[:en]Exhibition: 2022_N2[:]
DESCRIPTION:Artistas: Jose Bonell\, Pepe Castellanos\, Yamandú Canosa\, Tono Carbajo\, Rosanna Casano\, Iván Franco\, Dedé Lins\, Ana Monsó\, Marco Noris\, Pol Pintó\, Stella Rahola\, Eduard Resbier\, Pere de Ribot\, Kati Riquelme y Estefanía Urrutia.
URL:https://poblenouurbandistrict.com/ca/agenda/exposicio-2022_n2/2022-05-02/
LOCATION:Piramidón\, Centre D’art Contemporani\, Carrer del Concili de Trento\, 313\, Barcelona\, Barcelona\, 08020\, Espanya
CATEGORIES:Art,Exposició
ATTACH;FMTTYPE=image/jpeg:https://media.poblenouurbandistrict.com/2022/06/25053242/capture-decran-2022-06-28-a-114221.jpg
END:VEVENT
BEGIN:VEVENT
DTSTART;TZID=Europe/Madrid:20220506T090000
DTEND;TZID=Europe/Madrid:20220506T210000
DTSTAMP:20260420T180714
CREATED:20220427T163938Z
LAST-MODIFIED:20220427T163938Z
UID:10003252-1651827600-1651870800@poblenouurbandistrict.com
SUMMARY:[:ca]Exposició: Vestit floral[:es]Exposición: Vestido floral[:en]Exhibition: Floral dress[:]
DESCRIPTION:Un vestit de cua elaborat amb flors donarà la benvinguda a l’entrada del Disseny Hub\, una mostra instal·lada fins al 15 de maig.
URL:https://poblenouurbandistrict.com/ca/agenda/exposicio-vestit-floral/2022-05-06/
LOCATION:Disseny Hub\, Pl. de les Glòries Catalanes 37\, Barcelona\, Catalunya\, 08018\, España
CATEGORIES:Art,Exposició
ATTACH;FMTTYPE=image/jpeg:https://media.poblenouurbandistrict.com/2022/04/25050752/screenshot-2022-04-27-at-183838.jpg
ORGANIZER;CN="Disseny Hub":MAILTO:dissenyhub@bcn.cat
END:VEVENT
BEGIN:VEVENT
DTSTART;TZID=Europe/Madrid:20220506T180000
DTEND;TZID=Europe/Madrid:20220506T210000
DTSTAMP:20260420T180714
CREATED:20220421T155139Z
LAST-MODIFIED:20220421T155139Z
UID:10003172-1651860000-1651870800@poblenouurbandistrict.com
SUMMARY:[:ca]Exposició: "De la Desfragmentació a la Unificació"[:es]Exposición: "De la Desfragmentación a la Unificación"[:en]Exposition: "From Defragmentation to Unification"[:]
DESCRIPTION:El 22 d’abril en l’encantadora galeria de Chez Xefo en Poble Nou\, Magda Ćwik presentarà al públic una sèrie d’obres anomenades “De la Defragmentación a la Unificació”\, una exposició que vol portar a l’espectador a una experiència significativa en la qual l’artista compartirà algunes de les seves “eines catàrtiques” que li van ser revelades en les seves últimes meditacions i recerques científiques. Disponible fins al 8 de maig.
URL:https://poblenouurbandistrict.com/ca/agenda/exposicio-de-la-desfragmentacio-a-la-unificacio/2022-05-06/
LOCATION:Chez Xefo\, Carrer de Badajoz\, 46\, Barcelona\, 08005
CATEGORIES:Art,Exposició
ATTACH;FMTTYPE=image/jpeg:https://media.poblenouurbandistrict.com/2022/04/25050507/chez-xefo-square.jpg
END:VEVENT
END:VCALENDAR