BEGIN:VCALENDAR
VERSION:2.0
PRODID:-//Poblenou Urban District - ECPv6.15.20//NONSGML v1.0//EN
CALSCALE:GREGORIAN
METHOD:PUBLISH
X-ORIGINAL-URL:https://poblenouurbandistrict.com/ca
X-WR-CALDESC:Esdeveniments per Poblenou Urban District
REFRESH-INTERVAL;VALUE=DURATION:PT1H
X-Robots-Tag:noindex
X-PUBLISHED-TTL:PT1H
BEGIN:VTIMEZONE
TZID:Europe/Madrid
BEGIN:DAYLIGHT
TZOFFSETFROM:+0100
TZOFFSETTO:+0200
TZNAME:CEST
DTSTART:20210328T010000
END:DAYLIGHT
BEGIN:STANDARD
TZOFFSETFROM:+0200
TZOFFSETTO:+0100
TZNAME:CET
DTSTART:20211031T010000
END:STANDARD
BEGIN:DAYLIGHT
TZOFFSETFROM:+0100
TZOFFSETTO:+0200
TZNAME:CEST
DTSTART:20220327T010000
END:DAYLIGHT
BEGIN:STANDARD
TZOFFSETFROM:+0200
TZOFFSETTO:+0100
TZNAME:CET
DTSTART:20221030T010000
END:STANDARD
BEGIN:DAYLIGHT
TZOFFSETFROM:+0100
TZOFFSETTO:+0200
TZNAME:CEST
DTSTART:20230326T010000
END:DAYLIGHT
BEGIN:STANDARD
TZOFFSETFROM:+0200
TZOFFSETTO:+0100
TZNAME:CET
DTSTART:20231029T010000
END:STANDARD
END:VTIMEZONE
BEGIN:VEVENT
DTSTART;TZID=Europe/Madrid:20220509T100000
DTEND;TZID=Europe/Madrid:20220513T190000
DTSTAMP:20260420T184107
CREATED:20220628T093516Z
LAST-MODIFIED:20220628T093516Z
UID:10003355-1652090400-1652468400@poblenouurbandistrict.com
SUMMARY:[:ca]Exposició: ÀFRICA[:es]Exposición: ÀFRICA[:en]Exhibition: ÀFRICA[:]
DESCRIPTION:Piramidó presenta l’exposició individual de l’antic artista residents Khalid El Bekay (Casablanca\, 1966). La mostra es compon de les obres més recents dels artistes\, on es pot observar un salt evolutiu a la seva carrera pictòrica. Mitjançant l’ús d’elements i tècniques recurrents en la producció artística\, l’artista representa per primer cop l’ésser humà i el seu entorn.
URL:https://poblenouurbandistrict.com/ca/agenda/exposicio-africa/2022-05-09/
LOCATION:Piramidón\, Centre D’art Contemporani\, Carrer del Concili de Trento\, 313\, Barcelona\, Barcelona\, 08020\, Espanya
CATEGORIES:Art,Exposició
ATTACH;FMTTYPE=image/jpeg:https://media.poblenouurbandistrict.com/2022/06/25053240/capture-decran-2022-06-28-a-112913.jpg
END:VEVENT
BEGIN:VEVENT
DTSTART;TZID=Europe/Madrid:20220509T100000
DTEND;TZID=Europe/Madrid:20220513T190000
DTSTAMP:20260420T184107
CREATED:20220628T094347Z
LAST-MODIFIED:20220720T090732Z
UID:10003368-1652090400-1652468400@poblenouurbandistrict.com
SUMMARY:[:ca]Exposició: 2022_N2[:es]Exposición: 2022_N2[:en]Exhibition: 2022_N2[:]
DESCRIPTION:Artistas: Jose Bonell\, Pepe Castellanos\, Yamandú Canosa\, Tono Carbajo\, Rosanna Casano\, Iván Franco\, Dedé Lins\, Ana Monsó\, Marco Noris\, Pol Pintó\, Stella Rahola\, Eduard Resbier\, Pere de Ribot\, Kati Riquelme y Estefanía Urrutia.
URL:https://poblenouurbandistrict.com/ca/agenda/exposicio-2022_n2/2022-05-09/
LOCATION:Piramidón\, Centre D’art Contemporani\, Carrer del Concili de Trento\, 313\, Barcelona\, Barcelona\, 08020\, Espanya
CATEGORIES:Art,Exposició
ATTACH;FMTTYPE=image/jpeg:https://media.poblenouurbandistrict.com/2022/06/25053242/capture-decran-2022-06-28-a-114221.jpg
END:VEVENT
BEGIN:VEVENT
DTSTART;TZID=Europe/Madrid:20220512T090000
DTEND;TZID=Europe/Madrid:20220512T200000
DTSTAMP:20260420T184107
CREATED:20220512T133633Z
LAST-MODIFIED:20220512T133633Z
UID:10003459-1652346000-1652385600@poblenouurbandistrict.com
SUMMARY:[:ca]Exposició: ONZE[:es]Exposición: ONZE[:en]Exhibition: ONZE[:]
DESCRIPTION:Deu artistes han cedit la seva obra per ser subhastades a l’exposició ONZE\, en Palo Alto. El 100% del recapte serà donat a l’organització sense ànim de lucre Health Warriors\, per garantir els viatges a Barcelona de persones refugiades d’Ucraïna.
URL:https://poblenouurbandistrict.com/ca/agenda/exposicio-onze/2022-05-12/
LOCATION:Palo Alto\, Carrer dels Pellaires\, 30 - 38\, Barcelona\, 08019
CATEGORIES:Art,Exposició
ATTACH;FMTTYPE=image/jpeg:https://media.poblenouurbandistrict.com/2022/05/25051535/screenshot-2022-05-12-at-153552.jpg
END:VEVENT
BEGIN:VEVENT
DTSTART;TZID=Europe/Madrid:20220512T090000
DTEND;TZID=Europe/Madrid:20220512T200000
DTSTAMP:20260420T184107
CREATED:20220512T134448Z
LAST-MODIFIED:20220512T134448Z
UID:10003512-1652346000-1652385600@poblenouurbandistrict.com
SUMMARY:[:ca]Exposició: Artists Against War[:es]Exposición: Artists Against War[:en]Exhibition: Artists Against War[:]
DESCRIPTION:L’exposició “Artists Against War” que acull la nau Escoleta del 7 al 27 de maig\, reuneix un elenc d’artistes ucraïnesos reconeguts\, que formen part de la cultura visual moderna actual d’Ucraïna. La venda de les obres exposada serà destinada en un 40% a l’artista i en un 60% a la compra de medicina especialitzada.
URL:https://poblenouurbandistrict.com/ca/agenda/exposicio-artists-against-war/2022-05-12/
LOCATION:Palo Alto\, Carrer dels Pellaires\, 30 - 38\, Barcelona\, 08019
CATEGORIES:Art,Exposició
ATTACH;FMTTYPE=image/jpeg:https://media.poblenouurbandistrict.com/2022/05/25051537/screenshot-2022-05-12-at-154355.jpg
END:VEVENT
BEGIN:VEVENT
DTSTART;TZID=Europe/Madrid:20220512T090000
DTEND;TZID=Europe/Madrid:20220512T210000
DTSTAMP:20260420T184107
CREATED:20220427T163938Z
LAST-MODIFIED:20220427T163938Z
UID:10003258-1652346000-1652389200@poblenouurbandistrict.com
SUMMARY:[:ca]Exposició: Vestit floral[:es]Exposición: Vestido floral[:en]Exhibition: Floral dress[:]
DESCRIPTION:Un vestit de cua elaborat amb flors donarà la benvinguda a l’entrada del Disseny Hub\, una mostra instal·lada fins al 15 de maig.
URL:https://poblenouurbandistrict.com/ca/agenda/exposicio-vestit-floral/2022-05-12/
LOCATION:Disseny Hub\, Pl. de les Glòries Catalanes 37\, Barcelona\, Catalunya\, 08018\, España
CATEGORIES:Art,Exposició
ATTACH;FMTTYPE=image/jpeg:https://media.poblenouurbandistrict.com/2022/04/25050752/screenshot-2022-04-27-at-183838.jpg
ORGANIZER;CN="Disseny Hub":MAILTO:dissenyhub@bcn.cat
END:VEVENT
BEGIN:VEVENT
DTSTART;TZID=Europe/Madrid:20220512T100000
DTEND;TZID=Europe/Madrid:20220512T200000
DTSTAMP:20260420T184107
CREATED:20220504T135009Z
LAST-MODIFIED:20220504T135009Z
UID:10003305-1652349600-1652385600@poblenouurbandistrict.com
SUMMARY:[:ca]Exposició: Construcciones Analógicas[:es]Exposición: Construcciones Analógicas[:en]Exhibition: Construcciones Analógicas[:]
DESCRIPTION:El pròxim 7 de maig\, La Plataforma inaugura “Construccions Analògiques”\, una col·laboració entre els artistes Paul Ekaitz i José Hernández-Deu que rescata en el moment exacte idees brillants de tots dos artistes i representa l’oportunitat perfecta per a crear un “cadàver exquisit”\, perquè mai és tard per a impregnar amb nostàlgia punk la fascinació pel foc\, la llum i la persistència de la imatge. \nDisponible fins al 5 de juny.
URL:https://poblenouurbandistrict.com/ca/agenda/exposicio-construcciones-analogicas/2022-05-12/
LOCATION:La Plataforma\, Pujades 99\, bxs.\, Barcelona\, Catalunya\, España
CATEGORIES:Art,Exposició
ATTACH;FMTTYPE=image/jpeg:https://media.poblenouurbandistrict.com/2022/05/25051114/279358461-688309769053963-6023891661999423393-n.jpg
ORGANIZER;CN="La Plataforma":MAILTO:bcnplataforma@gmail.com
END:VEVENT
BEGIN:VEVENT
DTSTART;TZID=Europe/Madrid:20220512T170000
DTEND;TZID=Europe/Madrid:20220512T210000
DTSTAMP:20260420T184107
CREATED:20220511T101004Z
LAST-MODIFIED:20220512T135001Z
UID:10003412-1652374800-1652389200@poblenouurbandistrict.com
SUMMARY:[:ca]Exposició: Silencis[:es]Exposición: Silencis[:en]Exhibition: Silencis[:]
DESCRIPTION:La galeria d’Art Chez Xefo presenta la nova exposició “Silencis” de Josep M. Morreres. \nEs podrà gaudir de l´exposició fins al 3 de juny.
URL:https://poblenouurbandistrict.com/ca/agenda/exposicio-silencis/2022-05-12/
LOCATION:Chez Xefo\, Carrer de Badajoz\, 46\, Barcelona\, 08005
CATEGORIES:Art,Exposició
ATTACH;FMTTYPE=image/jpeg:https://media.poblenouurbandistrict.com/2022/05/25051512/271852795-1014210952524997-903231879272713404-n.jpeg
END:VEVENT
END:VCALENDAR