BEGIN:VCALENDAR
VERSION:2.0
PRODID:-//Poblenou Urban District - ECPv6.15.20//NONSGML v1.0//EN
CALSCALE:GREGORIAN
METHOD:PUBLISH
X-WR-CALNAME:Poblenou Urban District
X-ORIGINAL-URL:https://poblenouurbandistrict.com/ca
X-WR-CALDESC:Esdeveniments per Poblenou Urban District
REFRESH-INTERVAL;VALUE=DURATION:PT1H
X-Robots-Tag:noindex
X-PUBLISHED-TTL:PT1H
BEGIN:VTIMEZONE
TZID:Europe/Madrid
BEGIN:DAYLIGHT
TZOFFSETFROM:+0100
TZOFFSETTO:+0200
TZNAME:CEST
DTSTART:20210328T010000
END:DAYLIGHT
BEGIN:STANDARD
TZOFFSETFROM:+0200
TZOFFSETTO:+0100
TZNAME:CET
DTSTART:20211031T010000
END:STANDARD
BEGIN:DAYLIGHT
TZOFFSETFROM:+0100
TZOFFSETTO:+0200
TZNAME:CEST
DTSTART:20220327T010000
END:DAYLIGHT
BEGIN:STANDARD
TZOFFSETFROM:+0200
TZOFFSETTO:+0100
TZNAME:CET
DTSTART:20221030T010000
END:STANDARD
BEGIN:DAYLIGHT
TZOFFSETFROM:+0100
TZOFFSETTO:+0200
TZNAME:CEST
DTSTART:20230326T010000
END:DAYLIGHT
BEGIN:STANDARD
TZOFFSETFROM:+0200
TZOFFSETTO:+0100
TZNAME:CET
DTSTART:20231029T010000
END:STANDARD
END:VTIMEZONE
BEGIN:VEVENT
DTSTART;TZID=Europe/Madrid:20220521T110000
DTEND;TZID=Europe/Madrid:20220521T150000
DTSTAMP:20260420T180715
CREATED:20220519T105108Z
LAST-MODIFIED:20220519T162440Z
UID:10003539-1653130800-1653145200@poblenouurbandistrict.com
SUMMARY:[:ca]Trobada amb els artistes de la exposició "Construcciones Analógicas»[:es]Encuentro con los artistas de la exposición "Construcciones Analógicas»[:]
DESCRIPTION:La galeria La Plataforma contarà amb la presència dels artistes Paul Ekaitz i José Hernández-Diez duran el matí de dissabte 21 de maig de 11 a 15h. \nL’exposició\,  que es podrà visitar fins el cinc de juny\, rescata en el moment exacte idees brillants de tots dos artistes i representa l’oportunitat perfecta per a crear un “cadàver exquisit’’\, perquè mai és tard per a impregnar amb nostàlgia punk la fascinació pel foc\, la llum i la persistència de la imatge. \n20 anys després de l’última peça de videoart que presenta José Antonio i 20 anys després que Paul rebi el premi INJUVE (Institut de la Joventut\, Espanya) dos grans col·legues i talentosos creadors propicien aquest espai de diàleg a La Plataforma.
URL:https://poblenouurbandistrict.com/ca/agenda/trobada-amb-els-artistes-de-la-exposicio-construcciones-analogicas/
LOCATION:La Plataforma\, Pujades 99\, bxs.\, Barcelona\, Catalunya\, España
CATEGORIES:Art,Exposició
ATTACH;FMTTYPE=image/jpeg:https://media.poblenouurbandistrict.com/2022/05/25051846/newsletter22-construcciones-analogicas-scaled.jpg
ORGANIZER;CN="La Plataforma":MAILTO:bcnplataforma@gmail.com
END:VEVENT
BEGIN:VEVENT
DTSTART;TZID=Europe/Madrid:20220521T120000
DTEND;TZID=Europe/Madrid:20220521T130000
DTSTAMP:20260420T180715
CREATED:20220519T140546Z
LAST-MODIFIED:20220519T140546Z
UID:10003542-1653134400-1653138000@poblenouurbandistrict.com
SUMMARY:[:ca]Visita guiada a la col·lecció de pintura contemporània catalana[:es]Visita guiada a la colección de pintura contemporánea catalana[:en]Guided visit of the collection of contemporary Catalan paintings[:]
DESCRIPTION:El Museu Can Framis ofereix una visita comentada a l’exposició permanent Monòleg\, diàleg i concepte\, que reuneix prop de 300 peces d’artistes contemporanis catalans.
URL:https://poblenouurbandistrict.com/ca/agenda/visita-guiada-a-la-col%c2%b7leccio-de-pintura-contemporania-catalana/2022-05-21/
LOCATION:Museu Can Framis\, carrer de Roc Boronat\, 116\, 126\, Barcelona\, Barcelona\, 08018\, Espanya
CATEGORIES:Art,Exposició,Xerrada
ATTACH;FMTTYPE=image/jpeg:https://media.poblenouurbandistrict.com/2022/03/25045427/screenshot-2022-03-17-at-153943.jpg
END:VEVENT
BEGIN:VEVENT
DTSTART;TZID=Europe/Madrid:20220521T153000
DTEND;TZID=Europe/Madrid:20220521T193000
DTSTAMP:20260420T180715
CREATED:20220520T105732Z
LAST-MODIFIED:20220520T105732Z
UID:10003576-1653147000-1653161400@poblenouurbandistrict.com
SUMMARY:Festival: ENEMIGOS ÍNTIMOS
DESCRIPTION:Torna ENEMIGOS ÍNTIMOS\, el segon Festival d’Arts Escèniques i Improvisació de Si Los Martes Fueran Viernes\, que tindrà lloc en UTOPIA126 el pròxim dissabte 21 de maig de 15:30 a 19:30 hs.
URL:https://poblenouurbandistrict.com/ca/agenda/festival-enemigos-intimos/
LOCATION:Utopia 126\, C/ de Cristóbal de Moura\, Barcelona\, 08019
CATEGORIES:Art,Exposició,Teatre
ATTACH;FMTTYPE=image/jpeg:https://media.poblenouurbandistrict.com/2022/05/25051851/enemigosintimosfinal.jpg
END:VEVENT
END:VCALENDAR