BEGIN:VCALENDAR
VERSION:2.0
PRODID:-//Poblenou Urban District - ECPv6.15.20//NONSGML v1.0//EN
CALSCALE:GREGORIAN
METHOD:PUBLISH
X-WR-CALNAME:Poblenou Urban District
X-ORIGINAL-URL:https://poblenouurbandistrict.com/ca
X-WR-CALDESC:Esdeveniments per Poblenou Urban District
REFRESH-INTERVAL;VALUE=DURATION:PT1H
X-Robots-Tag:noindex
X-PUBLISHED-TTL:PT1H
BEGIN:VTIMEZONE
TZID:Europe/Madrid
BEGIN:DAYLIGHT
TZOFFSETFROM:+0100
TZOFFSETTO:+0200
TZNAME:CEST
DTSTART:20210328T010000
END:DAYLIGHT
BEGIN:STANDARD
TZOFFSETFROM:+0200
TZOFFSETTO:+0100
TZNAME:CET
DTSTART:20211031T010000
END:STANDARD
BEGIN:DAYLIGHT
TZOFFSETFROM:+0100
TZOFFSETTO:+0200
TZNAME:CEST
DTSTART:20220327T010000
END:DAYLIGHT
BEGIN:STANDARD
TZOFFSETFROM:+0200
TZOFFSETTO:+0100
TZNAME:CET
DTSTART:20221030T010000
END:STANDARD
BEGIN:DAYLIGHT
TZOFFSETFROM:+0100
TZOFFSETTO:+0200
TZNAME:CEST
DTSTART:20230326T010000
END:DAYLIGHT
BEGIN:STANDARD
TZOFFSETFROM:+0200
TZOFFSETTO:+0100
TZNAME:CET
DTSTART:20231029T010000
END:STANDARD
END:VTIMEZONE
BEGIN:VEVENT
DTSTART;TZID=Europe/Madrid:20220530T100000
DTEND;TZID=Europe/Madrid:20220603T190000
DTSTAMP:20260420T180638
CREATED:20220628T093516Z
LAST-MODIFIED:20220628T093516Z
UID:10003358-1653904800-1654282800@poblenouurbandistrict.com
SUMMARY:[:ca]Exposició: ÀFRICA[:es]Exposición: ÀFRICA[:en]Exhibition: ÀFRICA[:]
DESCRIPTION:Piramidó presenta l’exposició individual de l’antic artista residents Khalid El Bekay (Casablanca\, 1966). La mostra es compon de les obres més recents dels artistes\, on es pot observar un salt evolutiu a la seva carrera pictòrica. Mitjançant l’ús d’elements i tècniques recurrents en la producció artística\, l’artista representa per primer cop l’ésser humà i el seu entorn.
URL:https://poblenouurbandistrict.com/ca/agenda/exposicio-africa/2022-05-30/
LOCATION:Piramidón\, Centre D’art Contemporani\, Carrer del Concili de Trento\, 313\, Barcelona\, Barcelona\, 08020\, Espanya
CATEGORIES:Art,Exposició
ATTACH;FMTTYPE=image/jpeg:https://media.poblenouurbandistrict.com/2022/06/25053240/capture-decran-2022-06-28-a-112913.jpg
END:VEVENT
BEGIN:VEVENT
DTSTART;TZID=Europe/Madrid:20220530T100000
DTEND;TZID=Europe/Madrid:20220603T190000
DTSTAMP:20260420T180638
CREATED:20220628T094347Z
LAST-MODIFIED:20220720T090732Z
UID:10003371-1653904800-1654282800@poblenouurbandistrict.com
SUMMARY:[:ca]Exposició: 2022_N2[:es]Exposición: 2022_N2[:en]Exhibition: 2022_N2[:]
DESCRIPTION:Artistas: Jose Bonell\, Pepe Castellanos\, Yamandú Canosa\, Tono Carbajo\, Rosanna Casano\, Iván Franco\, Dedé Lins\, Ana Monsó\, Marco Noris\, Pol Pintó\, Stella Rahola\, Eduard Resbier\, Pere de Ribot\, Kati Riquelme y Estefanía Urrutia.
URL:https://poblenouurbandistrict.com/ca/agenda/exposicio-2022_n2/2022-05-30/
LOCATION:Piramidón\, Centre D’art Contemporani\, Carrer del Concili de Trento\, 313\, Barcelona\, Barcelona\, 08020\, Espanya
CATEGORIES:Art,Exposició
ATTACH;FMTTYPE=image/jpeg:https://media.poblenouurbandistrict.com/2022/06/25053242/capture-decran-2022-06-28-a-114221.jpg
END:VEVENT
BEGIN:VEVENT
DTSTART;TZID=Europe/Madrid:20220531T110000
DTEND;TZID=Europe/Madrid:20220605T180000
DTSTAMP:20260420T180638
CREATED:20220511T143132Z
LAST-MODIFIED:20220912T141204Z
UID:10003429-1653994800-1654452000@poblenouurbandistrict.com
SUMMARY:[:ca]Exposició: Stella Rahola Matutes - L’Habitació de les Desateses[:es]Exposición: Stella Rahola Matutes - L’Habitació de les Desateses[:en]Exhibition: Stella Rahola Matutes - L’Habitació de les Desateses[:]
DESCRIPTION:Stella Rahola Matutes reivindica la materialitat com a substància sempre subjecta al canvi\, ja sigui a través d’una implicació amb éssers humans i no humans i de la seva manipulació\, la interacció amb el seu entorn o la vida dinàmica de les seves reaccions químiques. Aquesta qüestió implica políticament considerar els processos de fabricació i les seves relacions associades de poder\, això és\, les treballadores\, les seves eines i els espais de producció. \nInauguració: dilluns 30 de maig a les 19 hs. \nDel 31 de maig al 18 de setembre \nTancat els dilluns
URL:https://poblenouurbandistrict.com/ca/agenda/exposicio-stella-rahola-matutes-lhabitacio-de-les-desateses/2022-05-31/
LOCATION:Museu Can Framis\, carrer de Roc Boronat\, 116\, 126\, Barcelona\, Barcelona\, 08018\, Espanya
CATEGORIES:Art,Exposició
ATTACH;FMTTYPE=image/jpeg:https://media.poblenouurbandistrict.com/2022/05/25051526/screenshot-2022-05-11-at-162652.jpg
END:VEVENT
BEGIN:VEVENT
DTSTART;TZID=Europe/Madrid:20220602T100000
DTEND;TZID=Europe/Madrid:20220602T200000
DTSTAMP:20260420T180638
CREATED:20220504T135009Z
LAST-MODIFIED:20220504T135009Z
UID:10003320-1654164000-1654200000@poblenouurbandistrict.com
SUMMARY:[:ca]Exposició: Construcciones Analógicas[:es]Exposición: Construcciones Analógicas[:en]Exhibition: Construcciones Analógicas[:]
DESCRIPTION:El pròxim 7 de maig\, La Plataforma inaugura “Construccions Analògiques”\, una col·laboració entre els artistes Paul Ekaitz i José Hernández-Deu que rescata en el moment exacte idees brillants de tots dos artistes i representa l’oportunitat perfecta per a crear un “cadàver exquisit”\, perquè mai és tard per a impregnar amb nostàlgia punk la fascinació pel foc\, la llum i la persistència de la imatge. \nDisponible fins al 5 de juny.
URL:https://poblenouurbandistrict.com/ca/agenda/exposicio-construcciones-analogicas/2022-06-02/
LOCATION:La Plataforma\, Pujades 99\, bxs.\, Barcelona\, Catalunya\, España
CATEGORIES:Art,Exposició
ATTACH;FMTTYPE=image/jpeg:https://media.poblenouurbandistrict.com/2022/05/25051114/279358461-688309769053963-6023891661999423393-n.jpg
ORGANIZER;CN="La Plataforma":MAILTO:bcnplataforma@gmail.com
END:VEVENT
BEGIN:VEVENT
DTSTART;TZID=Europe/Madrid:20220602T110000
DTEND;TZID=Europe/Madrid:20220602T180000
DTSTAMP:20260420T180638
CREATED:20220519T155846Z
LAST-MODIFIED:20220519T155846Z
UID:10003557-1654167600-1654192800@poblenouurbandistrict.com
SUMMARY:[:ca]Exposició: PATRIM’21. On habita la pols[:es]Exposición: PATRIM’21. Donde habita el polvo[:en]Exhibition: PATRIM’21. Where dust lives[:]
DESCRIPTION:Patrim és una selecció de les millors obres artístiques de l’alumnat del darrer any de carrera de la Facultat de Belles Arts que han estat adquirides per formar part de la Col·lecció Belles Arts de la Universitat de Barcelona. \nL’edició Patrim 2021 ha estat marcada fortament per la situació de pandèmia que hem viscut en el darrer any i ha condicionat els processos de creació artística\, com ara la materialització dels projectes en diferents llenguatges i suports. \nFins al 15 de juny.
URL:https://poblenouurbandistrict.com/ca/agenda/exposicio-patrim21-on-habita-la-pols/2022-06-02/
LOCATION:Museu Can Framis\, carrer de Roc Boronat\, 116\, 126\, Barcelona\, Barcelona\, 08018\, Espanya
CATEGORIES:Art,Exposició
ATTACH;FMTTYPE=image/jpeg:https://media.poblenouurbandistrict.com/2022/05/25051842/screenshot-2022-05-19-at-175646.jpg
END:VEVENT
BEGIN:VEVENT
DTSTART;TZID=Europe/Madrid:20220602T170000
DTEND;TZID=Europe/Madrid:20220602T210000
DTSTAMP:20260420T180638
CREATED:20220511T101004Z
LAST-MODIFIED:20220512T135001Z
UID:10003424-1654189200-1654203600@poblenouurbandistrict.com
SUMMARY:[:ca]Exposició: Silencis[:es]Exposición: Silencis[:en]Exhibition: Silencis[:]
DESCRIPTION:La galeria d’Art Chez Xefo presenta la nova exposició “Silencis” de Josep M. Morreres. \nEs podrà gaudir de l´exposició fins al 3 de juny.
URL:https://poblenouurbandistrict.com/ca/agenda/exposicio-silencis/2022-06-02/
LOCATION:Chez Xefo\, Carrer de Badajoz\, 46\, Barcelona\, 08005
CATEGORIES:Art,Exposició
ATTACH;FMTTYPE=image/jpeg:https://media.poblenouurbandistrict.com/2022/05/25051512/271852795-1014210952524997-903231879272713404-n.jpeg
END:VEVENT
END:VCALENDAR