BEGIN:VCALENDAR
VERSION:2.0
PRODID:-//Poblenou Urban District - ECPv6.15.20//NONSGML v1.0//EN
CALSCALE:GREGORIAN
METHOD:PUBLISH
X-ORIGINAL-URL:https://poblenouurbandistrict.com/ca
X-WR-CALDESC:Esdeveniments per Poblenou Urban District
REFRESH-INTERVAL;VALUE=DURATION:PT1H
X-Robots-Tag:noindex
X-PUBLISHED-TTL:PT1H
BEGIN:VTIMEZONE
TZID:Europe/Madrid
BEGIN:DAYLIGHT
TZOFFSETFROM:+0100
TZOFFSETTO:+0200
TZNAME:CEST
DTSTART:20210328T010000
END:DAYLIGHT
BEGIN:STANDARD
TZOFFSETFROM:+0200
TZOFFSETTO:+0100
TZNAME:CET
DTSTART:20211031T010000
END:STANDARD
BEGIN:DAYLIGHT
TZOFFSETFROM:+0100
TZOFFSETTO:+0200
TZNAME:CEST
DTSTART:20220327T010000
END:DAYLIGHT
BEGIN:STANDARD
TZOFFSETFROM:+0200
TZOFFSETTO:+0100
TZNAME:CET
DTSTART:20221030T010000
END:STANDARD
BEGIN:DAYLIGHT
TZOFFSETFROM:+0100
TZOFFSETTO:+0200
TZNAME:CEST
DTSTART:20230326T010000
END:DAYLIGHT
BEGIN:STANDARD
TZOFFSETFROM:+0200
TZOFFSETTO:+0100
TZNAME:CET
DTSTART:20231029T010000
END:STANDARD
END:VTIMEZONE
BEGIN:VEVENT
DTSTART;TZID=Europe/Madrid:20220603T100000
DTEND;TZID=Europe/Madrid:20220828T200000
DTSTAMP:20260420T162434
CREATED:20220602T133754Z
LAST-MODIFIED:20220719T081014Z
UID:10003276-1654250400-1661716800@poblenouurbandistrict.com
SUMMARY:[:ca]Exposició: El millor disseny de l'any[:es]Exposición: El mejor diseño del año[:en]Exhibition: The best design of the year[:]
DESCRIPTION:Una valuosa panoràmica del millor disseny de l’any amb les propostes més destacades en disseny gràfic i comunicació visual\, disseny industrial\, arquitectura i interiorisme. \nDisponible fins al 28 d’agost. \nTancat els dilluns
URL:https://poblenouurbandistrict.com/ca/agenda/exposicio-el-millor-disseny-de-lany/
LOCATION:Museu del Disseny\, Plaça de les Glòries Catalanes\,\, 37\, Barcelona\, Barcelona\, 08018\, Espanya
CATEGORIES:Art,Exposició
ATTACH;FMTTYPE=image/jpeg:https://media.poblenouurbandistrict.com/2022/06/25052545/screenshot-2022-06-02-at-153711.jpg
END:VEVENT
BEGIN:VEVENT
DTSTART;TZID=Europe/Madrid:20220609T100000
DTEND;TZID=Europe/Madrid:20220828T200000
DTSTAMP:20260420T162434
CREATED:20220519T132809Z
LAST-MODIFIED:20220627T100116Z
UID:10003540-1654768800-1661716800@poblenouurbandistrict.com
SUMMARY:[:ca]Exposició: Transgressions[:es]Exposición: Transgresiones[:en]Exhibition: Transgressions[:]
DESCRIPTION:La mostra\, una producció pròpia del Museu del Disseny de Barcelona\, exhibirà la nova col·lecció de ceràmica contemporània\, posant l’accent en un moment creatiu de contrastos\, crítica i reflexió sobre temes d’actualitat. \nTancat els dilluns
URL:https://poblenouurbandistrict.com/ca/agenda/exposicio-transgressions/
LOCATION:Museu del Disseny\, Plaça de les Glòries Catalanes\,\, 37\, Barcelona\, Barcelona\, 08018\, Espanya
CATEGORIES:Art,Exposició
ATTACH;FMTTYPE=image/jpeg:https://media.poblenouurbandistrict.com/2022/05/25051740/screenshot-2022-05-19-at-152701.jpg
END:VEVENT
BEGIN:VEVENT
DTSTART;TZID=Europe/Madrid:20220609T190000
DTEND;TZID=Europe/Madrid:20220701T210000
DTSTAMP:20260420T162434
CREATED:20220607T091815Z
LAST-MODIFIED:20220627T100940Z
UID:10003851-1654801200-1656709200@poblenouurbandistrict.com
SUMMARY:[:ca]Exposició: L'Art que ens fa lliures[:es]Exposición: El Arte que nos hace libres[:en]Exhibition: The Art that sets us free.[:]
DESCRIPTION:Nova exposició en la galeria Chez Xefo de l’artista de Sitges Arantza Liceaga. \nInauguració el 9 de juny a les 19 hs. \nDisponible fins a l’1 de juliol. \nTancat els dilluns i els caps de setmana
URL:https://poblenouurbandistrict.com/ca/agenda/exposicio-lart-que-ens-fa-lliures/
LOCATION:Chez Xefo\, Carrer de Badajoz\, 46\, Barcelona\, 08005
CATEGORIES:Art,Exposició
ATTACH;FMTTYPE=image/jpeg:https://media.poblenouurbandistrict.com/2022/06/25052657/screenshot-2022-06-07-at-111703.jpg
END:VEVENT
BEGIN:VEVENT
DTSTART;TZID=Europe/Madrid:20220620T090000
DTEND;TZID=Europe/Madrid:20220624T140000
DTSTAMP:20260420T162434
CREATED:20220628T092438Z
LAST-MODIFIED:20220628T092438Z
UID:10003352-1655715600-1656079200@poblenouurbandistrict.com
SUMMARY:[:ca]Exposició: "Loneliness or Me-Time?"[:es]Exposición: "Loneliness or Me-Time?"[:en]Exhibition: "Loneliness or Me-Time?"[:]
DESCRIPTION:Exposició de l’artista Ana Jarén a The Folio Club. Del 3 de juny al 8 de juliol. \nA la societat en què vivim\, l’alt ritme del dia a dia\, les tecnologies\, els excessius estímuls\, les xarxes socials\, els compromisos\, entre tantes coses\, ens poden portar a situacions de solitud. De vegades buscada i abraçada de bon grat i en altres ocasions ens tanca contra la nostra voluntat. \nEls mateixos estímuls externs poden portar-nos a aquesta solitud que\, segons la persona i les seves circumstàncies\, pot ser un moment hedonista de celebració del Me-time o una situació de tristesa i solitud no triada.
URL:https://poblenouurbandistrict.com/ca/agenda/exposicio-loneliness-or-me-time/2022-06-20/
LOCATION:The Folio Club\, Carrer de Roc Boronat\, 37\, Barcelona\, 08005
CATEGORIES:Art,Exposició
ATTACH;FMTTYPE=image/jpeg:https://media.poblenouurbandistrict.com/2022/06/25053238/capture-decran-2022-06-28-a-110902.jpg
END:VEVENT
BEGIN:VEVENT
DTSTART;TZID=Europe/Madrid:20220620T100000
DTEND;TZID=Europe/Madrid:20220624T190000
DTSTAMP:20260420T162434
CREATED:20220610T090904Z
LAST-MODIFIED:20220912T153820Z
UID:10003811-1655719200-1656097200@poblenouurbandistrict.com
SUMMARY:[:ca]Exposició: Headspace[:es]Exposición: Headspace[:en]Exhibition: Headspace[:]
DESCRIPTION:La Plataforma\, galeria d’art contemporani i estudi de producció\, obre les portes el pròxim 16 de juny a les 19h per presentar l’exposició “Headspace”\, que mostrarà les obres de les artistes Amalia Caputo\, Janice Sloane\, Eugenia Vargas Pereira i Michelle Weinberg. \nHeadspace\, exposició curada per Amalia Caputo\, proposa teixir a través de l’obra d’aquestes quatre artistes\, fils i embolics conceptuals que desvelen diferents facetes del procés mental en què vivim en època de post pandèmia\, crisi ambiental i neguit generalitzat\, produït pels conflictes mundials en un ampli sentit\, des de la pregunta: com veiem\, sentim i pensem el món les dones? \nHeadspace es podrà visitar fins al 9 de setembre dins de l’horari habitual de la galeria: \nL – 10:00-14:00 i 15:00-18:00\nM\, M\, J\, V – 10:00-14:00 i 15:00-19:00\nS – obert per a esdeveniments especials \nDel 16 de juny al 9 de setembre
URL:https://poblenouurbandistrict.com/ca/agenda/exposicio-headspace/2022-06-20/
LOCATION:La Plataforma\, Pujades 99\, bxs.\, Barcelona\, Catalunya\, España
CATEGORIES:Art,Exposició
ATTACH;FMTTYPE=image/jpeg:https://media.poblenouurbandistrict.com/2022/06/25052935/screenshot-2022-06-10-at-110820.jpg
ORGANIZER;CN="La Plataforma":MAILTO:bcnplataforma@gmail.com
END:VEVENT
BEGIN:VEVENT
DTSTART;TZID=Europe/Madrid:20220620T100000
DTEND;TZID=Europe/Madrid:20220624T190000
DTSTAMP:20260420T162434
CREATED:20220628T093516Z
LAST-MODIFIED:20220628T093516Z
UID:10003361-1655719200-1656097200@poblenouurbandistrict.com
SUMMARY:[:ca]Exposició: ÀFRICA[:es]Exposición: ÀFRICA[:en]Exhibition: ÀFRICA[:]
DESCRIPTION:Piramidó presenta l’exposició individual de l’antic artista residents Khalid El Bekay (Casablanca\, 1966). La mostra es compon de les obres més recents dels artistes\, on es pot observar un salt evolutiu a la seva carrera pictòrica. Mitjançant l’ús d’elements i tècniques recurrents en la producció artística\, l’artista representa per primer cop l’ésser humà i el seu entorn.
URL:https://poblenouurbandistrict.com/ca/agenda/exposicio-africa/2022-06-20/
LOCATION:Piramidón\, Centre D’art Contemporani\, Carrer del Concili de Trento\, 313\, Barcelona\, Barcelona\, 08020\, Espanya
CATEGORIES:Art,Exposició
ATTACH;FMTTYPE=image/jpeg:https://media.poblenouurbandistrict.com/2022/06/25053240/capture-decran-2022-06-28-a-112913.jpg
END:VEVENT
BEGIN:VEVENT
DTSTART;TZID=Europe/Madrid:20220620T100000
DTEND;TZID=Europe/Madrid:20220624T190000
DTSTAMP:20260420T162434
CREATED:20220628T094347Z
LAST-MODIFIED:20220720T090732Z
UID:10003374-1655719200-1656097200@poblenouurbandistrict.com
SUMMARY:[:ca]Exposició: 2022_N2[:es]Exposición: 2022_N2[:en]Exhibition: 2022_N2[:]
DESCRIPTION:Artistas: Jose Bonell\, Pepe Castellanos\, Yamandú Canosa\, Tono Carbajo\, Rosanna Casano\, Iván Franco\, Dedé Lins\, Ana Monsó\, Marco Noris\, Pol Pintó\, Stella Rahola\, Eduard Resbier\, Pere de Ribot\, Kati Riquelme y Estefanía Urrutia.
URL:https://poblenouurbandistrict.com/ca/agenda/exposicio-2022_n2/2022-06-20/
LOCATION:Piramidón\, Centre D’art Contemporani\, Carrer del Concili de Trento\, 313\, Barcelona\, Barcelona\, 08020\, Espanya
CATEGORIES:Art,Exposició
ATTACH;FMTTYPE=image/jpeg:https://media.poblenouurbandistrict.com/2022/06/25053242/capture-decran-2022-06-28-a-114221.jpg
END:VEVENT
BEGIN:VEVENT
DTSTART;TZID=Europe/Madrid:20220621T110000
DTEND;TZID=Europe/Madrid:20220626T180000
DTSTAMP:20260420T162434
CREATED:20220511T143132Z
LAST-MODIFIED:20220912T141204Z
UID:10003432-1655809200-1656266400@poblenouurbandistrict.com
SUMMARY:[:ca]Exposició: Stella Rahola Matutes - L’Habitació de les Desateses[:es]Exposición: Stella Rahola Matutes - L’Habitació de les Desateses[:en]Exhibition: Stella Rahola Matutes - L’Habitació de les Desateses[:]
DESCRIPTION:Stella Rahola Matutes reivindica la materialitat com a substància sempre subjecta al canvi\, ja sigui a través d’una implicació amb éssers humans i no humans i de la seva manipulació\, la interacció amb el seu entorn o la vida dinàmica de les seves reaccions químiques. Aquesta qüestió implica políticament considerar els processos de fabricació i les seves relacions associades de poder\, això és\, les treballadores\, les seves eines i els espais de producció. \nInauguració: dilluns 30 de maig a les 19 hs. \nDel 31 de maig al 18 de setembre \nTancat els dilluns
URL:https://poblenouurbandistrict.com/ca/agenda/exposicio-stella-rahola-matutes-lhabitacio-de-les-desateses/2022-06-21/
LOCATION:Museu Can Framis\, carrer de Roc Boronat\, 116\, 126\, Barcelona\, Barcelona\, 08018\, Espanya
CATEGORIES:Art,Exposició
ATTACH;FMTTYPE=image/jpeg:https://media.poblenouurbandistrict.com/2022/05/25051526/screenshot-2022-05-11-at-162652.jpg
END:VEVENT
BEGIN:VEVENT
DTSTART;TZID=Europe/Madrid:20220622T080000
DTEND;TZID=Europe/Madrid:20220629T200000
DTSTAMP:20260420T162434
CREATED:20220623T120946Z
LAST-MODIFIED:20220627T083516Z
UID:10003860-1655884800-1656532800@poblenouurbandistrict.com
SUMMARY:[:ca]Exposició: Extended Interactions[:es]Exposición: Extended Interactions[:]
DESCRIPTION:Del 22 al 29 de juny la nau Escoleta acull “Extended Interactions”\, una exhibició que amalgama una diversitat d’enfocaments sobre les interaccions de l’humà amb el seu entorn des d’un futur bio-tecnològic. \nDes d’un present caòtic\, marcat per crisis ambientals\, socials i un determinisme tecnològic cada vegada més evident\, els estudiants del Màster en Disseny de Futurs Emergents del IAAC (Institut d’Arquitectura Avançada de Catalunya) porten a l’extrem les seves propostes de disseny. \n“Extended Interactions” exhibeix diferents acostaments sobre les relacions entre l’humà i el no-humà\, les seves interaccions amb la tecnologia i els sentits més enllà de l’ordinari; les olors\, les fruites\, els paràsits i l’espirulina són exploracions que convergeixen en prototips\, artefactes\, mostres audiovisuals i tecnologia interactiva en aquesta mostra a la qual et convidem a assistir. \n  \nActivitats \n23.06 > 15:30h / 16:30h Open Table discussion Epoch on the Greedy Parasite\n23.06 > 16:30h / 18:30h Workshop Sensing Biomachines \n27.06 > 17:30h / 18:30h Open Discussion Tech and Soma \n29.06 > 12:00h / 15:00h Closure Event \nOrganiza\nIAAC – Elisava – Fab Lab Barcelona \nColabora\nFundació Palo Alto
URL:https://poblenouurbandistrict.com/ca/agenda/extended-interactions/
LOCATION:Palo Alto\, Carrer dels Pellaires\, 30 - 38\, Barcelona\, 08019
CATEGORIES:Art,Xerrada
ATTACH;FMTTYPE=image/jpeg:https://media.poblenouurbandistrict.com/2022/06/25053159/iaac1.jpeg
END:VEVENT
END:VCALENDAR