BEGIN:VCALENDAR
VERSION:2.0
PRODID:-//Poblenou Urban District - ECPv6.15.20//NONSGML v1.0//EN
CALSCALE:GREGORIAN
METHOD:PUBLISH
X-ORIGINAL-URL:https://poblenouurbandistrict.com/ca
X-WR-CALDESC:Esdeveniments per Poblenou Urban District
REFRESH-INTERVAL;VALUE=DURATION:PT1H
X-Robots-Tag:noindex
X-PUBLISHED-TTL:PT1H
BEGIN:VTIMEZONE
TZID:Europe/Madrid
BEGIN:DAYLIGHT
TZOFFSETFROM:+0100
TZOFFSETTO:+0200
TZNAME:CEST
DTSTART:20210328T010000
END:DAYLIGHT
BEGIN:STANDARD
TZOFFSETFROM:+0200
TZOFFSETTO:+0100
TZNAME:CET
DTSTART:20211031T010000
END:STANDARD
BEGIN:DAYLIGHT
TZOFFSETFROM:+0100
TZOFFSETTO:+0200
TZNAME:CEST
DTSTART:20220327T010000
END:DAYLIGHT
BEGIN:STANDARD
TZOFFSETFROM:+0200
TZOFFSETTO:+0100
TZNAME:CET
DTSTART:20221030T010000
END:STANDARD
BEGIN:DAYLIGHT
TZOFFSETFROM:+0100
TZOFFSETTO:+0200
TZNAME:CEST
DTSTART:20230326T010000
END:DAYLIGHT
BEGIN:STANDARD
TZOFFSETFROM:+0200
TZOFFSETTO:+0100
TZNAME:CET
DTSTART:20231029T010000
END:STANDARD
END:VTIMEZONE
BEGIN:VEVENT
DTSTART;TZID=Europe/Madrid:20220708T100000
DTEND;TZID=Europe/Madrid:20220904T200000
DTSTAMP:20260420T111828
CREATED:20220615T093437Z
LAST-MODIFIED:20220725T101337Z
UID:10003830-1657274400-1662321600@poblenouurbandistrict.com
SUMMARY:[:ca]Exposició: Salvapantalles fantasma[:es]Exposición: Salvapantallas fantasma[:en]Exhibition: Ghost Screensaver[:]
DESCRIPTION:Dins del programa Creació i Museus us convidem a visitar\, al Museu del Disseny\, Salvapantalles fantasma. A partir d’una instal·lació audiovisual formada per diversos televisors “obsolets” i per un sistema d’emissió de televisió analògica\, Daniel Moreno Roldán vol reflexionar sobre la cultura actual del tecnoprogrés\, l’obsolescència i la nostàlgia vers la tecnologia. \nTancat els dilluns
URL:https://poblenouurbandistrict.com/ca/agenda/exposicio-salvapantalles-fantasma/
LOCATION:Museu del Disseny\, Plaça de les Glòries Catalanes\,\, 37\, Barcelona\, Barcelona\, 08018\, Espanya
CATEGORIES:Art,Audiovisual,Exposició
ATTACH;FMTTYPE=image/jpeg:https://media.poblenouurbandistrict.com/2022/06/25053002/screenshot-2022-06-15-at-113348.jpg
END:VEVENT
BEGIN:VEVENT
DTSTART;TZID=Europe/Madrid:20220829T100000
DTEND;TZID=Europe/Madrid:20220902T190000
DTSTAMP:20260420T111828
CREATED:20220610T090904Z
LAST-MODIFIED:20220912T153820Z
UID:10003821-1661767200-1662145200@poblenouurbandistrict.com
SUMMARY:[:ca]Exposició: Headspace[:es]Exposición: Headspace[:en]Exhibition: Headspace[:]
DESCRIPTION:La Plataforma\, galeria d’art contemporani i estudi de producció\, obre les portes el pròxim 16 de juny a les 19h per presentar l’exposició “Headspace”\, que mostrarà les obres de les artistes Amalia Caputo\, Janice Sloane\, Eugenia Vargas Pereira i Michelle Weinberg. \nHeadspace\, exposició curada per Amalia Caputo\, proposa teixir a través de l’obra d’aquestes quatre artistes\, fils i embolics conceptuals que desvelen diferents facetes del procés mental en què vivim en època de post pandèmia\, crisi ambiental i neguit generalitzat\, produït pels conflictes mundials en un ampli sentit\, des de la pregunta: com veiem\, sentim i pensem el món les dones? \nHeadspace es podrà visitar fins al 9 de setembre dins de l’horari habitual de la galeria: \nL – 10:00-14:00 i 15:00-18:00\nM\, M\, J\, V – 10:00-14:00 i 15:00-19:00\nS – obert per a esdeveniments especials \nDel 16 de juny al 9 de setembre
URL:https://poblenouurbandistrict.com/ca/agenda/exposicio-headspace/2022-08-29/
LOCATION:La Plataforma\, Pujades 99\, bxs.\, Barcelona\, Catalunya\, España
CATEGORIES:Art,Exposició
ATTACH;FMTTYPE=image/jpeg:https://media.poblenouurbandistrict.com/2022/06/25052935/screenshot-2022-06-10-at-110820.jpg
ORGANIZER;CN="La Plataforma":MAILTO:bcnplataforma@gmail.com
END:VEVENT
END:VCALENDAR