BEGIN:VCALENDAR
VERSION:2.0
PRODID:-//Poblenou Urban District - ECPv6.15.20//NONSGML v1.0//EN
CALSCALE:GREGORIAN
METHOD:PUBLISH
X-ORIGINAL-URL:https://poblenouurbandistrict.com/ca
X-WR-CALDESC:Esdeveniments per Poblenou Urban District
REFRESH-INTERVAL;VALUE=DURATION:PT1H
X-Robots-Tag:noindex
X-PUBLISHED-TTL:PT1H
BEGIN:VTIMEZONE
TZID:Europe/Madrid
BEGIN:DAYLIGHT
TZOFFSETFROM:+0100
TZOFFSETTO:+0200
TZNAME:CEST
DTSTART:20210328T010000
END:DAYLIGHT
BEGIN:STANDARD
TZOFFSETFROM:+0200
TZOFFSETTO:+0100
TZNAME:CET
DTSTART:20211031T010000
END:STANDARD
BEGIN:DAYLIGHT
TZOFFSETFROM:+0100
TZOFFSETTO:+0200
TZNAME:CEST
DTSTART:20220327T010000
END:DAYLIGHT
BEGIN:STANDARD
TZOFFSETFROM:+0200
TZOFFSETTO:+0100
TZNAME:CET
DTSTART:20221030T010000
END:STANDARD
BEGIN:DAYLIGHT
TZOFFSETFROM:+0100
TZOFFSETTO:+0200
TZNAME:CEST
DTSTART:20230326T010000
END:DAYLIGHT
BEGIN:STANDARD
TZOFFSETFROM:+0200
TZOFFSETTO:+0100
TZNAME:CET
DTSTART:20231029T010000
END:STANDARD
END:VTIMEZONE
BEGIN:VEVENT
DTSTART;TZID=Europe/Madrid:20220912T080000
DTEND;TZID=Europe/Madrid:20220916T190000
DTSTAMP:20260420T111936
CREATED:20220912T152524Z
LAST-MODIFIED:20220912T152524Z
UID:10003993-1662969600-1663354800@poblenouurbandistrict.com
SUMMARY:[:ca]Exposició: Poblenou - La Memòria Pintada[:es]Exposición: Poblenou - La Memoria Pintada[:en]Exhibition: Poblenou - La Memòria Pintada[:]
DESCRIPTION:30 anys de transformació del Poblenou a pinzell per l’artista Neus Martin Royo\n\n\n\n\n\nLa pintora realista Neus Martín Royo mostra la transformació del Poblenou en una gran antològica amb 130 obres distribuïdes en quatre seus del Poblenou. \nPalo Alto Barcelona és una de les seus que acollirà obres dels últims trenta anys de l’artista Neus Martin Royo\, acompanyades de documentació històrica i fotografies que radiografien la transformació del nostre barri. \nDes de fa molts anys la Neus Martín Royo ha retratat Palo Alto\, el seu interior\, exterior i la seva vida. Ara és un moment únic per gaudir-ne de l’art\, però també per gaudir-ne de la nostra història.​ \nL’exposició ocuparà dues sales de Palo Alto: La Sala XYZ\, una de les més antigues del recinte\, que acollirà obres sobre el tren\, el mar i la platja\, quadres de gran format híbrids amb fotografies antigues que mostren la transformació del litoral. La Sala Escoleta comptarà amb obres sobre el jardí de Palo Alto i el Gasòmetre.
URL:https://poblenouurbandistrict.com/ca/agenda/exposicio-poblenou-la-memoria-pintada/2022-09-12/
LOCATION:Palo Alto\, Carrer dels Pellaires\, 30 - 38\, Barcelona\, 08019
CATEGORIES:Art,Exposició
ATTACH;FMTTYPE=image/jpeg:https://media.poblenouurbandistrict.com/2022/09/25054100/capture-decran-2022-09-12-a-171910.jpg
END:VEVENT
BEGIN:VEVENT
DTSTART;TZID=Europe/Madrid:20220912T100000
DTEND;TZID=Europe/Madrid:20220916T190000
DTSTAMP:20260420T111936
CREATED:20220610T090904Z
LAST-MODIFIED:20220912T153820Z
UID:10003823-1662976800-1663354800@poblenouurbandistrict.com
SUMMARY:[:ca]Exposició: Headspace[:es]Exposición: Headspace[:en]Exhibition: Headspace[:]
DESCRIPTION:La Plataforma\, galeria d’art contemporani i estudi de producció\, obre les portes el pròxim 16 de juny a les 19h per presentar l’exposició “Headspace”\, que mostrarà les obres de les artistes Amalia Caputo\, Janice Sloane\, Eugenia Vargas Pereira i Michelle Weinberg. \nHeadspace\, exposició curada per Amalia Caputo\, proposa teixir a través de l’obra d’aquestes quatre artistes\, fils i embolics conceptuals que desvelen diferents facetes del procés mental en què vivim en època de post pandèmia\, crisi ambiental i neguit generalitzat\, produït pels conflictes mundials en un ampli sentit\, des de la pregunta: com veiem\, sentim i pensem el món les dones? \nHeadspace es podrà visitar fins al 9 de setembre dins de l’horari habitual de la galeria: \nL – 10:00-14:00 i 15:00-18:00\nM\, M\, J\, V – 10:00-14:00 i 15:00-19:00\nS – obert per a esdeveniments especials \nDel 16 de juny al 9 de setembre
URL:https://poblenouurbandistrict.com/ca/agenda/exposicio-headspace/2022-09-12/
LOCATION:La Plataforma\, Pujades 99\, bxs.\, Barcelona\, Catalunya\, España
CATEGORIES:Art,Exposició
ATTACH;FMTTYPE=image/jpeg:https://media.poblenouurbandistrict.com/2022/06/25052935/screenshot-2022-06-10-at-110820.jpg
ORGANIZER;CN="La Plataforma":MAILTO:bcnplataforma@gmail.com
END:VEVENT
BEGIN:VEVENT
DTSTART;TZID=Europe/Madrid:20220913T110000
DTEND;TZID=Europe/Madrid:20220918T180000
DTSTAMP:20260420T111936
CREATED:20220511T143132Z
LAST-MODIFIED:20220912T141204Z
UID:10003444-1663066800-1663524000@poblenouurbandistrict.com
SUMMARY:[:ca]Exposició: Stella Rahola Matutes - L’Habitació de les Desateses[:es]Exposición: Stella Rahola Matutes - L’Habitació de les Desateses[:en]Exhibition: Stella Rahola Matutes - L’Habitació de les Desateses[:]
DESCRIPTION:Stella Rahola Matutes reivindica la materialitat com a substància sempre subjecta al canvi\, ja sigui a través d’una implicació amb éssers humans i no humans i de la seva manipulació\, la interacció amb el seu entorn o la vida dinàmica de les seves reaccions químiques. Aquesta qüestió implica políticament considerar els processos de fabricació i les seves relacions associades de poder\, això és\, les treballadores\, les seves eines i els espais de producció. \nInauguració: dilluns 30 de maig a les 19 hs. \nDel 31 de maig al 18 de setembre \nTancat els dilluns
URL:https://poblenouurbandistrict.com/ca/agenda/exposicio-stella-rahola-matutes-lhabitacio-de-les-desateses/2022-09-13/
LOCATION:Museu Can Framis\, carrer de Roc Boronat\, 116\, 126\, Barcelona\, Barcelona\, 08018\, Espanya
CATEGORIES:Art,Exposició
ATTACH;FMTTYPE=image/jpeg:https://media.poblenouurbandistrict.com/2022/05/25051526/screenshot-2022-05-11-at-162652.jpg
END:VEVENT
BEGIN:VEVENT
DTSTART;TZID=Europe/Madrid:20220913T110000
DTEND;TZID=Europe/Madrid:20220918T180000
DTSTAMP:20260420T111936
CREATED:20220607T095803Z
LAST-MODIFIED:20220912T141032Z
UID:10003873-1663066800-1663524000@poblenouurbandistrict.com
SUMMARY:[:ca]Exposició: Premi de Pintura 2022[:es]Exposición: Premios de Pintura 2022[:en]Exhibition: Painting Award 2022[:]
DESCRIPTION:Exposició de les 30 obres finalistes del Premi de Pintura 2022 a Can Framis entre el 5 de juliol i el 18 de setembre. \nDurant la inauguració\, dilluns 4 de juliol a les 19 h\, es llegirà el veredicte del jurat i es lliurarà el premi a l’obra guanyadora.
URL:https://poblenouurbandistrict.com/ca/agenda/exposicio-premi-de-pintura-2022/2022-09-13/
LOCATION:Museu Can Framis\, carrer de Roc Boronat\, 116\, 126\, Barcelona\, Barcelona\, 08018\, Espanya
CATEGORIES:Art,Exposició
ATTACH;FMTTYPE=image/jpeg:https://media.poblenouurbandistrict.com/2022/06/25052707/screenshot-2022-06-07-at-115722.jpg
END:VEVENT
END:VCALENDAR