BEGIN:VCALENDAR
VERSION:2.0
PRODID:-//Poblenou Urban District - ECPv6.15.20//NONSGML v1.0//EN
CALSCALE:GREGORIAN
METHOD:PUBLISH
X-WR-CALNAME:Poblenou Urban District
X-ORIGINAL-URL:https://poblenouurbandistrict.com/ca
X-WR-CALDESC:Esdeveniments per Poblenou Urban District
REFRESH-INTERVAL;VALUE=DURATION:PT1H
X-Robots-Tag:noindex
X-PUBLISHED-TTL:PT1H
BEGIN:VTIMEZONE
TZID:Europe/Madrid
BEGIN:DAYLIGHT
TZOFFSETFROM:+0100
TZOFFSETTO:+0200
TZNAME:CEST
DTSTART:20240331T010000
END:DAYLIGHT
BEGIN:STANDARD
TZOFFSETFROM:+0200
TZOFFSETTO:+0100
TZNAME:CET
DTSTART:20241027T010000
END:STANDARD
BEGIN:DAYLIGHT
TZOFFSETFROM:+0100
TZOFFSETTO:+0200
TZNAME:CEST
DTSTART:20250330T010000
END:DAYLIGHT
BEGIN:STANDARD
TZOFFSETFROM:+0200
TZOFFSETTO:+0100
TZNAME:CET
DTSTART:20251026T010000
END:STANDARD
BEGIN:DAYLIGHT
TZOFFSETFROM:+0100
TZOFFSETTO:+0200
TZNAME:CEST
DTSTART:20260329T010000
END:DAYLIGHT
BEGIN:STANDARD
TZOFFSETFROM:+0200
TZOFFSETTO:+0100
TZNAME:CET
DTSTART:20261025T010000
END:STANDARD
END:VTIMEZONE
BEGIN:VEVENT
DTSTART;TZID=Europe/Madrid:20250130T180000
DTEND;TZID=Europe/Madrid:20250130T180000
DTSTAMP:20260424T053824
CREATED:20250127T110922Z
LAST-MODIFIED:20250127T110922Z
UID:10007116-1738260000-1738260000@poblenouurbandistrict.com
SUMMARY:[:ca]Moda i Innovació: El bon ús de la I.A. en la moda[:es]Moda e Innovación: el buen uso de la I.A. en la moda[:en]Fashion and Innovation: The Proper Use of Artificial Intelligence in Fashion[:]
DESCRIPTION:LCI Barcelona\, Premium Edu Consulting i Moda UCAB s’uneixen en el proper webinar: Moda i innovació: el bon ús de la Intel·ligència Artificial en la Moda per Micaela Clubourg. \nMicaela Clubourg és dissenyadora de moda\, professora a @lci_barcelona i creadora de la seva marca\, Studio Cumbre. Amb un màster en Moda i Tecnologia\, ha liderat projectes internacionals a l’Argentina\, Perú\, Mèxic i l’Aràbia Saudita. \n  \nMés informació i registre aquí
URL:https://poblenouurbandistrict.com/ca/agenda/moda-i-innovacio-el-bon-us-de-la-i-a-en-la-moda/
LOCATION:Barcelona
CATEGORIES:Xerrada
ATTACH;FMTTYPE=image/jpeg:https://media.poblenouurbandistrict.com/2025/01/25083447/475092170-17991724718762219-6432690331131826661-n.jpg
END:VEVENT
END:VCALENDAR