BEGIN:VCALENDAR
VERSION:2.0
PRODID:-//Poblenou Urban District - ECPv6.15.20//NONSGML v1.0//EN
CALSCALE:GREGORIAN
METHOD:PUBLISH
X-WR-CALNAME:Poblenou Urban District
X-ORIGINAL-URL:https://poblenouurbandistrict.com/ca
X-WR-CALDESC:Esdeveniments per Poblenou Urban District
REFRESH-INTERVAL;VALUE=DURATION:PT1H
X-Robots-Tag:noindex
X-PUBLISHED-TTL:PT1H
BEGIN:VTIMEZONE
TZID:Europe/Madrid
BEGIN:DAYLIGHT
TZOFFSETFROM:+0100
TZOFFSETTO:+0200
TZNAME:CEST
DTSTART:20240331T010000
END:DAYLIGHT
BEGIN:STANDARD
TZOFFSETFROM:+0200
TZOFFSETTO:+0100
TZNAME:CET
DTSTART:20241027T010000
END:STANDARD
BEGIN:DAYLIGHT
TZOFFSETFROM:+0100
TZOFFSETTO:+0200
TZNAME:CEST
DTSTART:20250330T010000
END:DAYLIGHT
BEGIN:STANDARD
TZOFFSETFROM:+0200
TZOFFSETTO:+0100
TZNAME:CET
DTSTART:20251026T010000
END:STANDARD
BEGIN:DAYLIGHT
TZOFFSETFROM:+0100
TZOFFSETTO:+0200
TZNAME:CEST
DTSTART:20260329T010000
END:DAYLIGHT
BEGIN:STANDARD
TZOFFSETFROM:+0200
TZOFFSETTO:+0100
TZNAME:CET
DTSTART:20261025T010000
END:STANDARD
END:VTIMEZONE
BEGIN:VEVENT
DTSTART;TZID=Europe/Madrid:20250118T100000
DTEND;TZID=Europe/Madrid:20250118T100000
DTSTAMP:20260425T032125
CREATED:20250107T092457Z
LAST-MODIFIED:20250107T092457Z
UID:10007072-1737194400-1737194400@poblenouurbandistrict.com
SUMMARY:[:ca]Jornada I de Formació per a Professorat: Secundària i Batxillerat[:es]Jornada I de Formación para Profesorado: Secundaria y Bachillerato[:en]Training Day I for Teachers: Secondary and High School[:]
DESCRIPTION:Jornada I de Formació per a Professorat: Secundària i Batxillerat \nEines per integrar la pràctica artística a la docència de manera transversal \nSensibilitzar i equipar el personal docent amb les eines necessàries per integrar l’art a la seva docència\, fomentant un ambient d’aprenentatge creatiu i enriquidor. Serà un espai per analitzar\, debatre i explorar com els llenguatges artístics poden impulsar l’aprenentatge competencial i el creixement personal de l’alumnat. \nAquesta jornada serà impartida per #3Art amb el Toni Vila\, el Dimas Fàbregas i el Marco Fragoso. \n  \nInformació pràctica:\n• Públic: Docents de Secundària i Batxillerat de totes les àrees\n• Data: 18 de gener\, de 10:00 a 14:00 h\n• Lloc: Museu Can Framis\n• Durada: 4 hores \nPer a poder participar en aquestes jornades\, és imprescindible presentar el carnet de docent. \n(Imprescindible reserva prèvia)
URL:https://poblenouurbandistrict.com/ca/agenda/jornada-i-de-formacio-per-a-professorat-secundaria-i-batxillerat/
LOCATION:Museu Can Framis\, carrer de Roc Boronat\, 116\, 126\, Barcelona\, Barcelona\, 08018\, Espanya
CATEGORIES:Art,Formació
ATTACH;FMTTYPE=image/jpeg:https://media.poblenouurbandistrict.com/2025/01/25082455/th-th-a44770854.jpg
END:VEVENT
BEGIN:VEVENT
DTSTART;TZID=Europe/Madrid:20250127T080000
DTEND;TZID=Europe/Madrid:20250127T170000
DTSTAMP:20260425T032125
CREATED:20250127T130032Z
LAST-MODIFIED:20250127T130032Z
UID:10007129-1737964800-1737997200@poblenouurbandistrict.com
SUMMARY:[:ca]Portes obertes a L'Idem Animation School[:es]Puertas abiertas en L'Idem Animation School.[:]
DESCRIPTION:Explora la seva proposta educativa: Coneix en profunditat el model académic innovador i les oportunitats laborals que ofereixen les titulacions i les especialitzacions en Animació.\nRep assessorament personalitzat.\nRecorre les instal·lacions.  Endinsa’t a l’experiència L’Idem amb un túr exclusiu per les aules equipades amb tecnología d’ultima generació i veient en directe els treballs dels alumnes.
URL:https://poblenouurbandistrict.com/ca/agenda/portes-obertes-a-lidem-animation-school/
CATEGORIES:Formació
ATTACH;FMTTYPE=image/webp:https://media.poblenouurbandistrict.com/2025/01/25083454/interior-lidem.webp
END:VEVENT
END:VCALENDAR