BEGIN:VCALENDAR
VERSION:2.0
PRODID:-//Poblenou Urban District - ECPv6.15.20//NONSGML v1.0//EN
CALSCALE:GREGORIAN
METHOD:PUBLISH
X-ORIGINAL-URL:https://poblenouurbandistrict.com/ca
X-WR-CALDESC:Esdeveniments per Poblenou Urban District
REFRESH-INTERVAL;VALUE=DURATION:PT1H
X-Robots-Tag:noindex
X-PUBLISHED-TTL:PT1H
BEGIN:VTIMEZONE
TZID:Europe/Madrid
BEGIN:DAYLIGHT
TZOFFSETFROM:+0100
TZOFFSETTO:+0200
TZNAME:CEST
DTSTART:20210328T010000
END:DAYLIGHT
BEGIN:STANDARD
TZOFFSETFROM:+0200
TZOFFSETTO:+0100
TZNAME:CET
DTSTART:20211031T010000
END:STANDARD
BEGIN:DAYLIGHT
TZOFFSETFROM:+0100
TZOFFSETTO:+0200
TZNAME:CEST
DTSTART:20220327T010000
END:DAYLIGHT
BEGIN:STANDARD
TZOFFSETFROM:+0200
TZOFFSETTO:+0100
TZNAME:CET
DTSTART:20221030T010000
END:STANDARD
BEGIN:DAYLIGHT
TZOFFSETFROM:+0100
TZOFFSETTO:+0200
TZNAME:CEST
DTSTART:20230326T010000
END:DAYLIGHT
BEGIN:STANDARD
TZOFFSETFROM:+0200
TZOFFSETTO:+0100
TZNAME:CET
DTSTART:20231029T010000
END:STANDARD
END:VTIMEZONE
BEGIN:VEVENT
DTSTART;TZID=Europe/Madrid:20220601T210000
DTEND;TZID=Europe/Madrid:20220601T230000
DTSTAMP:20260426T061453
CREATED:20220422T131017Z
LAST-MODIFIED:20220422T131017Z
UID:10003207-1654117200-1654124400@poblenouurbandistrict.com
SUMMARY:[:ca]Concert: Gonzalo Aloras[:es]Concierto: Gonzalo Aloras[:en]Concert: Gonzalo Aloras[:]
DESCRIPTION:El prolífic artista argentí Gonzalo Aloras tornarà a visitar Espanya aquest 2022 per a presentar el seu més recent disc Volver a la Tierra i el seu primer llibre titulat Síndrome de Greta.
URL:https://poblenouurbandistrict.com/ca/agenda/concert-gonzalo-aloras/
LOCATION:La Nau
CATEGORIES:Música
ATTACH;FMTTYPE=image/jpeg:https://media.poblenouurbandistrict.com/2022/04/25050551/screenshot-2022-04-22-at-150923.jpg
END:VEVENT
BEGIN:VEVENT
DTSTART;TZID=Europe/Madrid:20220602T203000
DTEND;TZID=Europe/Madrid:20220602T213000
DTSTAMP:20260426T061453
CREATED:20220526T152420Z
LAST-MODIFIED:20220526T152420Z
UID:10003654-1654201800-1654205400@poblenouurbandistrict.com
SUMMARY:[:ca]Concert: Lucas Sugo[:es]Concierto: Lucas Sugo[:en]Concert: Lucas Sugo[:]
DESCRIPTION:El cantant i compositor uruguaià Lucas Sugo actuarà en Sala Razzmatazz el 2 de juny.
URL:https://poblenouurbandistrict.com/ca/agenda/concert-lucas-sugo/
LOCATION:Sala Razzmatazz\, C/ dels Almogàvers\, 122\, Barcelona\, Barcelona\, 08018\, Espanya
CATEGORIES:Música
ATTACH;FMTTYPE=image/jpeg:https://media.poblenouurbandistrict.com/2022/05/25052236/lucas22-post-instagramcopia-1920x964-1.jpg
END:VEVENT
BEGIN:VEVENT
DTSTART;TZID=Europe/Madrid:20220602T203000
DTEND;TZID=Europe/Madrid:20220602T220000
DTSTAMP:20260426T061453
CREATED:20220520T112716Z
LAST-MODIFIED:20220520T112716Z
UID:10003583-1654201800-1654207200@poblenouurbandistrict.com
SUMMARY:[:ca]Concert: Gattari[:es]Concierto: Gattari[:en]Concert: Gattari[:]
DESCRIPTION:Gattari\, el grup triple-premiat al Maresmusic del 2021\, culmina el treball del seu primer disc amb un concert a La Nau de Barcelona el dijous 2 de juny.
URL:https://poblenouurbandistrict.com/ca/agenda/concert-gattari/
LOCATION:La Nau
CATEGORIES:Música
ATTACH;FMTTYPE=image/jpeg:https://media.poblenouurbandistrict.com/2022/05/25051856/cartell-gattari-lanau-copy.jpg
END:VEVENT
BEGIN:VEVENT
DTSTART;TZID=Europe/Madrid:20220602T210000
DTEND;TZID=Europe/Madrid:20220602T223000
DTSTAMP:20260426T061453
CREATED:20220527T105021Z
LAST-MODIFIED:20220527T110705Z
UID:10003682-1654203600-1654209000@poblenouurbandistrict.com
SUMMARY:[:ca]Concert: Seafret - Guitar BCN[:es]Concierto: Seafret - Guitar BCN[:en]Concert: Seafret - Guitar BCN[:]
DESCRIPTION:Els anglesos Seafret visitaran el nostre país per primera vegada per a presentar el seu segon àlbum ‘Most Of Us Llauri Strangers’.
URL:https://poblenouurbandistrict.com/ca/agenda/concert-seafret-guitar-bcn/
LOCATION:Sala Wolf\, C/ dels Almogàvers\, 88\, Barcelona\, Barcelona\, 08018\, Espanya
CATEGORIES:Música
ATTACH;FMTTYPE=image/jpeg:https://media.poblenouurbandistrict.com/2022/05/25052310/screenshot-2022-05-27-at-124956.jpg
END:VEVENT
BEGIN:VEVENT
DTSTART;TZID=Europe/Madrid:20220603T200000
DTEND;TZID=Europe/Madrid:20220603T213000
DTSTAMP:20260426T061453
CREATED:20220520T113048Z
LAST-MODIFIED:20220520T113048Z
UID:10003584-1654286400-1654291800@poblenouurbandistrict.com
SUMMARY:[:ca]Concert: ODYN V KANOE[:es]Concierto: ODYN V KANOE[:en]Concert: ODYN V KANOE[:]
DESCRIPTION:Concert benèfic a favor de les víctimes de la guerra interpretat per la banda de indie de Lviv (Leopolis\, Ucrania) ODYN V KANOE.
URL:https://poblenouurbandistrict.com/ca/agenda/concert-odyn-v-kanoe/
LOCATION:La Nau
CATEGORIES:Música
ATTACH;FMTTYPE=image/jpeg:https://media.poblenouurbandistrict.com/2022/05/25051858/screenshot-2022-05-20-at-133017.jpg
END:VEVENT
BEGIN:VEVENT
DTSTART;TZID=Europe/Madrid:20220603T200000
DTEND;TZID=Europe/Madrid:20220603T213000
DTSTAMP:20260426T061453
CREATED:20220526T154238Z
LAST-MODIFIED:20220526T154238Z
UID:10003657-1654286400-1654291800@poblenouurbandistrict.com
SUMMARY:[:ca]Concert: Víctor Rutty\, Rober del Pyro i DJ Kaef[:es]Concierto: Víctor Rutty\, Rober del Pyro y DJ Kaef[:en]Concert: Víctor Rutty\, Rober del Pyro and DJ Kaef[:]
DESCRIPTION:Víctor Rutty\, Rober del Pyro i DJ Kaef presentant el seu nou disc BACKUP en Barcelona\, Sala Razzmatazz 2.
URL:https://poblenouurbandistrict.com/ca/agenda/concert-victor-rutty-rober-del-pyro-i-dj-kaef/
LOCATION:Sala Razzmatazz\, C/ dels Almogàvers\, 122\, Barcelona\, Barcelona\, 08018\, Espanya
CATEGORIES:Música
ATTACH;FMTTYPE=image/jpeg:https://media.poblenouurbandistrict.com/2022/05/25052240/screenshot-2022-05-26-at-174205.jpg
END:VEVENT
BEGIN:VEVENT
DTSTART;TZID=Europe/Madrid:20220603T200000
DTEND;TZID=Europe/Madrid:20220603T220000
DTSTAMP:20260426T061453
CREATED:20220526T153508Z
LAST-MODIFIED:20220526T153508Z
UID:10003655-1654286400-1654293600@poblenouurbandistrict.com
SUMMARY:[:ca]Concert: Spxxn P + Pol Bordas + Yung Rovelló[:es]Concierto: Spxxn P + Pol Bordas + Yung Rovelló[:en]Concert: Spxxn P + Pol Bordas + Yung Rovelló[:]
DESCRIPTION:Spxxn P és el projecte musical de Pere Sala. Pol Bordas és un projecte autogestionat que va debutar l’any 2020. Yung Rovelló\, comença la seva aventura a finals de 2018 amb un seguit de cançons influenciades pel trap americà; cantades en català\, ballables i rítmiques\, però alhora crítiques i amb missatge. Els tres actuaran en Sala Razzmatazz.
URL:https://poblenouurbandistrict.com/ca/agenda/concert-spxxn-p-pol-bordas-yung-rovello/
LOCATION:Sala Razzmatazz\, C/ dels Almogàvers\, 122\, Barcelona\, Barcelona\, 08018\, Espanya
CATEGORIES:Música
ATTACH;FMTTYPE=image/jpeg:https://media.poblenouurbandistrict.com/2022/05/25052237/screenshot-2022-05-26-at-173440.jpg
END:VEVENT
BEGIN:VEVENT
DTSTART;TZID=Europe/Madrid:20220603T210000
DTEND;TZID=Europe/Madrid:20220603T223000
DTSTAMP:20260426T061453
CREATED:20220526T153839Z
LAST-MODIFIED:20220526T153839Z
UID:10003656-1654290000-1654295400@poblenouurbandistrict.com
SUMMARY:[:ca]Concert: Trombone Shorty & Orleans Avenue[:es]Concierto: Trombone Shorty & Orleans Avenue[:en]Concert: Trombone Shorty & Orleans Avenue[:]
DESCRIPTION:El que no hagi sentit mai l’energia d’un directe de Trombone Shorty hauria de córrer a remeiar-ho. Perquè Troy Andrews -aquest és el seu nom real- no és només un autèntic virtuós del trombó: veure’l liderant la poderosa màquina de funk que és la seva banda resulta un espectacle en si mateix.
URL:https://poblenouurbandistrict.com/ca/agenda/concert-trombone-shorty-orleans-avenue/
LOCATION:Sala Razzmatazz\, C/ dels Almogàvers\, 122\, Barcelona\, Barcelona\, 08018\, Espanya
CATEGORIES:Música
ATTACH;FMTTYPE=image/jpeg:https://media.poblenouurbandistrict.com/2022/05/25052239/screenshot-2022-05-26-at-173758.jpg
END:VEVENT
BEGIN:VEVENT
DTSTART;TZID=Europe/Madrid:20220603T210000
DTEND;TZID=Europe/Madrid:20220603T223000
DTSTAMP:20260426T061453
CREATED:20220527T105610Z
LAST-MODIFIED:20220527T105610Z
UID:10003683-1654290000-1654295400@poblenouurbandistrict.com
SUMMARY:[:ca]Concert: Sabana[:es]Concierto: Sabana[:en]Concert: Sabana[:]
DESCRIPTION:A la primavera del 2022\, van treure el seu tercer disc\, La perspectiva (autoproduït\, 2022)\, un LP autoeditat mesclat per Pep Saula i masteritzat per Nan Mercader. En aquesta nova etapa\, exploraran nous camins i s’endinsaran més en les sonoritats que ja caracteritzen al grup granollerí.
URL:https://poblenouurbandistrict.com/ca/agenda/concert-sabana/
LOCATION:Sala Wolf\, C/ dels Almogàvers\, 88\, Barcelona\, Barcelona\, 08018\, Espanya
CATEGORIES:Música
ATTACH;FMTTYPE=image/jpeg:https://media.poblenouurbandistrict.com/2022/05/25052312/screenshot-2022-05-27-at-125527.jpg
END:VEVENT
BEGIN:VEVENT
DTSTART;TZID=Europe/Madrid:20220603T210000
DTEND;TZID=Europe/Madrid:20220603T233000
DTSTAMP:20260426T061453
CREATED:20220603T084101Z
LAST-MODIFIED:20220603T084101Z
UID:10003776-1654290000-1654299000@poblenouurbandistrict.com
SUMMARY:[:ca]Música: Afterwork. Piano[:es]Música: Afterwork. Piano[:en]Music: Afterwork. Piano[:]
DESCRIPTION:Golden & Smith ens convida a l’afterwork aquest divendres 3 de juny perquè gaudim de música en directe amb David Ugalde\, amb còctels i sopar.
URL:https://poblenouurbandistrict.com/ca/agenda/musica-afterwork-piano/
LOCATION:Golden&Smith by Valkiria\, Pujades 126\, Barcelona\, Catalunya\, 08005\, España
CATEGORIES:Gastronomia,Música
ATTACH;FMTTYPE=image/jpeg:https://media.poblenouurbandistrict.com/2022/06/25052555/285360719-745647726590395-7295790348737718640-n.jpg
ORGANIZER;CN="Golden&Smith by Valkiria":MAILTO:hola@goldensmith.es
END:VEVENT
BEGIN:VEVENT
DTSTART;TZID=Europe/Madrid:20220604T200000
DTEND;TZID=Europe/Madrid:20220604T213000
DTSTAMP:20260426T061453
CREATED:20220526T154722Z
LAST-MODIFIED:20220526T154722Z
UID:10003658-1654372800-1654378200@poblenouurbandistrict.com
SUMMARY:[:ca]Concert: OBK + Los niños de Brasil[:es]Concierto: OBK + Los niños de Brasil[:en]Concert: OBK + Los niños de Brasil[:]
DESCRIPTION:Per primera vegada en la història de la nostra música les dues bandes referents del Techno-Pop dels 90 uneixen forces per a celebrar en un concert exclusiu els seus respectius aniversaris.
URL:https://poblenouurbandistrict.com/ca/agenda/concert-obk-los-ninos-de-brasil/
LOCATION:Sala Razzmatazz\, C/ dels Almogàvers\, 122\, Barcelona\, Barcelona\, 08018\, Espanya
CATEGORIES:Música
ATTACH;FMTTYPE=image/jpeg:https://media.poblenouurbandistrict.com/2022/05/25052242/screenshot-2022-05-26-at-174612.jpg
END:VEVENT
BEGIN:VEVENT
DTSTART;TZID=Europe/Madrid:20220604T203000
DTEND;TZID=Europe/Madrid:20220604T213000
DTSTAMP:20260426T061453
CREATED:20220527T110035Z
LAST-MODIFIED:20220527T110035Z
UID:10003684-1654374600-1654378200@poblenouurbandistrict.com
SUMMARY:[:ca]Concert: Sin City + Crash[:es]Concierto: Sin City + Crash[:en]Concert: Sin City + Crash[:]
DESCRIPTION:La banda Sin City\, tribut a AC/DC\, tocarà en Sala Wolf el 4 de juny.
URL:https://poblenouurbandistrict.com/ca/agenda/concert-sin-city-crash/
LOCATION:Sala Wolf\, C/ dels Almogàvers\, 88\, Barcelona\, Barcelona\, 08018\, Espanya
CATEGORIES:Música
ATTACH;FMTTYPE=image/jpeg:https://media.poblenouurbandistrict.com/2022/05/25052314/screenshot-2022-05-27-at-130011.jpg
END:VEVENT
BEGIN:VEVENT
DTSTART;TZID=Europe/Madrid:20220604T210000
DTEND;TZID=Europe/Madrid:20220604T223000
DTSTAMP:20260426T061453
CREATED:20220520T113353Z
LAST-MODIFIED:20220520T113353Z
UID:10003587-1654376400-1654381800@poblenouurbandistrict.com
SUMMARY:[:ca]Concert: Iñigo Merino i Pravlenha[:es]Concierto: Iñigo Merino y Pravlenha[:en]Concert: Iñigo Merino and Pravlenha[:]
DESCRIPTION:Iñigo Merino i Pravlenha surten de Madrid per a unir-se en una gira a nivell nacional. “Havia de passar” neix com un directe acústic de dos amics per als seus amics. Aquesta és una unió que va néixer en l’estudi “La Puresa”\, una amistat que es converteix en música i un escenari en una ocasió única; la resta és història.
URL:https://poblenouurbandistrict.com/ca/agenda/concert-inigo-merino-i-pravlenha/
LOCATION:La Nau
CATEGORIES:Música
ATTACH;FMTTYPE=image/jpeg:https://media.poblenouurbandistrict.com/2022/05/25051859/screenshot-2022-05-20-at-133317.jpg
END:VEVENT
BEGIN:VEVENT
DTSTART;TZID=Europe/Madrid:20220604T210000
DTEND;TZID=Europe/Madrid:20220604T223000
DTSTAMP:20260426T061453
CREATED:20220526T155054Z
LAST-MODIFIED:20220526T155054Z
UID:10003659-1654376400-1654381800@poblenouurbandistrict.com
SUMMARY:[:ca]Concert: Kaze[:es]Concierto: Kaze[:en]Concert: Kaze[:]
DESCRIPTION:Després de centenars de cançons\, dos discos\, grans festivals i gires nacionals i internacionals\, Kaze torna de “Gira perquè ho diu la meva àvia”.
URL:https://poblenouurbandistrict.com/ca/agenda/concert-kaze/
LOCATION:Sala Razzmatazz\, C/ dels Almogàvers\, 122\, Barcelona\, Barcelona\, 08018\, Espanya
CATEGORIES:Música
ATTACH;FMTTYPE=image/jpeg:https://media.poblenouurbandistrict.com/2022/05/25052243/screenshot-2022-05-26-at-174932.jpg
END:VEVENT
BEGIN:VEVENT
DTSTART;TZID=Europe/Madrid:20220605T200000
DTEND;TZID=Europe/Madrid:20220605T213000
DTSTAMP:20260426T061453
CREATED:20220520T113856Z
LAST-MODIFIED:20220520T113856Z
UID:10003588-1654459200-1654464600@poblenouurbandistrict.com
SUMMARY:[:ca]Concert: Shellac[:es]Concierto: Shellac[:en]Concert: Shellac[:]
DESCRIPTION:Shellac fan concerts i es tiren a la carretera només quan li ho demana el cos\, atès un únic compromís: posar cara i nom als seus lleials fans\, cridar amb ells. Donar-los veu\, en definitiva. \nOrganitzat per Primavera Sound.
URL:https://poblenouurbandistrict.com/ca/agenda/concert-shellac/
LOCATION:La Nau
CATEGORIES:Música
ATTACH;FMTTYPE=image/jpeg:https://media.poblenouurbandistrict.com/2022/05/25051901/screenshot-2022-05-20-at-133832.jpg
END:VEVENT
BEGIN:VEVENT
DTSTART;TZID=Europe/Madrid:20220605T200000
DTEND;TZID=Europe/Madrid:20220605T213000
DTSTAMP:20260426T061453
CREATED:20220530T102409Z
LAST-MODIFIED:20220530T102409Z
UID:10003697-1654459200-1654464600@poblenouurbandistrict.com
SUMMARY:[:ca]Teatre: Power Up Orchestra - Videojocs i Anime en Concert[:es]Teatro: Power Up Orchestra - Videojuegos y Anime en Concierto[:en]Theater: Power Up Orchestra - Videogames and Anime in Concert[:]
DESCRIPTION:Power Up Orchestra torna a Barcelona amb un concert simfònic amb un nou repertori replet de la millor música del món de l’anime i els videojocs.
URL:https://poblenouurbandistrict.com/ca/agenda/teatre-power-up-orchestra-videojocs-i-anime-en-concert/
LOCATION:Casino l’aliança del Poblenou\, Rambla del Poblenou\, 42\,\, Barcelona\, Barcelona\, 08005\, Espanya
CATEGORIES:Música,Teatre
ATTACH;FMTTYPE=image/jpeg:https://media.poblenouurbandistrict.com/2022/05/25052336/screenshot-2022-05-30-at-122325.jpg
END:VEVENT
BEGIN:VEVENT
DTSTART;TZID=Europe/Madrid:20220605T210000
DTEND;TZID=Europe/Madrid:20220605T223000
DTSTAMP:20260426T061453
CREATED:20220526T155554Z
LAST-MODIFIED:20220526T155554Z
UID:10003660-1654462800-1654468200@poblenouurbandistrict.com
SUMMARY:[:ca]Concert: Jehnny Beth\, Beck\, Keor Kero Bonito[:es]Concierto: Jehnny Beth\, Beck\, Keor Kero Bonito[:en]Concert: Jehnny Beth\, Beck\, Keor Kero Bonito[:]
DESCRIPTION:Com a part del Primavera Sound\, el 5 de juny.
URL:https://poblenouurbandistrict.com/ca/agenda/concert-jehnny-beth-beck-keor-kero-bonito/
LOCATION:Sala Razzmatazz\, C/ dels Almogàvers\, 122\, Barcelona\, Barcelona\, 08018\, Espanya
CATEGORIES:Música
ATTACH;FMTTYPE=image/jpeg:https://media.poblenouurbandistrict.com/2022/05/25052245/screenshot-2022-05-26-at-175420.jpg
END:VEVENT
BEGIN:VEVENT
DTSTART;TZID=Europe/Madrid:20220605T210000
DTEND;TZID=Europe/Madrid:20220605T223000
DTSTAMP:20260426T061453
CREATED:20220526T155807Z
LAST-MODIFIED:20220526T155807Z
UID:10003661-1654462800-1654468200@poblenouurbandistrict.com
SUMMARY:[:ca]Concert: Ssecretly G[:es]Concierto: Ssecretly G[:en]Concert: Ssecretly G[:]
DESCRIPTION:Com a part del Primavera Sound\, el 5 de juny.
URL:https://poblenouurbandistrict.com/ca/agenda/concert-ssecretly-g/
LOCATION:Sala Razzmatazz\, C/ dels Almogàvers\, 122\, Barcelona\, Barcelona\, 08018\, Espanya
CATEGORIES:Música
ATTACH;FMTTYPE=image/jpeg:https://media.poblenouurbandistrict.com/2022/05/25052245/screenshot-2022-05-26-at-175420.jpg
END:VEVENT
BEGIN:VEVENT
DTSTART;TZID=Europe/Madrid:20220606T200000
DTEND;TZID=Europe/Madrid:20220606T220000
DTSTAMP:20260426T061453
CREATED:20220527T083418Z
LAST-MODIFIED:20220527T083418Z
UID:10003662-1654545600-1654552800@poblenouurbandistrict.com
SUMMARY:[:ca]Concert: Femi\, Lokey\, Torus\, Chariot\, Yung Lean\, Emiranda\, Dark0\, Drain Gang[:es]Concierto: Femi\, Lokey\, Torus\, Chariot\, Yung Lean\, Emiranda\, Dark0\, Drain Gang[:en]Concert: Femi\, Lokey\, Torus\, Chariot\, Yung Lean\, Emiranda\, Dark0\, Drain Gang[:]
DESCRIPTION:Com a part del Primavera Sound\, el 6 de juny en Razzmatazz.
URL:https://poblenouurbandistrict.com/ca/agenda/concert-femi-lokey-torus-chariot-yung-lean-emiranda-dark0-drain-gang/
LOCATION:Sala Razzmatazz\, C/ dels Almogàvers\, 122\, Barcelona\, Barcelona\, 08018\, Espanya
CATEGORIES:Música
ATTACH;FMTTYPE=image/jpeg:https://media.poblenouurbandistrict.com/2022/05/25052245/screenshot-2022-05-26-at-175420.jpg
END:VEVENT
BEGIN:VEVENT
DTSTART;TZID=Europe/Madrid:20220606T200000
DTEND;TZID=Europe/Madrid:20220606T220000
DTSTAMP:20260426T061453
CREATED:20220527T083737Z
LAST-MODIFIED:20220527T083737Z
UID:10003664-1654545600-1654552800@poblenouurbandistrict.com
SUMMARY:[:ca]Concert: Aksak Maboul\, Spelling\, Beak>\, King Gizzard & The Lizard Wizard\, Virginie[:es]Concierto: Aksak Maboul\, Spelling\, Beak>\, King Gizzard & The Lizard Wizard\, Virginie[:en]Concert: Aksak Maboul\, Spelling\, Beak>\, King Gizzard & The Lizard Wizard\, Virginie[:]
DESCRIPTION:Com a part del Primavera Sound\, el 6 de juny en Razzmatazz.
URL:https://poblenouurbandistrict.com/ca/agenda/concert-aksak-maboul-spelling-beak-king-gizzard-the-lizard-wizard-virginie/
LOCATION:Sala Razzmatazz\, C/ dels Almogàvers\, 122\, Barcelona\, Barcelona\, 08018\, Espanya
CATEGORIES:Música
ATTACH;FMTTYPE=image/jpeg:https://media.poblenouurbandistrict.com/2022/05/25052245/screenshot-2022-05-26-at-175420.jpg
END:VEVENT
BEGIN:VEVENT
DTSTART;TZID=Europe/Madrid:20220606T205000
DTEND;TZID=Europe/Madrid:20220606T220000
DTSTAMP:20260426T061453
CREATED:20220520T114407Z
LAST-MODIFIED:20220520T114407Z
UID:10003591-1654548600-1654552800@poblenouurbandistrict.com
SUMMARY:[:ca]Concert: Alanaire + Jockstrap[:es]Concierto: Alanaire + Jockstrap[:en]Concert: Alanaire + Jockstrap[:]
DESCRIPTION:Com a part del Primavera Sound\, La Nau acullirà el concert de Alanaire i Jockstrap el 6 de juny.
URL:https://poblenouurbandistrict.com/ca/agenda/concert-alanaire-jockstrap/
LOCATION:La Nau
CATEGORIES:Música
ATTACH;FMTTYPE=image/jpeg:https://media.poblenouurbandistrict.com/2022/05/25051903/screenshot-2022-05-20-at-134335.jpg
END:VEVENT
BEGIN:VEVENT
DTSTART;TZID=Europe/Madrid:20220607T170000
DTEND;TZID=Europe/Madrid:20220607T200000
DTSTAMP:20260426T061453
CREATED:20220519T154450Z
LAST-MODIFIED:20220519T154450Z
UID:10003552-1654621200-1654632000@poblenouurbandistrict.com
SUMMARY:[:ca]Tallers: Damos la corriente[:es]Talleres: Damos la corriente[:en]Workshops: Damos la corriente[:]
DESCRIPTION:Demos la corriente són una sèrie de tallers entorn de la cura d’equips electroacústics i les maneres d’obtenir d’ells el millor rendiment possible. Està pensat per a residents i sòcies de La Escocesa pero està obert a qualsevol persona interessada. Aquí aprendreu a utilitzar l’equipament sonor de la fàbrica\, a muntar sets d’efectes\, a fabricar micròfons de contacte\, realitzar enregistraments de camp i familiaritzar-te amb els rudiments bàsics de la postproducció d’àudio.
URL:https://poblenouurbandistrict.com/ca/agenda/tallers-damos-la-corriente/2022-06-07/
LOCATION:La Escocesa\, C. de Pere IV\, 345\, Barcelona\, Barcelona\, 08020\, Espanya
CATEGORIES:Curs,Música,Taller
ATTACH;FMTTYPE=image/jpeg:https://media.poblenouurbandistrict.com/2022/05/25051839/et-communicator-cropped-by-mattingly23-cc-by30.jpg
END:VEVENT
BEGIN:VEVENT
DTSTART;TZID=Europe/Madrid:20220607T190000
DTEND;TZID=Europe/Madrid:20220607T203000
DTSTAMP:20260426T061453
CREATED:20220520T121823Z
LAST-MODIFIED:20220520T121823Z
UID:10003602-1654628400-1654633800@poblenouurbandistrict.com
SUMMARY:[:ca]Música: La Banda al Palau de la Música Catalana[:es]Música: La Banda en el Palau de la Música Catalana[:en]Music: The Band at Palau de la Música Catalana[:]
DESCRIPTION:La Banda Municipal de Barcelona visita el Palau de la Música Catalana amb un programa gairebé monogràfic centrat en la música de Richard Strauss\, que comparteix cartell amb la del compositor suís Franco Cesarini.
URL:https://poblenouurbandistrict.com/ca/agenda/musica-la-banda-al-palau-de-la-musica-catalana/
LOCATION:Palau de la Música Catalana\, C/ Palau de la Música\, 4-6\, Barcelona\, Catalunya\, 08003\, España
CATEGORIES:Música
ATTACH;FMTTYPE=image/jpeg:https://media.poblenouurbandistrict.com/2022/05/25051914/screenshot-2022-05-20-at-141800.jpg
END:VEVENT
BEGIN:VEVENT
DTSTART;TZID=Europe/Madrid:20220607T200000
DTEND;TZID=Europe/Madrid:20220607T220000
DTSTAMP:20260426T061453
CREATED:20220527T084112Z
LAST-MODIFIED:20220527T084112Z
UID:10003665-1654632000-1654639200@poblenouurbandistrict.com
SUMMARY:[:ca]Concert: Therematic\, King Gizzard & The Lizard Wizard\, Slowdive\, Derby Motoreta's Burrito Kachimba\, Dance System[:es]Concierto: Therematic\, King Gizzard & The Lizard Wizard\, Slowdive\, Derby Motoreta's Burrito Kachimba\, Dance System[:en]Concert: Therematic\, King Gizzard & The Lizard Wizard\, Slowdive\, Derby Motoreta's Burrito Kachimba\, Dance System[:]
DESCRIPTION:Com a part del Primavera Sound\, el 7 de juny en Razzmatazz.
URL:https://poblenouurbandistrict.com/ca/agenda/concert-therematic-king-gizzard-the-lizard-wizard-slowdive-derby-motoretas-burrito-kachimba-dance-system/
LOCATION:Sala Razzmatazz\, C/ dels Almogàvers\, 122\, Barcelona\, Barcelona\, 08018\, Espanya
CATEGORIES:Música
ATTACH;FMTTYPE=image/jpeg:https://media.poblenouurbandistrict.com/2022/05/25052245/screenshot-2022-05-26-at-175420.jpg
END:VEVENT
BEGIN:VEVENT
DTSTART;TZID=Europe/Madrid:20220607T200000
DTEND;TZID=Europe/Madrid:20220607T220000
DTSTAMP:20260426T061453
CREATED:20220527T084406Z
LAST-MODIFIED:20220527T084406Z
UID:10003668-1654632000-1654639200@poblenouurbandistrict.com
SUMMARY:[:ca]Concert: Ben Yart\, Lord Apex\, Wesley Joseph\, Kamaal Williams\, Nagui[:es]Concierto: Ben Yart\, Lord Apex\, Wesley Joseph\, Kamaal Williams\, Nagui[:en]Concert: Ben Yart\, Lord Apex\, Wesley Joseph\, Kamaal Williams\, Nagui[:]
DESCRIPTION:Com a part del Primavera Sound\, el 7 de juny en Razzmatazz.
URL:https://poblenouurbandistrict.com/ca/agenda/concert-ben-yart-lord-apex-wesley-joseph-kamaal-williams-nagui/
LOCATION:Sala Razzmatazz\, C/ dels Almogàvers\, 122\, Barcelona\, Barcelona\, 08018\, Espanya
CATEGORIES:Música
ATTACH;FMTTYPE=image/jpeg:https://media.poblenouurbandistrict.com/2022/05/25052245/screenshot-2022-05-26-at-175420.jpg
END:VEVENT
BEGIN:VEVENT
DTSTART;TZID=Europe/Madrid:20220607T205000
DTEND;TZID=Europe/Madrid:20220607T220000
DTSTAMP:20260426T061453
CREATED:20220520T114651Z
LAST-MODIFIED:20220520T114651Z
UID:10003592-1654635000-1654639200@poblenouurbandistrict.com
SUMMARY:[:ca]Concert: Penelope Isles + Bandalos Chinos[:es]Concierto: Penelope Isles + Bandalos Chinos[:en]Concert: Penelope Isles + Bandalos Chinos[:]
DESCRIPTION:Com a part del Primavera Sound\, La Nau acollirà el concert de Penelope Isles i Bandalos Chinos el 6 de juny.
URL:https://poblenouurbandistrict.com/ca/agenda/concert-penelope-isles-bandalos-chinos/
LOCATION:La Nau
CATEGORIES:Música
ATTACH;FMTTYPE=image/jpeg:https://media.poblenouurbandistrict.com/2022/05/25051903/screenshot-2022-05-20-at-134335.jpg
END:VEVENT
BEGIN:VEVENT
DTSTART;TZID=Europe/Madrid:20220607T210000
DTEND;TZID=Europe/Madrid:20220607T223000
DTSTAMP:20260426T061453
CREATED:20220530T112941Z
LAST-MODIFIED:20220530T112941Z
UID:10003712-1654635600-1654641000@poblenouurbandistrict.com
SUMMARY:[:ca]Concert: LOPES[:es]Concierto: LOPES[:en]Concert: LOPES[:]
DESCRIPTION:LOPES en concert en Barcelona\, acompanyat d’artistes convidats\, el 02/07/2022 a les 21:00 en La Nau\, Barcelona\, Espanya.
URL:https://poblenouurbandistrict.com/ca/agenda/concert-lopes/
LOCATION:La Nau
CATEGORIES:Música
ATTACH;FMTTYPE=image/jpeg:https://media.poblenouurbandistrict.com/2022/05/25052505/screenshot-2022-05-30-at-132907.jpg
END:VEVENT
BEGIN:VEVENT
DTSTART;TZID=Europe/Madrid:20220608T200000
DTEND;TZID=Europe/Madrid:20220608T220000
DTSTAMP:20260426T061453
CREATED:20220527T085618Z
LAST-MODIFIED:20220527T085618Z
UID:10003670-1654718400-1654725600@poblenouurbandistrict.com
SUMMARY:[:ca]Concert: Albany\, La Zowi\, Megan Thee Stallion\, Bad Gyal's Gogo Club[:es]Concierto: Albany\, La Zowi\, Megan Thee Stallion\, Bad Gyal's Gogo Club[:en]Concert: Albany\, La Zowi\, Megan Thee Stallion\, Bad Gyal's Gogo Club[:]
DESCRIPTION:Com a part del Primavera Sound\, el 8 de juny en Razzmatazz.
URL:https://poblenouurbandistrict.com/ca/agenda/concert-albany-la-zowi-megan-thee-stallion-bad-gyals-gogo-club/
LOCATION:Sala Razzmatazz\, C/ dels Almogàvers\, 122\, Barcelona\, Barcelona\, 08018\, Espanya
CATEGORIES:Música
ATTACH;FMTTYPE=image/jpeg:https://media.poblenouurbandistrict.com/2022/05/25052245/screenshot-2022-05-26-at-175420.jpg
END:VEVENT
BEGIN:VEVENT
DTSTART;TZID=Europe/Madrid:20220608T200000
DTEND;TZID=Europe/Madrid:20220608T220000
DTSTAMP:20260426T061453
CREATED:20220527T085948Z
LAST-MODIFIED:20220527T085948Z
UID:10003671-1654718400-1654725600@poblenouurbandistrict.com
SUMMARY:[:ca]Concert: P.C. Music Presents Acid Angel[:es]Concierto: P.C. Music Presents Acid Angel[:en]Concert: P.C. Music Presents Acid Angel[:]
DESCRIPTION:La festa PC Music presents Acid Angel es presenta com una trobada única que excedirà el llenguatge binari. Com a part del Primavera Sound el 8 de juny en Razzmatazz.
URL:https://poblenouurbandistrict.com/ca/agenda/concert-p-c-music-presents-acid-angel/
LOCATION:Sala Razzmatazz\, C/ dels Almogàvers\, 122\, Barcelona\, Barcelona\, 08018\, Espanya
CATEGORIES:Música
ATTACH;FMTTYPE=image/jpeg:https://media.poblenouurbandistrict.com/2022/05/25052245/screenshot-2022-05-26-at-175420.jpg
END:VEVENT
BEGIN:VEVENT
DTSTART;TZID=Europe/Madrid:20220608T205000
DTEND;TZID=Europe/Madrid:20220608T220000
DTSTAMP:20260426T061453
CREATED:20220520T115100Z
LAST-MODIFIED:20220520T115100Z
UID:10003593-1654721400-1654725600@poblenouurbandistrict.com
SUMMARY:[:ca]Concert: Maria Somerville + Dry Cleaning + Erika de Casier[:es]Concierto: Maria Somerville + Dry Cleaning + Erika de Casier[:en]Concert: Maria Somerville + Dry Cleaning + Erika de Casier[:]
DESCRIPTION:Com a part del Primavera Sound\, La Nau acollirà el concert de Maria Somerville\, Dry Cleaning i Erika de Casier el 8 de juny.
URL:https://poblenouurbandistrict.com/ca/agenda/concert-maria-somerville-dry-cleaning-erika-de-casier/
LOCATION:La Nau
CATEGORIES:Música
ATTACH;FMTTYPE=image/jpeg:https://media.poblenouurbandistrict.com/2022/05/25051903/screenshot-2022-05-20-at-134335.jpg
END:VEVENT
END:VCALENDAR