BEGIN:VCALENDAR
VERSION:2.0
PRODID:-//Poblenou Urban District - ECPv6.15.20//NONSGML v1.0//EN
CALSCALE:GREGORIAN
METHOD:PUBLISH
X-ORIGINAL-URL:https://poblenouurbandistrict.com/ca
X-WR-CALDESC:Esdeveniments per Poblenou Urban District
REFRESH-INTERVAL;VALUE=DURATION:PT1H
X-Robots-Tag:noindex
X-PUBLISHED-TTL:PT1H
BEGIN:VTIMEZONE
TZID:Europe/Madrid
BEGIN:DAYLIGHT
TZOFFSETFROM:+0100
TZOFFSETTO:+0200
TZNAME:CEST
DTSTART:20210328T010000
END:DAYLIGHT
BEGIN:STANDARD
TZOFFSETFROM:+0200
TZOFFSETTO:+0100
TZNAME:CET
DTSTART:20211031T010000
END:STANDARD
BEGIN:DAYLIGHT
TZOFFSETFROM:+0100
TZOFFSETTO:+0200
TZNAME:CEST
DTSTART:20220327T010000
END:DAYLIGHT
BEGIN:STANDARD
TZOFFSETFROM:+0200
TZOFFSETTO:+0100
TZNAME:CET
DTSTART:20221030T010000
END:STANDARD
BEGIN:DAYLIGHT
TZOFFSETFROM:+0100
TZOFFSETTO:+0200
TZNAME:CEST
DTSTART:20230326T010000
END:DAYLIGHT
BEGIN:STANDARD
TZOFFSETFROM:+0200
TZOFFSETTO:+0100
TZNAME:CET
DTSTART:20231029T010000
END:STANDARD
END:VTIMEZONE
BEGIN:VEVENT
DTSTART;TZID=Europe/Madrid:20220701T233000
DTEND;TZID=Europe/Madrid:20220701T233000
DTSTAMP:20260426T033946
CREATED:20220627T120021Z
LAST-MODIFIED:20220627T130903Z
UID:10003875-1656718200-1656718200@poblenouurbandistrict.com
SUMMARY:[:ca]Concert: KEY GLOCK + BUTTA B + Yibril[:es]Concierto: KEY GLOCK + BUTTA B + Yibril[:en]Concert: KEY GLOCK + BUTTA B + Yibril[:]
DESCRIPTION:Key Glock ha estat aclamat com la nova cara del rap de Memphis que maneja un emfàtic flux midtempo i ritmes de trap des que va debutar el 2017 amb On My Soul al qual van seguir diverses mixtapes i altres hits com Dum & Dummer\, Russian Cream o Yes! ! que ha esdevingut disc de platí. Al novembre de 2021 va debutar el seu projecte en solitari Yellow Tape 2 i va ser aclamat per la crítica sent nomenat com un dels Millors Projectes de Hip Hop de 2021 per XXL Mag. \nButta B és una de les principals artistes que ha sacsejat l’escena de clubs de Manila durant aquests últims anys\, des de la seva nit Bad Decisions Wednesdays al club Black Market. El seu estil fresc i eclèctic es butre de hip hop old school\, r&b\, trap\, house\, funk i dance music. \n 
URL:https://poblenouurbandistrict.com/ca/agenda/key-glock-butta-b-yibril/
LOCATION:Sala Razzmatazz\, C/ dels Almogàvers\, 122\, Barcelona\, Barcelona\, 08018\, Espanya
CATEGORIES:Música
ATTACH;FMTTYPE=image/png:https://poblenouurbandistrict.com/wp-content/uploads/2022/06/diseno-sin-titulo-2-1.jpg
END:VEVENT
BEGIN:VEVENT
DTSTART;TZID=Europe/Madrid:20220702T170000
DTEND;TZID=Europe/Madrid:20220702T223000
DTSTAMP:20260426T033946
CREATED:20220616T105257Z
LAST-MODIFIED:20220616T105257Z
UID:10003852-1656781200-1656801000@poblenouurbandistrict.com
SUMMARY:[:ca]Música: surikata records presents ALLONE BRONCE[:es]Música: surikata records presents ALLONE BRONCE[:en]Music: surikata records presents ALLONE BRONCE[:]
DESCRIPTION:Surikata Records presenta l’àlbum BRONCE d’ALLONE\, EL PRIMER projecte en solitari del raper xilè William C.
URL:https://poblenouurbandistrict.com/ca/agenda/musica-surikata-records-presents-allone-bronce/
LOCATION:Bridge_48\, Carrer de Llull\, 48\, Barcelona\, 08005
CATEGORIES:Música
ATTACH;FMTTYPE=image/jpeg:https://media.poblenouurbandistrict.com/2022/06/25053100/screenshot-2022-06-16-at-125213.jpg
END:VEVENT
BEGIN:VEVENT
DTSTART;TZID=Europe/Madrid:20220702T190000
DTEND;TZID=Europe/Madrid:20220702T210000
DTSTAMP:20260426T033946
CREATED:20220609T093509Z
LAST-MODIFIED:20220609T093509Z
UID:10003889-1656788400-1656795600@poblenouurbandistrict.com
SUMMARY:[:ca]Música: Jonc Alevins - Mendelssohn i Bizet[:es]Música: Jonc Alevins - Mendelssohn i Bizet[:en]Music: Jonc Alevins - Mendelssohn i Bizet[:]
DESCRIPTION:Concert de l’encontre d’estiu de la JONC Alevins. Preparat amb professors de la Neues Orchester Basel a l’Atlàntida de Vic.
URL:https://poblenouurbandistrict.com/ca/agenda/musica-jonc-alevins-mendelssohn-i-bizet/
LOCATION:L’Auditori\, Carrer de Lepant\, 150\, Barcelona\, 08013\, Espanya
CATEGORIES:Música
ATTACH;FMTTYPE=image/jpeg:https://media.poblenouurbandistrict.com/2022/06/25052741/screenshot-2022-06-09-at-113444.jpg
END:VEVENT
BEGIN:VEVENT
DTSTART;TZID=Europe/Madrid:20220703T193000
DTEND;TZID=Europe/Madrid:20220703T203000
DTSTAMP:20260426T033946
CREATED:20220530T113837Z
LAST-MODIFIED:20220530T113837Z
UID:10003713-1656876600-1656880200@poblenouurbandistrict.com
SUMMARY:[:ca]Concert: LIVE CHOIR[:es]Concierto: LIVE CHOIR[:en]Concert: LIVE CHOIR[:]
DESCRIPTION:Aquest grup humà i artístic ens convida a deixar entrar en nosaltres un missatge d’alegria\, de força\, de vida des del mateix moment de la seva gestació.
URL:https://poblenouurbandistrict.com/ca/agenda/concert-live-choir/
LOCATION:La Nau
CATEGORIES:Música
ATTACH;FMTTYPE=image/jpeg:https://media.poblenouurbandistrict.com/2022/05/25052506/screenshot-2022-05-30-at-133519.jpg
END:VEVENT
BEGIN:VEVENT
DTSTART;TZID=Europe/Madrid:20220704T090000
DTEND;TZID=Europe/Madrid:20220708T140000
DTSTAMP:20260426T033946
CREATED:20220607T094211Z
LAST-MODIFIED:20220627T090548Z
UID:10003858-1656925200-1657288800@poblenouurbandistrict.com
SUMMARY:[:ca]Casal d'estiu Xup-Xup (7-12 anys)[:es]Casal de verano Xup-Xup (7-12 años)[:en]Summer camp Xup-Xup (7-12 years)[:]
DESCRIPTION:El Museu del Disseny de Barcelona i Tantàgora organitzen el XUP-XUP\, una proposta creativa estiuenca adreçada a nens i nenes de 7 a 12 anys durant dues setmanes de juliol. Cada setmana (de dilluns a divendres)\, es faran activitats al voltant de temes com la literatura\, la música\, l’art o el disseny. \nSetmana del 4 al 8 de juliol\nIL·LUSTRANT…\nAmb Cristina Picazo \nSetmana de l’11 al 15 de juliol\nDISSENY BAND\nAmb Azuzena Moya \nCada setmana (de dilluns a divendres) de 9 a 14 h.
URL:https://poblenouurbandistrict.com/ca/agenda/casal-destiu-xup-xup-7-12-anys/2022-07-04/
LOCATION:Museu del Disseny\, Plaça de les Glòries Catalanes\,\, 37\, Barcelona\, Barcelona\, 08018\, Espanya
CATEGORIES:Art,Curs,Música,Taller
ATTACH;FMTTYPE=image/jpeg:https://media.poblenouurbandistrict.com/2022/06/25052701/screenshot-2022-06-07-at-114135.jpg
END:VEVENT
BEGIN:VEVENT
DTSTART;TZID=Europe/Madrid:20220704T100000
DTEND;TZID=Europe/Madrid:20220708T140000
DTSTAMP:20260426T033946
CREATED:20220607T094850Z
LAST-MODIFIED:20220627T091913Z
UID:10003861-1656928800-1657288800@poblenouurbandistrict.com
SUMMARY:[:ca]Taller d'estiu ZIP per a joves (13-17 anys)[:es]Taller de verano ZIP para jóvenes (13-17 años)[:en]Summer workshop ZIP for teenagers (13-17 years)[:]
DESCRIPTION:El Museu del Disseny de Barcelona i Tantàgora organitzen el ZIP\, una setmana de creació adreçada a nois i noies de 13 a 17 anys. Una setmana dedicada al “Radio Station” i una altra a les “Ciutats invisibles”. \nSetmana del 4 al 8 de juliol\nRÀDIO STATION\nAmb Clara Darder \nSetmana de l’11 del 15 juliol\nCIUTATS INVISIBLES\nAmb Noemí Batllori \nDilluns a divendres de 10 a 14 h
URL:https://poblenouurbandistrict.com/ca/agenda/taller-destiu-zip-per-a-joves-13-17-anys/2022-07-04/
LOCATION:Museu del Disseny\, Plaça de les Glòries Catalanes\,\, 37\, Barcelona\, Barcelona\, 08018\, Espanya
CATEGORIES:Art,Audiovisual,Curs,Música,Taller
ATTACH;FMTTYPE=image/jpeg:https://media.poblenouurbandistrict.com/2022/06/25052703/screenshot-2022-06-07-at-114654.jpg
END:VEVENT
BEGIN:VEVENT
DTSTART;TZID=Europe/Madrid:20220705T210000
DTEND;TZID=Europe/Madrid:20220705T223000
DTSTAMP:20260426T033946
CREATED:20220527T111146Z
LAST-MODIFIED:20220527T111146Z
UID:10003686-1657054800-1657060200@poblenouurbandistrict.com
SUMMARY:[:ca]Concert: Tommy Castro[:es]Concierto: Tommy Castro[:en]Concert: Tommy Castro[:]
DESCRIPTION:Tommy Castro and the Painkillers presenta en Sala Wolf el 5 de juliol.
URL:https://poblenouurbandistrict.com/ca/agenda/concert-tommy-castro/
LOCATION:Sala Wolf\, C/ dels Almogàvers\, 88\, Barcelona\, Barcelona\, 08018\, Espanya
CATEGORIES:Música
ATTACH;FMTTYPE=image/jpeg:https://media.poblenouurbandistrict.com/2022/05/25052316/screenshot-2022-05-27-at-131107.jpg
END:VEVENT
BEGIN:VEVENT
DTSTART;TZID=Europe/Madrid:20220705T210000
DTEND;TZID=Europe/Madrid:20220705T230000
DTSTAMP:20260426T033946
CREATED:20220615T094329Z
LAST-MODIFIED:20220615T094329Z
UID:10003831-1657054800-1657062000@poblenouurbandistrict.com
SUMMARY:[:ca]Concert: City Morgue[:es]Concierto: City Morgue[:en]Concert: City Morgue[:]
DESCRIPTION:El duo novaiorquès de hip-hop City Morgue barreja el rap amb elements de metal extrem i shock rock. Arriben avalats per una vintena de singles\, dos EPs\, una mixtape i tres discs.
URL:https://poblenouurbandistrict.com/ca/agenda/concert-city-morgue/
LOCATION:Sala Razzmatazz\, C/ dels Almogàvers\, 122\, Barcelona\, Barcelona\, 08018\, Espanya
CATEGORIES:Música
ATTACH;FMTTYPE=image/jpeg:https://media.poblenouurbandistrict.com/2022/06/25053003/screenshot-2022-06-15-at-114300.jpg
END:VEVENT
BEGIN:VEVENT
DTSTART;TZID=Europe/Madrid:20220706T203000
DTEND;TZID=Europe/Madrid:20220706T203000
DTSTAMP:20260426T033946
CREATED:20220701T151827Z
LAST-MODIFIED:20220701T151842Z
UID:10003387-1657139400-1657139400@poblenouurbandistrict.com
SUMMARY:[:ca]Concert: John Grant[:es]Concierto: John Grant[:en]Concert: John Grant[:]
DESCRIPTION:Resident des de fa anys a la tranquil·la i freda Islàndia\, John Grant és un d’aquells artistes que\, a més de facturar estupendes cançons\, ha contribuït a qüestionar els estereotips associats a la masculinitat tradicional al rock\, sense proclames particulars\, manifestos ni moralines. Un artista sempre honest\, conseqüent i en recerca contínua de noves vies d’expressió.
URL:https://poblenouurbandistrict.com/ca/agenda/concert-john-grant/
LOCATION:Casino l’aliança del Poblenou\, Rambla del Poblenou\, 42\,\, Barcelona\, Barcelona\, 08005\, Espanya
CATEGORIES:Música
ATTACH;FMTTYPE=image/jpeg:https://media.poblenouurbandistrict.com/2022/07/25053332/capture-decran-2022-07-01-a-171752.jpg
END:VEVENT
BEGIN:VEVENT
DTSTART;TZID=Europe/Madrid:20220706T203000
DTEND;TZID=Europe/Madrid:20220706T213000
DTSTAMP:20260426T033946
CREATED:20220530T115049Z
LAST-MODIFIED:20220530T115049Z
UID:10003714-1657139400-1657143000@poblenouurbandistrict.com
SUMMARY:[:ca]Concert: Brass Against[:es]Concierto: Brass Against[:en]Concert: Brass Against[:]
DESCRIPTION:Brass Against és un col·lectiu d’artistes liderat i comissariat per Bran Hammonds\, que comparteixen l’objectiu de crear música de protesta que animi als fanàtics a l’acció.
URL:https://poblenouurbandistrict.com/ca/agenda/concert-brass-against/
LOCATION:La Nau
CATEGORIES:Música
ATTACH;FMTTYPE=image/jpeg:https://media.poblenouurbandistrict.com/2022/05/25052508/canvi-brassa-ig-1.jpg
END:VEVENT
BEGIN:VEVENT
DTSTART;TZID=Europe/Madrid:20220707T190000
DTEND;TZID=Europe/Madrid:20220707T210000
DTSTAMP:20260426T033946
CREATED:20220609T093201Z
LAST-MODIFIED:20220609T093201Z
UID:10003888-1657220400-1657227600@poblenouurbandistrict.com
SUMMARY:[:ca]Música: Nicola Benedetti & Lionel Bringuier[:es]Música: Nicola Benedetti & Lionel Bringuier[:en]Music: Nicola Benedetti & Lionel Bringuier[:]
DESCRIPTION:Festival Mozart Nits d’Estiu. L’Orquestra Simfònica de Barcelona i Nacional de Catalunya (OBC) presenta: \n\nMozart: Adagio i Fuga per a cordes en Do\, KV 546\nMozart: Concert per a violí n. 3 en Sol\, KV 216 (1775) 24′\nBeethoven: Simfonia en Si bemoll\, op. 60
URL:https://poblenouurbandistrict.com/ca/agenda/musica-nicola-benedetti-lionel-bringuier/
LOCATION:L’Auditori\, Carrer de Lepant\, 150\, Barcelona\, 08013\, Espanya
CATEGORIES:Música
ATTACH;FMTTYPE=image/jpeg:https://media.poblenouurbandistrict.com/2022/06/25052739/screenshot-2022-06-09-at-113114.jpg
END:VEVENT
BEGIN:VEVENT
DTSTART;TZID=Europe/Madrid:20220707T203000
DTEND;TZID=Europe/Madrid:20220707T220000
DTSTAMP:20260426T033946
CREATED:20220530T082917Z
LAST-MODIFIED:20220530T082917Z
UID:10003687-1657225800-1657231200@poblenouurbandistrict.com
SUMMARY:[:ca]Concert: Los Pericos[:es]Concierto: Los Pericos[:en]Concert: Los Pericos[:]
DESCRIPTION:Los Pericos és una banda de reggae i ska argentina fundada en 1986. En el mes de juliol arribaran a Espanya amb la seva Gira 35 anys\, on delectaran als seus seguidors amb les seves interpretacions inèdites dels clàssics més esperats pel públic com “Runaway”.
URL:https://poblenouurbandistrict.com/ca/agenda/concert-los-pericos/
LOCATION:Sala Razzmatazz\, C/ dels Almogàvers\, 122\, Barcelona\, Barcelona\, 08018\, Espanya
CATEGORIES:Música
ATTACH;FMTTYPE=image/jpeg:https://media.poblenouurbandistrict.com/2022/05/25052318/pericosposter.jpg
END:VEVENT
BEGIN:VEVENT
DTSTART;TZID=Europe/Madrid:20220707T210000
DTEND;TZID=Europe/Madrid:20220707T223000
DTSTAMP:20260426T033946
CREATED:20220701T152124Z
LAST-MODIFIED:20220701T152141Z
UID:10003878-1657227600-1657233000@poblenouurbandistrict.com
SUMMARY:[:ca]Concert: Gustavo Santaolalla[:es]Concierto: Gustavo Santaolalla[:en]Concert: Gustavo Santaolalla[:]
DESCRIPTION:El dues vegades guanyador de l’Oscar\, presenta “Desandando el Camino”\, un recorregut per totes les seves obres incloent Arco Iris\, Bajofondo\, alguns films com Brokeback Mountain\, Babel\, Diarios de Motocicleta\, el guardonat videojoc The Last of Us i molt més.
URL:https://poblenouurbandistrict.com/ca/agenda/concert-gustavo-santaolalla/
LOCATION:Casino l’aliança del Poblenou\, Rambla del Poblenou\, 42\,\, Barcelona\, Barcelona\, 08005\, Espanya
CATEGORIES:Música
ATTACH;FMTTYPE=image/jpeg:https://media.poblenouurbandistrict.com/2022/07/25053334/capture-decran-2022-07-01-a-171917.jpg
END:VEVENT
BEGIN:VEVENT
DTSTART;TZID=Europe/Madrid:20220708T220000
DTEND;TZID=Europe/Madrid:20220708T233000
DTSTAMP:20260426T033946
CREATED:20220530T115452Z
LAST-MODIFIED:20220530T115452Z
UID:10003715-1657317600-1657323000@poblenouurbandistrict.com
SUMMARY:[:ca]Concert: Antoñito Molina[:es]Concierto: Antoñito Molina[:en]Concert: Antoñito Molina[:]
DESCRIPTION:Després d’un respir en la seva carrera\, en 2020 Antoñito Molina va tornar amb més força que mai llançant un nou senzill de la mà d’Adriàtic Rècords\, ‘Ja no em moro per ningú’\, treball al qual se sumaven ‘Diuen que el món s’acaba’ i ‘M’estic tornant boig’. Ara presentarà en La Nau.
URL:https://poblenouurbandistrict.com/ca/agenda/concert-antonito-molina/
LOCATION:La Nau
CATEGORIES:Música
ATTACH;FMTTYPE=image/jpeg:https://media.poblenouurbandistrict.com/2022/05/25052510/antonito-molina.jpg
END:VEVENT
BEGIN:VEVENT
DTSTART;TZID=Europe/Madrid:20220709T210000
DTEND;TZID=Europe/Madrid:20220709T223000
DTSTAMP:20260426T033946
CREATED:20220530T083807Z
LAST-MODIFIED:20220530T083807Z
UID:10003688-1657400400-1657405800@poblenouurbandistrict.com
SUMMARY:[:ca]Concert: Alec Benjamin[:es]Concierto: Alec Benjamin[:en]Concert: Alec Benjamin[:]
DESCRIPTION:El Pop Storyteller de la nova generació\, Alec Benjamin\, actuarà per primera vegada en Barcelona el 9 de juliol en sala Razzmatazz 2 i presentarà el seu nou àlbum debut\, “These Two Windows”.
URL:https://poblenouurbandistrict.com/ca/agenda/concert-alec-benjamin/
LOCATION:Sala Razzmatazz\, C/ dels Almogàvers\, 122\, Barcelona\, Barcelona\, 08018\, Espanya
CATEGORIES:Música
ATTACH;FMTTYPE=image/jpeg:https://media.poblenouurbandistrict.com/2022/05/25052320/alec.jpg
END:VEVENT
BEGIN:VEVENT
DTSTART;TZID=Europe/Madrid:20220709T210000
DTEND;TZID=Europe/Madrid:20220709T233000
DTSTAMP:20260426T033946
CREATED:20220531T145657Z
LAST-MODIFIED:20220531T145657Z
UID:10003237-1657400400-1657409400@poblenouurbandistrict.com
SUMMARY:[:ca]Concert: Echoes of Pink Floyd[:es]Concierto: Echoes of Pink Floyd[:en]Concert: Echoes of Pink Floyd[:]
DESCRIPTION:Per a reviure l’autèntic so de Pink Floyd\, Echoes of Pink Floyd tornen a la Nau\, per a gaudir d’un espectacle que no deixa indiferent. Gairebé 3 hores de concert.
URL:https://poblenouurbandistrict.com/ca/agenda/concert-echoes-of-pink-floyd/
LOCATION:La Nau
CATEGORIES:Música
ATTACH;FMTTYPE=image/jpeg:https://media.poblenouurbandistrict.com/2022/05/25052527/cartell-lanau-16-web.jpg
END:VEVENT
BEGIN:VEVENT
DTSTART;TZID=Europe/Madrid:20220710T110000
DTEND;TZID=Europe/Madrid:20220710T130000
DTSTAMP:20260426T033946
CREATED:20220609T093904Z
LAST-MODIFIED:20220609T093904Z
UID:10003890-1657450800-1657458000@poblenouurbandistrict.com
SUMMARY:[:ca]Música: La Jonc amb Edmon Colomer - Xostakovitx i Scheherezade[:es]Música: La Jonc con Edmon Colomer - Xostakovitx y Scheherezade[:en]Music: La Jonc with Edmon Colomer - Xostakovitx and Scheherezade[:]
DESCRIPTION:Concert d’estiu de la JONC. Preparat amb professors de la Mahler Chamber Orchestra a l’Atlàntida de Vic.
URL:https://poblenouurbandistrict.com/ca/agenda/musica-la-jonc-amb-edmon-colomer-xostakovitx-i-scheherezade/
LOCATION:L’Auditori\, Carrer de Lepant\, 150\, Barcelona\, 08013\, Espanya
CATEGORIES:Música
ATTACH;FMTTYPE=image/jpeg:https://media.poblenouurbandistrict.com/2022/06/25052742/screenshot-2022-06-09-at-113839.jpg
END:VEVENT
BEGIN:VEVENT
DTSTART;TZID=Europe/Madrid:20220711T090000
DTEND;TZID=Europe/Madrid:20220715T140000
DTSTAMP:20260426T033946
CREATED:20220607T094211Z
LAST-MODIFIED:20220627T090548Z
UID:10003859-1657530000-1657893600@poblenouurbandistrict.com
SUMMARY:[:ca]Casal d'estiu Xup-Xup (7-12 anys)[:es]Casal de verano Xup-Xup (7-12 años)[:en]Summer camp Xup-Xup (7-12 years)[:]
DESCRIPTION:El Museu del Disseny de Barcelona i Tantàgora organitzen el XUP-XUP\, una proposta creativa estiuenca adreçada a nens i nenes de 7 a 12 anys durant dues setmanes de juliol. Cada setmana (de dilluns a divendres)\, es faran activitats al voltant de temes com la literatura\, la música\, l’art o el disseny. \nSetmana del 4 al 8 de juliol\nIL·LUSTRANT…\nAmb Cristina Picazo \nSetmana de l’11 al 15 de juliol\nDISSENY BAND\nAmb Azuzena Moya \nCada setmana (de dilluns a divendres) de 9 a 14 h.
URL:https://poblenouurbandistrict.com/ca/agenda/casal-destiu-xup-xup-7-12-anys/2022-07-11/
LOCATION:Museu del Disseny\, Plaça de les Glòries Catalanes\,\, 37\, Barcelona\, Barcelona\, 08018\, Espanya
CATEGORIES:Art,Curs,Música,Taller
ATTACH;FMTTYPE=image/jpeg:https://media.poblenouurbandistrict.com/2022/06/25052701/screenshot-2022-06-07-at-114135.jpg
END:VEVENT
BEGIN:VEVENT
DTSTART;TZID=Europe/Madrid:20220711T100000
DTEND;TZID=Europe/Madrid:20220715T140000
DTSTAMP:20260426T033946
CREATED:20220607T094850Z
LAST-MODIFIED:20220627T091913Z
UID:10003862-1657533600-1657893600@poblenouurbandistrict.com
SUMMARY:[:ca]Taller d'estiu ZIP per a joves (13-17 anys)[:es]Taller de verano ZIP para jóvenes (13-17 años)[:en]Summer workshop ZIP for teenagers (13-17 years)[:]
DESCRIPTION:El Museu del Disseny de Barcelona i Tantàgora organitzen el ZIP\, una setmana de creació adreçada a nois i noies de 13 a 17 anys. Una setmana dedicada al “Radio Station” i una altra a les “Ciutats invisibles”. \nSetmana del 4 al 8 de juliol\nRÀDIO STATION\nAmb Clara Darder \nSetmana de l’11 del 15 juliol\nCIUTATS INVISIBLES\nAmb Noemí Batllori \nDilluns a divendres de 10 a 14 h
URL:https://poblenouurbandistrict.com/ca/agenda/taller-destiu-zip-per-a-joves-13-17-anys/2022-07-11/
LOCATION:Museu del Disseny\, Plaça de les Glòries Catalanes\,\, 37\, Barcelona\, Barcelona\, 08018\, Espanya
CATEGORIES:Art,Audiovisual,Curs,Música,Taller
ATTACH;FMTTYPE=image/jpeg:https://media.poblenouurbandistrict.com/2022/06/25052703/screenshot-2022-06-07-at-114654.jpg
END:VEVENT
BEGIN:VEVENT
DTSTART;TZID=Europe/Madrid:20220711T210000
DTEND;TZID=Europe/Madrid:20220711T223000
DTSTAMP:20260426T033946
CREATED:20220531T150358Z
LAST-MODIFIED:20220531T150358Z
UID:10003266-1657573200-1657578600@poblenouurbandistrict.com
SUMMARY:[:ca]Concert: Peach Tree Rascals[:es]Concierto: Peach Tree Rascals[:en]Concert: Peach Tree Rascals[:]
DESCRIPTION:El col·lectiu californià Peach Tree Rascals no són solament un grup de pop\, també elaboren tot el seu material visual. La seva carrera comença a prendre impuls amb el llançament de Papallona\, un colorit temi pop-alternatiu que destaca en TikTok fins a tornar-se tendència en 2020.
URL:https://poblenouurbandistrict.com/ca/agenda/concert-peach-tree-rascals/
LOCATION:La Nau
CATEGORIES:Música
ATTACH;FMTTYPE=image/jpeg:https://media.poblenouurbandistrict.com/2022/05/25052528/screenshot-2022-05-31-at-170233.jpg
END:VEVENT
BEGIN:VEVENT
DTSTART;TZID=Europe/Madrid:20220713T210000
DTEND;TZID=Europe/Madrid:20220713T223000
DTSTAMP:20260426T033946
CREATED:20220530T085105Z
LAST-MODIFIED:20220530T085105Z
UID:10003689-1657746000-1657751400@poblenouurbandistrict.com
SUMMARY:[:ca]Concert: Steel Panther + Florence Black[:es]Concierto: Steel Panther + Florence Black[:en]Concert: Steel Panther + Florence Black[:]
DESCRIPTION:Provinents de Los Angeles\, l’epicentre del rock n’ roll en tot el seu llibertinatge i glamur\, Steel Panther s’ha establert com una de les més divertides bandes de festa del món\, fusionant el virtuosisme del hard rock amb la paròdia i una aparença glam i sleazy tan representatives de l’era daurada dels 80.
URL:https://poblenouurbandistrict.com/ca/agenda/concert-steel-panther-florence-black/
LOCATION:Sala Razzmatazz\, C/ dels Almogàvers\, 122\, Barcelona\, Barcelona\, 08018\, Espanya
CATEGORIES:Música
ATTACH;FMTTYPE=image/jpeg:https://media.poblenouurbandistrict.com/2022/05/25052322/screenshot-2022-05-30-at-105035.jpg
END:VEVENT
BEGIN:VEVENT
DTSTART;TZID=Europe/Madrid:20220714T200000
DTEND;TZID=Europe/Madrid:20220714T213000
DTSTAMP:20260426T033946
CREATED:20220609T102505Z
LAST-MODIFIED:20220609T102505Z
UID:10003327-1657828800-1657834200@poblenouurbandistrict.com
SUMMARY:[:ca]Concert: Dean Wareham[:es]Concierto: Dean Wareham[:en]Concert: Dean Wareham[:]
DESCRIPTION:Dean Wareham interpretarà al complet\, i en format de banda\, l’àlbum “On Fire” de Galaxie 500\, a més de cançons del seu nou disc\, “I Have Nothing To Say To The Major Of L.A.”.
URL:https://poblenouurbandistrict.com/ca/agenda/concert-dean-wareham/
LOCATION:La Nau
CATEGORIES:Música
ATTACH;FMTTYPE=image/jpeg:https://media.poblenouurbandistrict.com/2022/06/25052842/dean-wareham.jpg
END:VEVENT
BEGIN:VEVENT
DTSTART;TZID=Europe/Madrid:20220716T190000
DTEND;TZID=Europe/Madrid:20220716T210000
DTSTAMP:20260426T033946
CREATED:20220609T094222Z
LAST-MODIFIED:20220609T094222Z
UID:10003793-1657998000-1658005200@poblenouurbandistrict.com
SUMMARY:[:ca]Música: Desert[:es]Música: Desert[:en]Music: Desert[:]
DESCRIPTION:Desert parteix de la peça Timber (2009) del compositor americà Michael Gordon (1956-)\, obra va ser estrenada a Espanya per l’ensemble de percussió FRAMES Percussion l’any 2016.
URL:https://poblenouurbandistrict.com/ca/agenda/musica-desert/2022-07-16/
LOCATION:L’Auditori\, Carrer de Lepant\, 150\, Barcelona\, 08013\, Espanya
CATEGORIES:Música
ATTACH;FMTTYPE=image/jpeg:https://media.poblenouurbandistrict.com/2022/06/25052744/screenshot-2022-06-09-at-114145.jpg
END:VEVENT
BEGIN:VEVENT
DTSTART;TZID=Europe/Madrid:20220716T190000
DTEND;TZID=Europe/Madrid:20220716T210000
DTSTAMP:20260426T033946
CREATED:20220609T094819Z
LAST-MODIFIED:20220609T094819Z
UID:10003796-1657998000-1658005200@poblenouurbandistrict.com
SUMMARY:[:ca]Música: Julia Lezhneva & Dani Espasa[:es]Música: Julia Lezhneva & Dani Espasa[:en]Music: Julia Lezhneva & Dani Espasa[:]
DESCRIPTION:Festival Mozart Nits d’Estiu: L’Orquestra Simfònica de Barcelona i Nacional de Catalunya (OBC) presenta Don Juan\, Orfeo ed Euridice\, Obertura d’Idomeneo\, Recitatiu i Rondo\, i més.
URL:https://poblenouurbandistrict.com/ca/agenda/musica-julia-lezhneva-dani-espasa/
LOCATION:L’Auditori\, Carrer de Lepant\, 150\, Barcelona\, 08013\, Espanya
CATEGORIES:Música
ATTACH;FMTTYPE=image/jpeg:https://media.poblenouurbandistrict.com/2022/06/25052745/screenshot-2022-06-09-at-114753.jpg
END:VEVENT
BEGIN:VEVENT
DTSTART;TZID=Europe/Madrid:20220716T210000
DTEND;TZID=Europe/Madrid:20220716T223000
DTSTAMP:20260426T033946
CREATED:20220530T085356Z
LAST-MODIFIED:20220530T085356Z
UID:10003690-1658005200-1658010600@poblenouurbandistrict.com
SUMMARY:[:ca]Concert: Los Van Van[:es]Concierto: Los Van Van[:en]Concert: Los Van Van[:]
DESCRIPTION:Concert Celebració 50 anys de carrera de Los Van Van.
URL:https://poblenouurbandistrict.com/ca/agenda/concert-los-van-van/
LOCATION:Sala Razzmatazz\, C/ dels Almogàvers\, 122\, Barcelona\, Barcelona\, 08018\, Espanya
CATEGORIES:Música
ATTACH;FMTTYPE=image/jpeg:https://media.poblenouurbandistrict.com/2022/05/25052323/vanvanfoto-1920x964-1.jpg
END:VEVENT
BEGIN:VEVENT
DTSTART;TZID=Europe/Madrid:20220716T213000
DTEND;TZID=Europe/Madrid:20220716T230000
DTSTAMP:20260426T033946
CREATED:20220701T125321Z
LAST-MODIFIED:20220701T125321Z
UID:10003382-1658007000-1658012400@poblenouurbandistrict.com
SUMMARY:[:ca]Concert: MUV + Sofia Gabanna[:es]Concierto: MUV + Sofia Gabanna[:en]Concert: MUV + Sofia Gabanna[:]
DESCRIPTION:MUV és un conjunt de música multiinstrumental que utilitza el llenguatge de signes per a la improvisació col·lectiva\, creant música de ball i un ambient divertit.
URL:https://poblenouurbandistrict.com/ca/agenda/concert-muv-sofia-gabanna/
LOCATION:La Nau
CATEGORIES:Música
ATTACH;FMTTYPE=image/jpeg:https://media.poblenouurbandistrict.com/2022/07/25053324/capture-decran-2022-07-01-a-145215.jpg
END:VEVENT
BEGIN:VEVENT
DTSTART;TZID=Europe/Madrid:20220716T230000
DTEND;TZID=Europe/Madrid:20220716T230000
DTSTAMP:20260426T033946
CREATED:20220704T113427Z
LAST-MODIFIED:20220704T113427Z
UID:10003892-1658012400-1658012400@poblenouurbandistrict.com
SUMMARY:[:ca]Festa de cloenda del XVII Obrador d’estiu[:es]Fiesta de clausura del XVII Obrador d’estiu[:en]Closing party of the XVII Obrador d'estiu[:]
DESCRIPTION:L’Obrador és un dels esdeveniments importants de la proposta artística i formativa general de la Sala Beckett. Per això\, volem celebrar la cloenda de la seva 17a edició amb una proposta festiva: una nit de música amb una selecció de DJ’s propers a la Beckett i al sector teatral. \nSala VOL
URL:https://poblenouurbandistrict.com/ca/agenda/festa-de-cloenda-del-xvii-obrador-destiu/
LOCATION:Sala Beckett\, C. de Pere IV\, 228\, 232\, Barcelona\, Barcelona\, 08005
CATEGORIES:Música,Teatre
ATTACH;FMTTYPE=image/jpeg:https://media.poblenouurbandistrict.com/2022/07/25053339/capture-decran-2022-07-04-a-133254.jpg
END:VEVENT
BEGIN:VEVENT
DTSTART;TZID=Europe/Madrid:20220717T180000
DTEND;TZID=Europe/Madrid:20220717T200000
DTSTAMP:20260426T033946
CREATED:20220609T095209Z
LAST-MODIFIED:20220609T095209Z
UID:10003797-1658080800-1658088000@poblenouurbandistrict.com
SUMMARY:[:ca]Música: XXI Festival de Bandes de Música a Catalunya[:es]Música: XXI Festival de Bandas de Música en Cataluña[:en]Music: XXI Music Bands Festival in Catalonia[:]
DESCRIPTION:Interpretacions de la Banda de Música d’Ulldecona\, l’Agrupació Musical Rapitenca i l’Agrupació Musical Senienca.
URL:https://poblenouurbandistrict.com/ca/agenda/musica-xxi-festival-de-bandes-de-musica-a-catalunya/
LOCATION:L’Auditori\, Carrer de Lepant\, 150\, Barcelona\, 08013\, Espanya
CATEGORIES:Música
ATTACH;FMTTYPE=image/jpeg:https://media.poblenouurbandistrict.com/2022/06/25052747/screenshot-2022-06-09-at-115104.jpg
END:VEVENT
BEGIN:VEVENT
DTSTART;TZID=Europe/Madrid:20220717T190000
DTEND;TZID=Europe/Madrid:20220717T210000
DTSTAMP:20260426T033946
CREATED:20220609T094222Z
LAST-MODIFIED:20220609T094222Z
UID:10003794-1658084400-1658091600@poblenouurbandistrict.com
SUMMARY:[:ca]Música: Desert[:es]Música: Desert[:en]Music: Desert[:]
DESCRIPTION:Desert parteix de la peça Timber (2009) del compositor americà Michael Gordon (1956-)\, obra va ser estrenada a Espanya per l’ensemble de percussió FRAMES Percussion l’any 2016.
URL:https://poblenouurbandistrict.com/ca/agenda/musica-desert/2022-07-17/
LOCATION:L’Auditori\, Carrer de Lepant\, 150\, Barcelona\, 08013\, Espanya
CATEGORIES:Música
ATTACH;FMTTYPE=image/jpeg:https://media.poblenouurbandistrict.com/2022/06/25052744/screenshot-2022-06-09-at-114145.jpg
END:VEVENT
BEGIN:VEVENT
DTSTART;TZID=Europe/Madrid:20220719T160000
DTEND;TZID=Europe/Madrid:20220719T170000
DTSTAMP:20260426T033946
CREATED:20220713T101838Z
LAST-MODIFIED:20220713T101838Z
UID:10003906-1658246400-1658250000@poblenouurbandistrict.com
SUMMARY:[:ca]Info Day Online: Música Urbana[:es]Info Day Online: Música Urbana[:en]Info Day Online: Urban Music[:]
DESCRIPTION:Si somies treballar com a productor\, el primer pas per aconseguir-ho és enfocar la teva formació en la direcció correcta. \nA SAE portem dècades formant professionals de primer nivell i alguns dels nostres alumni ja treballen en empreses com Sony Music Publishing o són artistes publicats com El Jhota o Dellacruz. \nEl proper 19 de Juliol tens l?oportunitat de conèixer com es van formar i descobrir el nostre Programa en Producció de Música Urbana en una sessió online amb el Head of Urban Music a SAE Barcelona\, Javier Guil´len i el Head of Urban Music a SAE Madrid\, Marco Octavio Gómez\, en què parlarem de les necessitats de la indústria i revisarem alguns dels projectes més destacats que els nostres estudiants han realitzat al llarg de la seva formació.
URL:https://poblenouurbandistrict.com/ca/agenda/info-day-online-musica-urbana/
LOCATION:SAE Barcelona\, C/ del Perú\, 176\, Barcelona\, 08020
CATEGORIES:Música
ATTACH;FMTTYPE=image/jpeg:https://media.poblenouurbandistrict.com/2022/07/25053511/info-day-web-urban-music-production-842x842-1.jpg
END:VEVENT
END:VCALENDAR