BEGIN:VCALENDAR
VERSION:2.0
PRODID:-//Poblenou Urban District - ECPv6.15.20//NONSGML v1.0//EN
CALSCALE:GREGORIAN
METHOD:PUBLISH
X-WR-CALNAME:Poblenou Urban District
X-ORIGINAL-URL:https://poblenouurbandistrict.com/ca
X-WR-CALDESC:Esdeveniments per Poblenou Urban District
REFRESH-INTERVAL;VALUE=DURATION:PT1H
X-Robots-Tag:noindex
X-PUBLISHED-TTL:PT1H
BEGIN:VTIMEZONE
TZID:Europe/Madrid
BEGIN:DAYLIGHT
TZOFFSETFROM:+0100
TZOFFSETTO:+0200
TZNAME:CEST
DTSTART:20220327T010000
END:DAYLIGHT
BEGIN:STANDARD
TZOFFSETFROM:+0200
TZOFFSETTO:+0100
TZNAME:CET
DTSTART:20221030T010000
END:STANDARD
BEGIN:DAYLIGHT
TZOFFSETFROM:+0100
TZOFFSETTO:+0200
TZNAME:CEST
DTSTART:20230326T010000
END:DAYLIGHT
BEGIN:STANDARD
TZOFFSETFROM:+0200
TZOFFSETTO:+0100
TZNAME:CET
DTSTART:20231029T010000
END:STANDARD
BEGIN:DAYLIGHT
TZOFFSETFROM:+0100
TZOFFSETTO:+0200
TZNAME:CEST
DTSTART:20240331T010000
END:DAYLIGHT
BEGIN:STANDARD
TZOFFSETFROM:+0200
TZOFFSETTO:+0100
TZNAME:CET
DTSTART:20241027T010000
END:STANDARD
END:VTIMEZONE
BEGIN:VEVENT
DTSTART;TZID=Europe/Madrid:20230120T210000
DTEND;TZID=Europe/Madrid:20230120T223000
DTSTAMP:20260425T160340
CREATED:20221129T152447Z
LAST-MODIFIED:20221129T152622Z
UID:10003934-1674248400-1674253800@poblenouurbandistrict.com
SUMMARY:TRIBUTO U2\, DEPECHE MODE & THE CURE
DESCRIPTION:No us perdeu l’espectacular tribut de Neon Collective! Barcelona\, València\, Madrid\, Tarragona i Alacant… seran algunes de les ciutats on els valencians presentaran el seu nou espectacle tribut a U2\, Depeche Mode i The Cure.
URL:https://poblenouurbandistrict.com/ca/agenda/tributo-u2-depeche-mode-the-cure/
LOCATION:La Nau
CATEGORIES:Música
ATTACH;FMTTYPE=image/png:https://poblenouurbandistrict.com/wp-content/uploads/2022/11/diseno-sin-titulo-3-1.jpg
END:VEVENT
END:VCALENDAR