BEGIN:VCALENDAR
VERSION:2.0
PRODID:-//Poblenou Urban District - ECPv6.15.20//NONSGML v1.0//EN
CALSCALE:GREGORIAN
METHOD:PUBLISH
X-ORIGINAL-URL:https://poblenouurbandistrict.com/ca
X-WR-CALDESC:Esdeveniments per Poblenou Urban District
REFRESH-INTERVAL;VALUE=DURATION:PT1H
X-Robots-Tag:noindex
X-PUBLISHED-TTL:PT1H
BEGIN:VTIMEZONE
TZID:Europe/Madrid
BEGIN:DAYLIGHT
TZOFFSETFROM:+0100
TZOFFSETTO:+0200
TZNAME:CEST
DTSTART:20220327T010000
END:DAYLIGHT
BEGIN:STANDARD
TZOFFSETFROM:+0200
TZOFFSETTO:+0100
TZNAME:CET
DTSTART:20221030T010000
END:STANDARD
BEGIN:DAYLIGHT
TZOFFSETFROM:+0100
TZOFFSETTO:+0200
TZNAME:CEST
DTSTART:20230326T010000
END:DAYLIGHT
BEGIN:STANDARD
TZOFFSETFROM:+0200
TZOFFSETTO:+0100
TZNAME:CET
DTSTART:20231029T010000
END:STANDARD
BEGIN:DAYLIGHT
TZOFFSETFROM:+0100
TZOFFSETTO:+0200
TZNAME:CEST
DTSTART:20240331T010000
END:DAYLIGHT
BEGIN:STANDARD
TZOFFSETFROM:+0200
TZOFFSETTO:+0100
TZNAME:CET
DTSTART:20241027T010000
END:STANDARD
END:VTIMEZONE
BEGIN:VEVENT
DTSTART;TZID=Europe/Madrid:20230929T190000
DTEND;TZID=Europe/Madrid:20231001T190000
DTSTAMP:20260424T221816
CREATED:20230929T093057Z
LAST-MODIFIED:20230929T093057Z
UID:10006709-1696014000-1696186800@poblenouurbandistrict.com
SUMMARY:[:ca]Concert "Beethoven: Simfonia Heroica"[:es]Concierto "Beethoven: Sinfonía Heroica"[:]
DESCRIPTION:
URL:https://poblenouurbandistrict.com/ca/agenda/concert-beethoven-simfonia-heroica/
LOCATION:L’Auditori\, Carrer de Lepant\, 150\, Barcelona\, 08013\, Espanya
CATEGORIES:Música
END:VEVENT
BEGIN:VEVENT
DTSTART;TZID=Europe/Madrid:20231001T203000
DTEND;TZID=Europe/Madrid:20231001T203000
DTSTAMP:20260424T221816
CREATED:20230929T112940Z
LAST-MODIFIED:20230929T112940Z
UID:10006741-1696192200-1696192200@poblenouurbandistrict.com
SUMMARY:[:ca]Concert "Viniloversus"[:es]Concierto "Viniloversus"[:]
DESCRIPTION:
URL:https://poblenouurbandistrict.com/ca/agenda/concert-viniloversus/
LOCATION:La Nau
CATEGORIES:Música
END:VEVENT
BEGIN:VEVENT
DTSTART;TZID=Europe/Madrid:20231002T193000
DTEND;TZID=Europe/Madrid:20231002T193000
DTSTAMP:20260424T221816
CREATED:20230929T114316Z
LAST-MODIFIED:20230929T114316Z
UID:10006742-1696275000-1696275000@poblenouurbandistrict.com
SUMMARY:[:ca]Concert "Demob Happy"[:es]Concierto"Demob Happy"[:]
DESCRIPTION:
URL:https://poblenouurbandistrict.com/ca/agenda/concert-demob-happy/
LOCATION:La Nau
CATEGORIES:Música
END:VEVENT
BEGIN:VEVENT
DTSTART;TZID=Europe/Madrid:20231003T190000
DTEND;TZID=Europe/Madrid:20231003T190000
DTSTAMP:20260424T221816
CREATED:20230929T093244Z
LAST-MODIFIED:20230929T093244Z
UID:10006710-1696359600-1696359600@poblenouurbandistrict.com
SUMMARY:[:ca]Concert "Quartet Casals"[:es]Concierto "Quartet Casals"[:]
DESCRIPTION:
URL:https://poblenouurbandistrict.com/ca/agenda/concert-quartet-casals/
LOCATION:L’Auditori\, Carrer de Lepant\, 150\, Barcelona\, 08013\, Espanya
CATEGORIES:Música
END:VEVENT
BEGIN:VEVENT
DTSTART;TZID=Europe/Madrid:20231004T190000
DTEND;TZID=Europe/Madrid:20231004T190000
DTSTAMP:20260424T221816
CREATED:20230929T093410Z
LAST-MODIFIED:20230929T093410Z
UID:10006711-1696446000-1696446000@poblenouurbandistrict.com
SUMMARY:[:ca]Concert "Quartet Casals"[:es]Concierto " Quartet Casals"[:]
DESCRIPTION:
URL:https://poblenouurbandistrict.com/ca/agenda/concert-quartet-casals-2/
LOCATION:L’Auditori\, Carrer de Lepant\, 150\, Barcelona\, 08013\, Espanya
CATEGORIES:Música
END:VEVENT
BEGIN:VEVENT
DTSTART;TZID=Europe/Madrid:20231005T200000
DTEND;TZID=Europe/Madrid:20231005T200000
DTSTAMP:20260424T221816
CREATED:20230929T093925Z
LAST-MODIFIED:20230929T093925Z
UID:10006712-1696536000-1696536000@poblenouurbandistrict.com
SUMMARY:[:ca]Concert "Nuno Rebelo & Ben Roberts"[:es]Concierto "Nuno Rebelo & Ben Roberts"[:]
DESCRIPTION:
URL:https://poblenouurbandistrict.com/ca/agenda/concert-nuno-rebelo-ben-roberts/
LOCATION:Museu de la música\, C/ de Lepant\, 150\, Barcelona\, Catalunya\, 08013\, Espanya
CATEGORIES:Música
END:VEVENT
BEGIN:VEVENT
DTSTART;TZID=Europe/Madrid:20231005T203000
DTEND;TZID=Europe/Madrid:20231005T203000
DTSTAMP:20260424T221816
CREATED:20230929T114615Z
LAST-MODIFIED:20230929T114615Z
UID:10006744-1696537800-1696537800@poblenouurbandistrict.com
SUMMARY:[:ca]Concert "Riders of the Canyon"[:es]Concierto "Riders of the Canyon"[:]
DESCRIPTION:
URL:https://poblenouurbandistrict.com/ca/agenda/concert-riders-of-the-canyon/
LOCATION:La Nau
CATEGORIES:Música
END:VEVENT
BEGIN:VEVENT
DTSTART;TZID=Europe/Madrid:20231005T210000
DTEND;TZID=Europe/Madrid:20231005T210000
DTSTAMP:20260424T221816
CREATED:20230929T094545Z
LAST-MODIFIED:20230929T094545Z
UID:10006713-1696539600-1696539600@poblenouurbandistrict.com
SUMMARY:[:ca]Concert "La Banda a la Festa Major del Congrés"[:es]Concierto "La Banda en la Fiesta Mayor del Congreso"[:]
DESCRIPTION:
URL:https://poblenouurbandistrict.com/ca/agenda/concert-la-banda-a-la-festa-major-del-congres/
LOCATION:Parròquia Sant Pius X\, Cardenal Tedeschini\, 52\, Barcelona\, Catalunya\, 08027\, Estats Units
CATEGORIES:Música
END:VEVENT
BEGIN:VEVENT
DTSTART;TZID=Europe/Madrid:20231006T190000
DTEND;TZID=Europe/Madrid:20231006T190000
DTSTAMP:20260424T221816
CREATED:20230929T094830Z
LAST-MODIFIED:20230929T094830Z
UID:10006714-1696618800-1696618800@poblenouurbandistrict.com
SUMMARY:[:ca]Concert "La Consagració de la Primavera"[:es]Concierto "La Consagración de la Primavera"[:]
DESCRIPTION:
URL:https://poblenouurbandistrict.com/ca/agenda/concert-la-consagracio-de-la-primavera/2023-10-06/
LOCATION:L’Auditori\, Carrer de Lepant\, 150\, Barcelona\, 08013\, Espanya
CATEGORIES:Música
END:VEVENT
BEGIN:VEVENT
DTSTART;TZID=Europe/Madrid:20231006T190000
DTEND;TZID=Europe/Madrid:20231006T190000
DTSTAMP:20260424T221816
CREATED:20230929T095208Z
LAST-MODIFIED:20230929T095208Z
UID:10006716-1696618800-1696618800@poblenouurbandistrict.com
SUMMARY:[:ca]Concert "La Banda a la Festa Major de Montbau"[:es]Concierto "La Banda en la Fiesta Mayor de Montbau"[:]
DESCRIPTION:
URL:https://poblenouurbandistrict.com/ca/agenda/concert-la-banda-a-la-festa-major-de-montbau/
LOCATION:Pla de Montbau\, Pla de Montbau\, 3\, Barcelona\, Catalunya\, 08035\, Espanya
CATEGORIES:Música
END:VEVENT
BEGIN:VEVENT
DTSTART;TZID=Europe/Madrid:20231006T213000
DTEND;TZID=Europe/Madrid:20231006T213000
DTSTAMP:20260424T221816
CREATED:20230929T114736Z
LAST-MODIFIED:20230929T114736Z
UID:10006745-1696627800-1696627800@poblenouurbandistrict.com
SUMMARY:[:ca]Concert "Rafa Espino"[:es]Concierto "Rafa Espino"[:]
DESCRIPTION:
URL:https://poblenouurbandistrict.com/ca/agenda/concert-rafa-espino/
LOCATION:La Nau
CATEGORIES:Música
END:VEVENT
BEGIN:VEVENT
DTSTART;TZID=Europe/Madrid:20231007T190000
DTEND;TZID=Europe/Madrid:20231007T190000
DTSTAMP:20260424T221816
CREATED:20230929T095832Z
LAST-MODIFIED:20230929T095832Z
UID:10006717-1696705200-1696705200@poblenouurbandistrict.com
SUMMARY:[:ca]Concert "La Banda a la Festa Major de les Corts"[:es]Concierto "La Banda en la Fiesta Mayor de Les Corts"[:]
DESCRIPTION:
URL:https://poblenouurbandistrict.com/ca/agenda/concert-la-banda-a-la-festa-major-de-les-corts/
LOCATION:Plaça del Monestir de Pedralbes\, Plaça del Monestir de Pedralbes\, Barcelona\, Catalunya\, 08034\, Espanya
CATEGORIES:Música
END:VEVENT
BEGIN:VEVENT
DTSTART;TZID=Europe/Madrid:20231007T210000
DTEND;TZID=Europe/Madrid:20231007T210000
DTSTAMP:20260424T221816
CREATED:20230929T100049Z
LAST-MODIFIED:20230929T100049Z
UID:10006718-1696712400-1696712400@poblenouurbandistrict.com
SUMMARY:[:ca]Concert "La Consagració de la primavera"[:es]Concierto "La Consagración de la primavera"[:]
DESCRIPTION:
URL:https://poblenouurbandistrict.com/ca/agenda/concert-la-consagracio-de-la-primavera-2/
LOCATION:L’Auditori\, Carrer de Lepant\, 150\, Barcelona\, 08013\, Espanya
CATEGORIES:Música
END:VEVENT
BEGIN:VEVENT
DTSTART;TZID=Europe/Madrid:20231007T220000
DTEND;TZID=Europe/Madrid:20231007T220000
DTSTAMP:20260424T221816
CREATED:20230929T115012Z
LAST-MODIFIED:20230929T115012Z
UID:10006746-1696716000-1696716000@poblenouurbandistrict.com
SUMMARY:[:ca]Concert "Californicators - Tribut Red Hot Chilli Peppers"[:es]Concierto "Californicators - Tributo Red Hot Chilli Peppers"[:]
DESCRIPTION:
URL:https://poblenouurbandistrict.com/ca/agenda/concert-californicators-tribut-red-hot-chilli-peppers/
LOCATION:La Nau
CATEGORIES:Música
END:VEVENT
BEGIN:VEVENT
DTSTART;TZID=Europe/Madrid:20231008T103000
DTEND;TZID=Europe/Madrid:20231008T103000
DTSTAMP:20260424T221816
CREATED:20230929T100411Z
LAST-MODIFIED:20230929T100411Z
UID:10006719-1696761000-1696761000@poblenouurbandistrict.com
SUMMARY:[:ca]Activitat "Matí Musical per a embarassades"[:es]Actividad "Mañana Musical para embarazadas"[:]
DESCRIPTION:
URL:https://poblenouurbandistrict.com/ca/agenda/activitat-mati-musical-per-a-embarassades/2023-10-08/
LOCATION:L’Auditori\, Carrer de Lepant\, 150\, Barcelona\, 08013\, Espanya
CATEGORIES:Música
END:VEVENT
BEGIN:VEVENT
DTSTART;TZID=Europe/Madrid:20231008T110000
DTEND;TZID=Europe/Madrid:20231008T110000
DTSTAMP:20260424T221816
CREATED:20230929T094830Z
LAST-MODIFIED:20230929T094830Z
UID:10006715-1696762800-1696762800@poblenouurbandistrict.com
SUMMARY:[:ca]Concert "La Consagració de la Primavera"[:es]Concierto "La Consagración de la Primavera"[:]
DESCRIPTION:
URL:https://poblenouurbandistrict.com/ca/agenda/concert-la-consagracio-de-la-primavera/2023-10-08/
LOCATION:L’Auditori\, Carrer de Lepant\, 150\, Barcelona\, 08013\, Espanya
CATEGORIES:Música
END:VEVENT
BEGIN:VEVENT
DTSTART;TZID=Europe/Madrid:20231008T173000
DTEND;TZID=Europe/Madrid:20231008T173000
DTSTAMP:20260424T221816
CREATED:20230929T115137Z
LAST-MODIFIED:20230929T115137Z
UID:10006747-1696786200-1696786200@poblenouurbandistrict.com
SUMMARY:[:ca]Concert "Bajada de Furros"[:es]Concierto "Bajada de Furros"[:]
DESCRIPTION:
URL:https://poblenouurbandistrict.com/ca/agenda/concert-bajada-de-furros/
LOCATION:La Nau
CATEGORIES:Música
END:VEVENT
BEGIN:VEVENT
DTSTART;TZID=Europe/Madrid:20231011T190000
DTEND;TZID=Europe/Madrid:20231011T190000
DTSTAMP:20260424T221816
CREATED:20230929T100742Z
LAST-MODIFIED:20230929T100742Z
UID:10006722-1697050800-1697050800@poblenouurbandistrict.com
SUMMARY:[:ca]Concert "Memorial G. Ligeti"[:es]Concierto "Memorial G. Ligeti"[:]
DESCRIPTION:
URL:https://poblenouurbandistrict.com/ca/agenda/concert-memorial-g-ligeti/
LOCATION:L’Auditori\, Carrer de Lepant\, 150\, Barcelona\, 08013\, Espanya
CATEGORIES:Música
END:VEVENT
BEGIN:VEVENT
DTSTART;TZID=Europe/Madrid:20231012T193000
DTEND;TZID=Europe/Madrid:20231012T193000
DTSTAMP:20260424T221816
CREATED:20230929T115310Z
LAST-MODIFIED:20230929T115310Z
UID:10006748-1697139000-1697139000@poblenouurbandistrict.com
SUMMARY:[:ca]Concert "Esprit D'air"[:es]Concierto "Esprit D'air"[:]
DESCRIPTION:
URL:https://poblenouurbandistrict.com/ca/agenda/concert-esprit-dair/
LOCATION:La Nau
CATEGORIES:Música
END:VEVENT
BEGIN:VEVENT
DTSTART;TZID=Europe/Madrid:20231013T170000
DTEND;TZID=Europe/Madrid:20231013T170000
DTSTAMP:20260424T221816
CREATED:20230929T100940Z
LAST-MODIFIED:20230929T100940Z
UID:10006723-1697216400-1697216400@poblenouurbandistrict.com
SUMMARY:[:ca]Concert "Ligeti Reloaded"[:es]Concierto "Ligeti Reloaded"[:]
DESCRIPTION:
URL:https://poblenouurbandistrict.com/ca/agenda/concert-ligeti-reloaded/
LOCATION:Museu de la música\, C/ de Lepant\, 150\, Barcelona\, Catalunya\, 08013\, Espanya
CATEGORIES:Música
END:VEVENT
BEGIN:VEVENT
DTSTART;TZID=Europe/Madrid:20231013T190000
DTEND;TZID=Europe/Madrid:20231013T190000
DTSTAMP:20260424T221816
CREATED:20230929T101144Z
LAST-MODIFIED:20230929T101144Z
UID:10006724-1697223600-1697223600@poblenouurbandistrict.com
SUMMARY:[:ca]Concert "Poème Symphonique"[:es]Concierto "Poème Symphonique"[:]
DESCRIPTION:
URL:https://poblenouurbandistrict.com/ca/agenda/concert-poeme-symphonique/
LOCATION:Museu de la música\, C/ de Lepant\, 150\, Barcelona\, Catalunya\, 08013\, Espanya
CATEGORIES:Música
END:VEVENT
BEGIN:VEVENT
DTSTART;TZID=Europe/Madrid:20231013T200000
DTEND;TZID=Europe/Madrid:20231013T200000
DTSTAMP:20260424T221816
CREATED:20230929T101304Z
LAST-MODIFIED:20230929T101304Z
UID:10006725-1697227200-1697227200@poblenouurbandistrict.com
SUMMARY:[:ca]Concert: "Ligeti: Quartet N. 2"[:es]Concierto: "Ligeti: Cuarteto N. 2"[:]
DESCRIPTION:
URL:https://poblenouurbandistrict.com/ca/agenda/concert-ligeti-quartet-n-2/
LOCATION:L’Auditori\, Carrer de Lepant\, 150\, Barcelona\, 08013\, Espanya
CATEGORIES:Música
END:VEVENT
BEGIN:VEVENT
DTSTART;TZID=Europe/Madrid:20231013T210000
DTEND;TZID=Europe/Madrid:20231013T210000
DTSTAMP:20260424T221816
CREATED:20230929T115426Z
LAST-MODIFIED:20230929T115426Z
UID:10006749-1697230800-1697230800@poblenouurbandistrict.com
SUMMARY:[:ca]Concert "La Plata"[:es]Concierto "La Plata"[:]
DESCRIPTION:
URL:https://poblenouurbandistrict.com/ca/agenda/concert-la-plata/
LOCATION:La Nau
CATEGORIES:Música
END:VEVENT
BEGIN:VEVENT
DTSTART;TZID=Europe/Madrid:20231014T180000
DTEND;TZID=Europe/Madrid:20231014T180000
DTSTAMP:20260424T221816
CREATED:20230929T101433Z
LAST-MODIFIED:20230929T101433Z
UID:10006726-1697306400-1697306400@poblenouurbandistrict.com
SUMMARY:[:ca]Concert "Soliloqui(s)"[:es]Concierto "Soliloqui(s)"[:]
DESCRIPTION:
URL:https://poblenouurbandistrict.com/ca/agenda/concert-soliloquis/
LOCATION:L’Auditori\, Carrer de Lepant\, 150\, Barcelona\, 08013\, Espanya
CATEGORIES:Música
END:VEVENT
BEGIN:VEVENT
DTSTART;TZID=Europe/Madrid:20231014T193000
DTEND;TZID=Europe/Madrid:20231014T193000
DTSTAMP:20260424T221816
CREATED:20230929T101628Z
LAST-MODIFIED:20230929T101628Z
UID:10006727-1697311800-1697311800@poblenouurbandistrict.com
SUMMARY:[:ca]Concert "Parra & Pons: Constellations de Miró"[:es]Concierto "Parra & Pons: Constellations de Miró"[:]
DESCRIPTION:
URL:https://poblenouurbandistrict.com/ca/agenda/concert-parra-pons-constellations-de-miro/
LOCATION:L’Auditori\, Carrer de Lepant\, 150\, Barcelona\, 08013\, Espanya
CATEGORIES:Música
END:VEVENT
BEGIN:VEVENT
DTSTART;TZID=Europe/Madrid:20231014T220000
DTEND;TZID=Europe/Madrid:20231014T220000
DTSTAMP:20260424T221816
CREATED:20230929T115556Z
LAST-MODIFIED:20230929T115556Z
UID:10006750-1697320800-1697320800@poblenouurbandistrict.com
SUMMARY:[:ca]Concert "Los Coming Soon Live!"[:es]Concierto "Los Coming Soon Live!"[:]
DESCRIPTION:
URL:https://poblenouurbandistrict.com/ca/agenda/concert-los-coming-soon-live/
LOCATION:La Nau
CATEGORIES:Música
END:VEVENT
BEGIN:VEVENT
DTSTART;TZID=Europe/Madrid:20231022T180000
DTEND;TZID=Europe/Madrid:20231022T180000
DTSTAMP:20260424T221816
CREATED:20231020T115158Z
LAST-MODIFIED:20231020T115158Z
UID:10006761-1697997600-1697997600@poblenouurbandistrict.com
SUMMARY:[:ca]Concert "Paquito D'Rivera & BMB"[:es]Concierto "Paquito D'Rivera & BMB"[:]
DESCRIPTION:
URL:https://poblenouurbandistrict.com/ca/agenda/concert-paquito-drivera-bmb/
LOCATION:L’Auditori\, Carrer de Lepant\, 150\, Barcelona\, 08013\, Espanya
CATEGORIES:Música
END:VEVENT
BEGIN:VEVENT
DTSTART;TZID=Europe/Madrid:20231026T190000
DTEND;TZID=Europe/Madrid:20231026T190000
DTSTAMP:20260424T221816
CREATED:20231020T115441Z
LAST-MODIFIED:20231020T115613Z
UID:10006762-1698346800-1698346800@poblenouurbandistrict.com
SUMMARY:[:ca]Concert "Vespres d’Arnadí"[:es]Concierto "Vespres d’Arnadí"[:]
DESCRIPTION:
URL:https://poblenouurbandistrict.com/ca/agenda/concert-handel-aci-galatea-e-polifemo/
LOCATION:L’Auditori\, Carrer de Lepant\, 150\, Barcelona\, 08013\, Espanya
CATEGORIES:Música
END:VEVENT
BEGIN:VEVENT
DTSTART;TZID=Europe/Madrid:20231029T180000
DTEND;TZID=Europe/Madrid:20231029T180000
DTSTAMP:20260424T221816
CREATED:20231020T112831Z
LAST-MODIFIED:20231020T112831Z
UID:10006757-1698602400-1698602400@poblenouurbandistrict.com
SUMMARY:[:ca]Concert "Tributo a Mecano"[:es]Concierto "Tributo a Mecano"[:]
DESCRIPTION:
URL:https://poblenouurbandistrict.com/ca/agenda/concert-tributo-a-mecano/
LOCATION:Casino l’aliança del Poblenou\, Rambla del Poblenou\, 42\,\, Barcelona\, Barcelona\, 08005\, Espanya
CATEGORIES:Música
END:VEVENT
END:VCALENDAR