BEGIN:VCALENDAR
VERSION:2.0
PRODID:-//Poblenou Urban District - ECPv6.15.20//NONSGML v1.0//EN
CALSCALE:GREGORIAN
METHOD:PUBLISH
X-ORIGINAL-URL:https://poblenouurbandistrict.com/ca
X-WR-CALDESC:Esdeveniments per Poblenou Urban District
REFRESH-INTERVAL;VALUE=DURATION:PT1H
X-Robots-Tag:noindex
X-PUBLISHED-TTL:PT1H
BEGIN:VTIMEZONE
TZID:Europe/Madrid
BEGIN:DAYLIGHT
TZOFFSETFROM:+0100
TZOFFSETTO:+0200
TZNAME:CEST
DTSTART:20230326T010000
END:DAYLIGHT
BEGIN:STANDARD
TZOFFSETFROM:+0200
TZOFFSETTO:+0100
TZNAME:CET
DTSTART:20231029T010000
END:STANDARD
BEGIN:DAYLIGHT
TZOFFSETFROM:+0100
TZOFFSETTO:+0200
TZNAME:CEST
DTSTART:20240331T010000
END:DAYLIGHT
BEGIN:STANDARD
TZOFFSETFROM:+0200
TZOFFSETTO:+0100
TZNAME:CET
DTSTART:20241027T010000
END:STANDARD
BEGIN:DAYLIGHT
TZOFFSETFROM:+0100
TZOFFSETTO:+0200
TZNAME:CEST
DTSTART:20250330T010000
END:DAYLIGHT
BEGIN:STANDARD
TZOFFSETFROM:+0200
TZOFFSETTO:+0100
TZNAME:CET
DTSTART:20251026T010000
END:STANDARD
END:VTIMEZONE
BEGIN:VEVENT
DTSTART;TZID=Europe/Madrid:20240211T103000
DTEND;TZID=Europe/Madrid:20240211T103000
DTSTAMP:20260424T143911
CREATED:20230929T100411Z
LAST-MODIFIED:20230929T100411Z
UID:10006720-1707647400-1707647400@poblenouurbandistrict.com
SUMMARY:[:ca]Activitat "Matí Musical per a embarassades"[:es]Actividad "Mañana Musical para embarazadas"[:]
DESCRIPTION:
URL:https://poblenouurbandistrict.com/ca/agenda/activitat-mati-musical-per-a-embarassades/2024-02-11/
LOCATION:L’Auditori\, Carrer de Lepant\, 150\, Barcelona\, 08013\, Espanya
CATEGORIES:Música
END:VEVENT
BEGIN:VEVENT
DTSTART;TZID=Europe/Madrid:20240224T213000
DTEND;TZID=Europe/Madrid:20240224T213000
DTSTAMP:20260424T143911
CREATED:20240122T120013Z
LAST-MODIFIED:20240122T120013Z
UID:10006782-1708810200-1708810200@poblenouurbandistrict.com
SUMMARY:[:ca]Concert "Karmento"[:]
DESCRIPTION:
URL:https://poblenouurbandistrict.com/ca/agenda/concert-karmento-2/
LOCATION:Sala Wolf\, C/ dels Almogàvers\, 88\, Barcelona\, Barcelona\, 08018\, Espanya
CATEGORIES:Música
END:VEVENT
BEGIN:VEVENT
DTSTART;TZID=Europe/Madrid:20240225T180000
DTEND;TZID=Europe/Madrid:20240225T220000
DTSTAMP:20260424T143911
CREATED:20240223T115929Z
LAST-MODIFIED:20240223T154923Z
UID:10006788-1708884000-1708898400@poblenouurbandistrict.com
SUMMARY:[:ca]"Iconiqa"[:]
DESCRIPTION:
URL:https://poblenouurbandistrict.com/ca/agenda/concert-iconiqa/
LOCATION:Sala Razzmatazz\, C/ dels Almogàvers\, 122\, Barcelona\, Barcelona\, 08018\, Espanya
CATEGORIES:Música
END:VEVENT
END:VCALENDAR