BEGIN:VCALENDAR
VERSION:2.0
PRODID:-//Poblenou Urban District - ECPv6.15.20//NONSGML v1.0//EN
CALSCALE:GREGORIAN
METHOD:PUBLISH
X-ORIGINAL-URL:https://poblenouurbandistrict.com/ca
X-WR-CALDESC:Esdeveniments per Poblenou Urban District
REFRESH-INTERVAL;VALUE=DURATION:PT1H
X-Robots-Tag:noindex
X-PUBLISHED-TTL:PT1H
BEGIN:VTIMEZONE
TZID:Europe/Madrid
BEGIN:DAYLIGHT
TZOFFSETFROM:+0100
TZOFFSETTO:+0200
TZNAME:CEST
DTSTART:20230326T010000
END:DAYLIGHT
BEGIN:STANDARD
TZOFFSETFROM:+0200
TZOFFSETTO:+0100
TZNAME:CET
DTSTART:20231029T010000
END:STANDARD
BEGIN:DAYLIGHT
TZOFFSETFROM:+0100
TZOFFSETTO:+0200
TZNAME:CEST
DTSTART:20240331T010000
END:DAYLIGHT
BEGIN:STANDARD
TZOFFSETFROM:+0200
TZOFFSETTO:+0100
TZNAME:CET
DTSTART:20241027T010000
END:STANDARD
BEGIN:DAYLIGHT
TZOFFSETFROM:+0100
TZOFFSETTO:+0200
TZNAME:CEST
DTSTART:20250330T010000
END:DAYLIGHT
BEGIN:STANDARD
TZOFFSETFROM:+0200
TZOFFSETTO:+0100
TZNAME:CET
DTSTART:20251026T010000
END:STANDARD
END:VTIMEZONE
BEGIN:VEVENT
DTSTART;TZID=Europe/Madrid:20241112T183000
DTEND;TZID=Europe/Madrid:20241112T183000
DTSTAMP:20260423T222546
CREATED:20241111T100559Z
LAST-MODIFIED:20241111T100559Z
UID:10007037-1731436200-1731436200@poblenouurbandistrict.com
SUMMARY:DPR - THE DREAM REBORN WORLD TOUR 2024
DESCRIPTION:El grup coreà DPR anuncia les dates de The Dream Reborn World Tour 2024\, la gira que comptarà amb DPR Ian\, DPR Cream i DPR Artic. Actuarán en Barcelona el 12 de novembre a Razzmatazz. \nDream Perfect Regime és quelcom únic a la indústria musical\, sobretot a Corea del Sud\, ja que es gestiona gairebé al 100% internament. Els membres de l’equip de DPR escriuen\, produeixen i dirigeixen tota la seva música i continguts visuals. \n  \nMés informació i entrades aquí.
URL:https://poblenouurbandistrict.com/ca/agenda/dpr-the-dream-reborn-world-tour-2024/
LOCATION:Sala Razzmatazz\, C/ dels Almogàvers\, 122\, Barcelona\, Barcelona\, 08018\, Espanya
CATEGORIES:Música
ATTACH;FMTTYPE=image/jpeg:https://media.poblenouurbandistrict.com/2024/11/25081508/dpr2.jpg
END:VEVENT
BEGIN:VEVENT
DTSTART;TZID=Europe/Madrid:20241112T193000
DTEND;TZID=Europe/Madrid:20241112T193000
DTSTAMP:20260423T222546
CREATED:20241111T095519Z
LAST-MODIFIED:20241112T182819Z
UID:10007036-1731439800-1731439800@poblenouurbandistrict.com
SUMMARY:SOM VALÈNCIA - SERGI ESTELLA\, DJ CLAIRE RETROGIRL I BARCELONA BIG BLUES BAND
DESCRIPTION:Som València és un esdeveniment benèfic múltiple de concerts durant diversos dies a diferents sales i ciutats per recaudar fons per a les persones més afectades pel devastador pas de la DANA a València. \nLa recaudació de tots els concerts programats per SOM València es destinarà íntegrament a aquesta causa a través d’una xarxa d’organitzacions locals. La Fundació Horta Sud\, amb més de 50 anys d’experiència garantirà la distribucuó equitativa dels fons. \n  \nMés informació i entrades aquí.
URL:https://poblenouurbandistrict.com/ca/agenda/som-valencia-sergi-estella-dj-claire-retrogirl-i-barcelona-big-blues-band/
LOCATION:Sala Razzmatazz\, C/ dels Almogàvers\, 122\, Barcelona\, Barcelona\, 08018\, Espanya
CATEGORIES:Música
ATTACH;FMTTYPE=image/jpeg:https://media.poblenouurbandistrict.com/2024/11/25081504/bbbb2.jpg
END:VEVENT
BEGIN:VEVENT
DTSTART;TZID=Europe/Madrid:20241114T193000
DTEND;TZID=Europe/Madrid:20241114T193000
DTSTAMP:20260423T222546
CREATED:20241111T101212Z
LAST-MODIFIED:20241111T101652Z
UID:10007038-1731612600-1731612600@poblenouurbandistrict.com
SUMMARY:WORAKLS ORCHESTRA
DESCRIPTION:Després de captivar al públic de tota Europa amb gires amb entrades esgotades en 2022 i 2023\, Worakls torna als escenaris per a presentar una nova interpretació del seu projecte “Worakls Orchestra.” \nAcompanyat per un grup de vint músics clàssics\, inclosos sis solistes de diversos orígens i talents\, Worakls s’embarca en un viatge fresc\, completament reimaginat\, per a mostrar el seu nou àlbum. \nMés que un nou espectacle\, representa el cim d’un artista sense parangó les inspiracions del qual ressonen a través de generacions d’amants de la música. \n  \nMés informació i entrades aquí.
URL:https://poblenouurbandistrict.com/ca/agenda/chiara-oliver-la-libreta-rosa-tour-2024/
LOCATION:Sala Razzmatazz\, C/ dels Almogàvers\, 122\, Barcelona\, Barcelona\, 08018\, Espanya
CATEGORIES:Música
ATTACH;FMTTYPE=image/jpeg:https://media.poblenouurbandistrict.com/2024/11/25081514/worakls2.jpg
END:VEVENT
BEGIN:VEVENT
DTSTART;TZID=Europe/Madrid:20241115T193000
DTEND;TZID=Europe/Madrid:20241115T193000
DTSTAMP:20260423T222546
CREATED:20241111T102627Z
LAST-MODIFIED:20241111T102627Z
UID:10007039-1731699000-1731699000@poblenouurbandistrict.com
SUMMARY:REBUJITOS - PUREZA AL NATURAL
DESCRIPTION:Yerai Blanco arriba a Barcelona en la seva nova gira 2024 per a presentar el seu últim treballo “Puresa al natural”. Aquest nou disc produït pel propi Yerai està fet d’una manera natural\, orgànica i sense filtres\, mantenint l’essència de Yerai i aportant noves formes naturals a les seves composicions. L’acolliment d’aquest nou treball està sent increïble\, amb diversos singles ja llançats que han aconseguit els primers llocs de les llistes d’èxits: “Són els petons”\, “L’excavadora”\, “Lleva’t la bena”\, “Mai Pensava” i “Afecte” són bona prova d’això. \nYerai visita Barcelona i ho fa amb molta il·lusió\, després de l’èxit del seu últim concert al novembre de 2023 i amb la intenció de bolcar-se i gaudir amb el seu públic tant amb els nous èxits de “Puresa al natural” com amb les seves cançons de sempre\, amb una posada en escena renovada que emocionarà de nou al seu públic. \nSens dubte un dels artistes més rellevants del panorama pop\, amb grans hits que tots reconeixem com “Tots els petons”\, “El que m’agrada de tu”\, “Vull”\, “Quatre soldaditos”\, “Volar”\, “Veti”\, “Li demanaré a la lluna”\, “Un bonic final” o “Nena” entre altres que han passat sens dubte a la història de la música nacional. \nMés informació i entrades aquí.
URL:https://poblenouurbandistrict.com/ca/agenda/rebujitos-pureza-al-natural/
LOCATION:Sala Razzmatazz\, C/ dels Almogàvers\, 122\, Barcelona\, Barcelona\, 08018\, Espanya
CATEGORIES:Música
ATTACH;FMTTYPE=image/jpeg:https://media.poblenouurbandistrict.com/2024/11/25081516/rebujitos2.jpg
END:VEVENT
BEGIN:VEVENT
DTSTART;TZID=Europe/Madrid:20241116T190000
DTEND;TZID=Europe/Madrid:20241116T190000
DTSTAMP:20260423T222546
CREATED:20241111T102918Z
LAST-MODIFIED:20241111T102918Z
UID:10007040-1731783600-1731783600@poblenouurbandistrict.com
SUMMARY:SAM TOMPKINS - HI\, MY NAME IS INSECURE TOUR
DESCRIPTION:Més informació i entrades aquí.
URL:https://poblenouurbandistrict.com/ca/agenda/sam-tompkins-hi-my-name-is-insecure-tour/
LOCATION:Sala Razzmatazz\, C/ dels Almogàvers\, 122\, Barcelona\, Barcelona\, 08018\, Espanya
CATEGORIES:Música
ATTACH;FMTTYPE=image/jpeg:https://media.poblenouurbandistrict.com/2024/11/25081521/samtompkins2.jpg
END:VEVENT
BEGIN:VEVENT
DTSTART;TZID=Europe/Madrid:20241116T203000
DTEND;TZID=Europe/Madrid:20241116T203000
DTSTAMP:20260423T222546
CREATED:20241111T103227Z
LAST-MODIFIED:20241111T103227Z
UID:10007041-1731789000-1731789000@poblenouurbandistrict.com
SUMMARY:HEY BULLDOGS PRESENTA LET IT BE
DESCRIPTION:HEY BULDOGS\, la banda que ret homenatge a The Beatles des del costat més lúdic\, tornen posant especial èmfasi en el musical i a arrodonir xous temàtics on tant els fans més acèrrims com els més casuals trobaran el seu lloc. En aquesta ocasió\, tocaran íntegrament l’àlbum “Let it be”\, que ens porta als últims anys de la banda de Liverpool\, el seu famós últim concert en el terrat de Savile Row (reflectit complet en la recent “Get back” de Peter Jackson)\, singles d’aquests anys i un grapat de sorpreses a part d’altres èpoques. \n  \nMés informació i entrades aquí.
URL:https://poblenouurbandistrict.com/ca/agenda/hey-bulldogs-presenta-let-it-be/
LOCATION:Sala Razzmatazz\, C/ dels Almogàvers\, 122\, Barcelona\, Barcelona\, 08018\, Espanya
CATEGORIES:Música
ATTACH;FMTTYPE=image/jpeg:https://media.poblenouurbandistrict.com/2024/11/25081523/heybull2.jpg
END:VEVENT
BEGIN:VEVENT
DTSTART;TZID=Europe/Madrid:20241116T203000
DTEND;TZID=Europe/Madrid:20241116T203000
DTSTAMP:20260423T222546
CREATED:20241111T103350Z
LAST-MODIFIED:20241111T103350Z
UID:10007042-1731789000-1731789000@poblenouurbandistrict.com
SUMMARY:HEY BULLDOGS PRESENTA LET IT BE
DESCRIPTION:HEY BULDOGS\, la banda que ret homenatge a The Beatles des del costat més lúdic\, tornen posant especial èmfasi en el musical i a arrodonir shows temàtics on tant els fans més acèrrims com els més casuals trobaran el seu lloc. En aquesta ocasió\, tocaran íntegrament l’àlbum “Let it be”\, que ens porta als últims anys de la banda de Liverpool\, el seu famós últim concert en el terrat de Savile Row (reflectit complet en la recent “Get back” de Peter Jackson)\, singles d’aquests anys i un grapat de sorpreses a part d’altres èpoques. \n  \nMés informació i entrades aquí.
URL:https://poblenouurbandistrict.com/ca/agenda/hey-bulldogs-presenta-let-it-be-2/
LOCATION:Sala Razzmatazz\, C/ dels Almogàvers\, 122\, Barcelona\, Barcelona\, 08018\, Espanya
CATEGORIES:Música
ATTACH;FMTTYPE=image/jpeg:https://media.poblenouurbandistrict.com/2024/11/25081523/heybull2.jpg
END:VEVENT
BEGIN:VEVENT
DTSTART;TZID=Europe/Madrid:20241117T190000
DTEND;TZID=Europe/Madrid:20241117T190000
DTSTAMP:20260423T222546
CREATED:20241111T103729Z
LAST-MODIFIED:20241111T103729Z
UID:10007043-1731870000-1731870000@poblenouurbandistrict.com
SUMMARY:HEY BULLDOGS PRESENTA LET IT BE
DESCRIPTION:Després de la seva primera gira amb tots els shows esgotats i el llançament de ‘Ojos Nuevos’\, la col·laboració amb la virtuosa arpista gal·lesa Amanda Whiting\, i el personal ‘Desde el Otro Lado’\, Gizmo Varetes torna amb l’impressionant ‘Follow The Sun’\, el seu últim EP. \nMés informació i entrades aquí.
URL:https://poblenouurbandistrict.com/ca/agenda/hey-bulldogs-presenta-let-it-be-3/
LOCATION:Sala Razzmatazz\, C/ dels Almogàvers\, 122\, Barcelona\, Barcelona\, 08018\, Espanya
CATEGORIES:Música
ATTACH;FMTTYPE=image/jpeg:https://media.poblenouurbandistrict.com/2024/11/25081526/gizmovarillas2.jpg
END:VEVENT
END:VCALENDAR