BEGIN:VCALENDAR
VERSION:2.0
PRODID:-//Poblenou Urban District - ECPv6.15.20//NONSGML v1.0//EN
CALSCALE:GREGORIAN
METHOD:PUBLISH
X-ORIGINAL-URL:https://poblenouurbandistrict.com/ca
X-WR-CALDESC:Esdeveniments per Poblenou Urban District
REFRESH-INTERVAL;VALUE=DURATION:PT1H
X-Robots-Tag:noindex
X-PUBLISHED-TTL:PT1H
BEGIN:VTIMEZONE
TZID:Europe/Madrid
BEGIN:DAYLIGHT
TZOFFSETFROM:+0100
TZOFFSETTO:+0200
TZNAME:CEST
DTSTART:20240331T010000
END:DAYLIGHT
BEGIN:STANDARD
TZOFFSETFROM:+0200
TZOFFSETTO:+0100
TZNAME:CET
DTSTART:20241027T010000
END:STANDARD
BEGIN:DAYLIGHT
TZOFFSETFROM:+0100
TZOFFSETTO:+0200
TZNAME:CEST
DTSTART:20250330T010000
END:DAYLIGHT
BEGIN:STANDARD
TZOFFSETFROM:+0200
TZOFFSETTO:+0100
TZNAME:CET
DTSTART:20251026T010000
END:STANDARD
BEGIN:DAYLIGHT
TZOFFSETFROM:+0100
TZOFFSETTO:+0200
TZNAME:CEST
DTSTART:20260329T010000
END:DAYLIGHT
BEGIN:STANDARD
TZOFFSETFROM:+0200
TZOFFSETTO:+0100
TZNAME:CET
DTSTART:20261025T010000
END:STANDARD
END:VTIMEZONE
BEGIN:VEVENT
DTSTART;TZID=Europe/Madrid:20250109T200000
DTEND;TZID=Europe/Madrid:20250109T200000
DTSTAMP:20260423T180854
CREATED:20250107T093949Z
LAST-MODIFIED:20250107T094114Z
UID:10007075-1736452800-1736452800@poblenouurbandistrict.com
SUMMARY:[:ca]LECOCQ + YAUNEST[:es] LECOCQ + YAUNEST[:en]LECOCQ + YAUNEST[:]
DESCRIPTION:Enric Mont Lecocq decideix embarcar-se en un nou projecte\, LECOCQ\, cantat en les seves dues llengües maternes\, el francès i el català. El seu primer disc\, Sous la glace / Sota el gel\, està format per 10 cançons que sorgeixen de la necessitat d’explorar una sèrie de records que conformen la seva identitat i traduir-los sobre el pentagrama. \nYaunest\, cantautor i vocalista empordanès\, parla de l’amor\, la frustració\, les inseguretats\, la por al conformisme\, a estancar-se en una vida avorrida que no desitja i a no saber rebel·lar-se contra allò que no el fa feliç.
URL:https://poblenouurbandistrict.com/ca/agenda/lecocq-yaunest/
LOCATION:Sala Razzmatazz\, C/ dels Almogàvers\, 122\, Barcelona\, Barcelona\, 08018\, Espanya
CATEGORIES:Música
ATTACH;FMTTYPE=image/jpeg:https://media.poblenouurbandistrict.com/2025/01/25082458/01-yaunestlecocq-feed.jpg
END:VEVENT
BEGIN:VEVENT
DTSTART;TZID=Europe/Madrid:20250110T193000
DTEND;TZID=Europe/Madrid:20250110T193000
DTSTAMP:20260423T180854
CREATED:20250107T094217Z
LAST-MODIFIED:20250107T094949Z
UID:10007076-1736537400-1736537400@poblenouurbandistrict.com
SUMMARY:LOVE OF LESBIAN - HERMANDAD TOUR
DESCRIPTION:
URL:https://poblenouurbandistrict.com/ca/agenda/love-of-lesbian-hermandad-tour/2025-01-10/
LOCATION:Sala Razzmatazz\, C/ dels Almogàvers\, 122\, Barcelona\, Barcelona\, 08018\, Espanya
CATEGORIES:Música
ATTACH;FMTTYPE=image/jpeg:https://media.poblenouurbandistrict.com/2025/01/25082501/lol1-1000x540-1.jpg
END:VEVENT
BEGIN:VEVENT
DTSTART;TZID=Europe/Madrid:20250110T203000
DTEND;TZID=Europe/Madrid:20250110T203000
DTSTAMP:20260423T180854
CREATED:20250107T094410Z
LAST-MODIFIED:20250107T094410Z
UID:10007077-1736541000-1736541000@poblenouurbandistrict.com
SUMMARY:CHICA SOBRESALTO - GIRA 2024-25 2.0
DESCRIPTION:
URL:https://poblenouurbandistrict.com/ca/agenda/chica-sobresalto-gira-2024-25-2-0/
LOCATION:Sala Razzmatazz\, C/ dels Almogàvers\, 122\, Barcelona\, Barcelona\, 08018\, Espanya
CATEGORIES:Música
ATTACH;FMTTYPE=image/jpeg:https://media.poblenouurbandistrict.com/2025/01/25082504/chicaweb2-1000x540-1.jpg
END:VEVENT
BEGIN:VEVENT
DTSTART;TZID=Europe/Madrid:20250110T203000
DTEND;TZID=Europe/Madrid:20250110T203000
DTSTAMP:20260423T180854
CREATED:20250107T094644Z
LAST-MODIFIED:20250107T094845Z
UID:10007078-1736541000-1736541000@poblenouurbandistrict.com
SUMMARY:RESTOS
DESCRIPTION:Restos\, sí\, aquest és el seu nom\, són una banda de músics veterans d’Austin\, Texas. Al seu primer disc\, Ain’t Dead Yet\, presenten un arsenal de cançons plenes de melodia que recorden el llegat dels Byrds\, els Tom Petty & the Heartbreakers més rurals i aquell rock arrelat a la terra dels anys 80 i 90 liderat per artistes com John Mellencamp. La seva recent versió de la llegendària cançó «Pancho & Lefty» n’és una bona prova. Ens visitaran per primera vegada el pròxim mes de gener\, i estem segurs que més d’un quedarà gratament sorprès amb ells. No us els perdeu!
URL:https://poblenouurbandistrict.com/ca/agenda/restos/
LOCATION:Sala Razzmatazz\, C/ dels Almogàvers\, 122\, Barcelona\, Barcelona\, 08018\, Espanya
CATEGORIES:Música
ATTACH;FMTTYPE=image/jpeg:https://media.poblenouurbandistrict.com/2025/01/25082508/restos1-1000x540-1.jpg
END:VEVENT
BEGIN:VEVENT
DTSTART;TZID=Europe/Madrid:20250111T190000
DTEND;TZID=Europe/Madrid:20250111T190000
DTSTAMP:20260423T180854
CREATED:20250107T095324Z
LAST-MODIFIED:20250107T095324Z
UID:10007080-1736622000-1736622000@poblenouurbandistrict.com
SUMMARY:HOMENAJE MECANO "ME CUESTA TANTO OLVIDARTE"
DESCRIPTION:Reviu MECANO amb la millor banda homenatge del món\, en gira per Espanya per temps limitat. \n“ME CUESTA TANTO OLVIDARTE HOMENAJE A MECANO” és el concert homenatge al grup més important del pop espanyol. Un espectacle que ofereix al públic una reproducció exacta de MECANO\, convertint-se en tot un xou musical. L’objectiu és crear la sensació d’estar veient MECANO en directe.
URL:https://poblenouurbandistrict.com/ca/agenda/homenaje-mecano-me-cuesta-tanto-olvidarte/
LOCATION:Sala Razzmatazz\, C/ dels Almogàvers\, 122\, Barcelona\, Barcelona\, 08018\, Espanya
CATEGORIES:Música
ATTACH;FMTTYPE=image/jpeg:https://media.poblenouurbandistrict.com/2025/01/25082511/mecanoposter25.jpg
END:VEVENT
BEGIN:VEVENT
DTSTART;TZID=Europe/Madrid:20250111T193000
DTEND;TZID=Europe/Madrid:20250111T193000
DTSTAMP:20260423T180854
CREATED:20250107T094217Z
LAST-MODIFIED:20250107T094949Z
UID:10007079-1736623800-1736623800@poblenouurbandistrict.com
SUMMARY:LOVE OF LESBIAN - HERMANDAD TOUR
DESCRIPTION:
URL:https://poblenouurbandistrict.com/ca/agenda/love-of-lesbian-hermandad-tour/2025-01-11/
LOCATION:Sala Razzmatazz\, C/ dels Almogàvers\, 122\, Barcelona\, Barcelona\, 08018\, Espanya
CATEGORIES:Música
ATTACH;FMTTYPE=image/jpeg:https://media.poblenouurbandistrict.com/2025/01/25082501/lol1-1000x540-1.jpg
END:VEVENT
BEGIN:VEVENT
DTSTART;TZID=Europe/Madrid:20250111T193000
DTEND;TZID=Europe/Madrid:20250111T193000
DTSTAMP:20260423T180854
CREATED:20250107T095913Z
LAST-MODIFIED:20250107T095913Z
UID:10007081-1736623800-1736623800@poblenouurbandistrict.com
SUMMARY:[:ca]MELTEM + TUGURIO + DOPEMANCER[:es]MELTEM + TUGURIO + DOPEMANCER[:en]HOMENAJE MECANO "ME CUESTA TANTO OLVIDARTE"[:]
DESCRIPTION:Els barcelonins van debutar amb una demo\, a la tardor del 2022\, que tenia tot el caràcter d’una gravació professional. En aquesta presentaven credencials com una banda interessant\, a tenir en compte si ets dels que gaudeixen enfrontant-se a reptes musicals. No estem parlant d’una proposta per a tots els públics: les cinc cançons incloses en aquesta primera carta de presentació requereixen ser escoltades amb atenció\, posant els sentits en alerta i submergint-te sense reserves en la borrascosa sonoritat que emergeix dels altaveus. Etiquetes com el doom o el stoner els quedaven petites\, massa reduccionistes per a una proposta que\, intuïem\, anava molt més enllà. \nEfectivament\, el present Mare Nostrum és la prova que no estàvem equivocats. Si bé és cert que els estils esmentats són la terra d’on brollen les seves cançons\, aquestes estan regades per la seva facilitat per crear atmosferes i embolcallar l’oient\, atrapant-lo entre suggeridores textures rítmiques i espirals de guitarres\, creant una música tremendament descriptiva\, gairebé física\, capaç de fer-te sentir la calor.
URL:https://poblenouurbandistrict.com/ca/agenda/meltem-tugurio-dopemancer/
LOCATION:Sala Razzmatazz\, C/ dels Almogàvers\, 122\, Barcelona\, Barcelona\, 08018\, Espanya
CATEGORIES:Música
ATTACH;FMTTYPE=image/jpeg:https://media.poblenouurbandistrict.com/2025/01/25082514/meltem.jpg
END:VEVENT
BEGIN:VEVENT
DTSTART;TZID=Europe/Madrid:20250111T200000
DTEND;TZID=Europe/Madrid:20250111T200000
DTSTAMP:20260423T180854
CREATED:20250108T102216Z
LAST-MODIFIED:20250108T102216Z
UID:10007090-1736625600-1736625600@poblenouurbandistrict.com
SUMMARY:FACE THE MAYBE + DARKTEMIS
DESCRIPTION:La banda\, que es va formar a Barcelona el 2009 i compta amb diversos àlbums d’estudi i gires d’èxit a les seves espatlles\, torna als escenaris amb més força que mai després d’un període de descans. \nPrepara’t per escoltar en directe els seus nous avançaments “Embrace” i “Fragile”\, singles del que serà el seu tercer àlbum d’estudi! \nCom a banda convidada\, actuarà Darktemis\, banda de metall simfònic formada a la ciutat Comtal\, que presentaran el seu primer treball.
URL:https://poblenouurbandistrict.com/ca/agenda/face-the-maybe-darktemis/
LOCATION:La Nau
CATEGORIES:Música
ATTACH;FMTTYPE=image/jpeg:https://media.poblenouurbandistrict.com/2025/01/25082543/face-web.jpg
END:VEVENT
BEGIN:VEVENT
DTSTART;TZID=Europe/Madrid:20250112T170000
DTEND;TZID=Europe/Madrid:20250112T170000
DTSTAMP:20260423T180854
CREATED:20250107T104431Z
LAST-MODIFIED:20250107T104431Z
UID:10007082-1736701200-1736701200@poblenouurbandistrict.com
SUMMARY:DARK FUNERAL - "LET THE DEVIL IN" TOUR 2025
DESCRIPTION:Els pioners suecs del black metal\, Dark Funeral\, han obert un camí de ritualisme satànic que ha perdurat durant gairebé tres dècades. Al setè àlbum d’estudi de la banda\, «We Are The Apocalypse»\, emprenen el seu viatge més immersiu i impenitent fins ara. Liderats per la ferocitat compositiva i tècnica del guitarrista fundador\, Lord Ahriman\, Dark Funeral té com a objectiu superar la nova base que van establir a «Where Shadows Forever Reign» del 2016\, el seu primer llançament amb l’actual vocalista principal\, Heljarmadr. \nDesprés de l’exitós llançament de «We Are The Apocalypse»\, el seu últim disc\, els pioners del black metal celebren el seu 30è aniversari de poder pur i foscor amb el rellançament del seu àlbum de debut homònim «Dark Funeral». En aquesta ocasió\, es tracta d’una edició de col·leccionista exclusiva dissenyada per a veritables aficionats al Black i a l’Extreme Metal\, que inclou noves versions regravades dels seus sinistres himnes.
URL:https://poblenouurbandistrict.com/ca/agenda/dark-funeral-let-the-devil-in-tour-2025/
LOCATION:Sala Razzmatazz\, C/ dels Almogàvers\, 122\, Barcelona\, Barcelona\, 08018\, Espanya
CATEGORIES:Música
ATTACH;FMTTYPE=image/jpeg:https://media.poblenouurbandistrict.com/2025/01/25082517/darkfuneralweb-1000x540-1.jpg
END:VEVENT
BEGIN:VEVENT
DTSTART;TZID=Europe/Madrid:20250112T200000
DTEND;TZID=Europe/Madrid:20250112T200000
DTSTAMP:20260423T180854
CREATED:20250108T102442Z
LAST-MODIFIED:20250108T102442Z
UID:10007091-1736712000-1736712000@poblenouurbandistrict.com
SUMMARY:SHÉ
DESCRIPTION:Artista convidat: DJ GORI & FABIÁN LARRUBIA
URL:https://poblenouurbandistrict.com/ca/agenda/she/
LOCATION:La Nau
CATEGORIES:Música
ATTACH;FMTTYPE=image/jpeg:https://media.poblenouurbandistrict.com/2025/01/25082546/cartel-barcelona-web.jpg
END:VEVENT
BEGIN:VEVENT
DTSTART;TZID=Europe/Madrid:20250113T190000
DTEND;TZID=Europe/Madrid:20250113T190000
DTSTAMP:20260423T180854
CREATED:20250107T115110Z
LAST-MODIFIED:20250107T115258Z
UID:10007083-1736794800-1736794800@poblenouurbandistrict.com
SUMMARY:[:ca]Cicle de Cobla a Barcelona - Presentació CD "Fa 660 anys"[:es]Ciclo de Cobla a Barcelona - Presentación CD "Fa 660 anys"[:en]Cobla in Barcelona - CD Presentation  "Fa 660 anys"[:]
DESCRIPTION:Cobla Sant Jordi – Ciutat de Barcelona \nSalvador Brotons
URL:https://poblenouurbandistrict.com/ca/agenda/cicle-de-cobla-a-barcelona-presentacio-cd-fa-660-anys/
LOCATION:Casino l’aliança del Poblenou\, Rambla del Poblenou\, 42\,\, Barcelona\, Barcelona\, 08005\, Espanya
CATEGORIES:Música
ATTACH;FMTTYPE=image/webp:https://media.poblenouurbandistrict.com/2025/01/25082521/410271735557087-1.webp
END:VEVENT
BEGIN:VEVENT
DTSTART;TZID=Europe/Madrid:20250114T200000
DTEND;TZID=Europe/Madrid:20250114T200000
DTSTAMP:20260423T180854
CREATED:20250113T125149Z
LAST-MODIFIED:20250113T125518Z
UID:10007102-1736884800-1736884800@poblenouurbandistrict.com
SUMMARY:BAND OF FRIENDS
DESCRIPTION:L’essència de Rory Gallagher visita de nou el nostre país en una gira irrepetible de la mà del projecte Band Of Friends\, que arriba a Espanya al gener de 2025\, amb una gira que passarà per sis ciutats. Aquesta banda és molt més que un grup tribut; és l’encarnació de l’essència de Rory Gallagher\, un dels guitarristes més llegendaris de tots els temps.\n\n\n\n\nMés informació i entrades aquí
URL:https://poblenouurbandistrict.com/ca/agenda/band-of-friends/
LOCATION:Sala Razzmatazz\, C/ dels Almogàvers\, 122\, Barcelona\, Barcelona\, 08018\, Espanya
CATEGORIES:Música
ATTACH;FMTTYPE=image/jpeg:https://media.poblenouurbandistrict.com/2025/01/25082821/bofweb-1000x540-1.jpeg
END:VEVENT
BEGIN:VEVENT
DTSTART;TZID=Europe/Madrid:20250116T200000
DTEND;TZID=Europe/Madrid:20250116T200000
DTSTAMP:20260423T180854
CREATED:20250113T125408Z
LAST-MODIFIED:20250113T125523Z
UID:10007103-1737057600-1737057600@poblenouurbandistrict.com
SUMMARY:[:ca]SAMURAÏ - GIRA DEL SILENCIO AL RUIDO[:es]BAND OF FRIENDS[:en]BAND OF FRIENDS[:]
DESCRIPTION:Samuraï arriba a la Sala Razzmatazz per presentar el seu primer àlbum d’estudi\, “El silencio del ruido”. A més\, farà un repàs pels temes més coneguts de la seva carrera.\n\n\n\n\nMés informació i entrades aquí
URL:https://poblenouurbandistrict.com/ca/agenda/samurai-gira-del-silencio-al-ruido/
LOCATION:Sala Razzmatazz\, C/ dels Almogàvers\, 122\, Barcelona\, Barcelona\, 08018\, Espanya
CATEGORIES:Música
ATTACH;FMTTYPE=image/png:https://media.poblenouurbandistrict.com/2025/01/25082817/samurai1-1000x540-1.png
END:VEVENT
BEGIN:VEVENT
DTSTART;TZID=Europe/Madrid:20250117T193000
DTEND;TZID=Europe/Madrid:20250117T193000
DTSTAMP:20260423T180854
CREATED:20250113T125750Z
LAST-MODIFIED:20250113T125820Z
UID:10007104-1737142200-1737142200@poblenouurbandistrict.com
SUMMARY:[:ca]ALCHEMY PROJECT - HOMENAJE DIRE STRAITS[:es]BAND OF FRIENDS[:en]BAND OF FRIENDS[:]
DESCRIPTION:Més informació i entrades aquí
URL:https://poblenouurbandistrict.com/ca/agenda/alchemy-project-homenaje-dire-straits/
LOCATION:Sala Razzmatazz\, C/ dels Almogàvers\, 122\, Barcelona\, Barcelona\, 08018\, Espanya
CATEGORIES:Música
ATTACH;FMTTYPE=image/jpeg:https://media.poblenouurbandistrict.com/2025/01/25082824/alchemyproject1-1000x540-1.jpg
END:VEVENT
BEGIN:VEVENT
DTSTART;TZID=Europe/Madrid:20250117T203000
DTEND;TZID=Europe/Madrid:20250117T203000
DTSTAMP:20260423T180854
CREATED:20250108T102754Z
LAST-MODIFIED:20250108T103124Z
UID:10007092-1737145800-1737145800@poblenouurbandistrict.com
SUMMARY:GIDGE
DESCRIPTION:Gidge es un dúo electrònic suec format per Ludvig Stolterman i Jonathan Nilsson.
URL:https://poblenouurbandistrict.com/ca/agenda/xicu-sacrificis-live-xperience-musica/
LOCATION:La Nau
CATEGORIES:Música
ATTACH;FMTTYPE=image/jpeg:https://media.poblenouurbandistrict.com/2025/01/25082552/gidge-web.jpg
END:VEVENT
BEGIN:VEVENT
DTSTART;TZID=Europe/Madrid:20250117T203000
DTEND;TZID=Europe/Madrid:20250117T203000
DTSTAMP:20260423T180854
CREATED:20250113T130030Z
LAST-MODIFIED:20250113T130030Z
UID:10007105-1737145800-1737145800@poblenouurbandistrict.com
SUMMARY:[:ca]KYOTTO - HANAHAKI TOUR[:es]BAND OF FRIENDS[:en]BAND OF FRIENDS[:]
DESCRIPTION:Més informació i entrades aquí
URL:https://poblenouurbandistrict.com/ca/agenda/kyotto-hanahaki-tour/
LOCATION:Sala Razzmatazz\, C/ dels Almogàvers\, 122\, Barcelona\, Barcelona\, 08018\, Espanya
CATEGORIES:Música
ATTACH;FMTTYPE=image/jpeg:https://media.poblenouurbandistrict.com/2025/01/25082827/kyottoweb-1000x540-1.jpg
END:VEVENT
BEGIN:VEVENT
DTSTART;TZID=Europe/Madrid:20250118T193000
DTEND;TZID=Europe/Madrid:20250118T193000
DTSTAMP:20260423T180854
CREATED:20250117T121334Z
LAST-MODIFIED:20250117T121334Z
UID:10007106-1737228600-1737228600@poblenouurbandistrict.com
SUMMARY:VARRY BRAVA - GIRA SHARIROP
DESCRIPTION:Per motius logístics\, el concert de BARCELONA es trasllada a la SALA RAZZMATAZZ 3\, situada al Carrer del Pamplona 88 Interior. \nEls horaris de l’esdeveniment es mantenen sense canvis\, així com les entrades adquirides\, que continuaran sent vàlides per a la nova ubicació. \nMés informació i entrades aquí.
URL:https://poblenouurbandistrict.com/ca/agenda/varry-brava-gira-sharirop/
CATEGORIES:Música
ATTACH;FMTTYPE=image/jpeg:https://media.poblenouurbandistrict.com/2025/01/25083129/vb1-1000x540-1.jpg
END:VEVENT
BEGIN:VEVENT
DTSTART;TZID=Europe/Madrid:20250118T200000
DTEND;TZID=Europe/Madrid:20250118T200000
DTSTAMP:20260423T180854
CREATED:20250107T120510Z
LAST-MODIFIED:20250107T120510Z
UID:10007086-1737230400-1737230400@poblenouurbandistrict.com
SUMMARY:[:ca]El Trencanous - Ballet de Barcelona[:es]El Cascanueces - Ballet de Barcelona[:en]The Nutcracker - Ballet de Barcelona[:]
DESCRIPTION:El Ballet de Barcelona torna amb el seu aclamat Trencanous a la Ciutat Comtal! \nQuan el rellotge marca les dotze la nit de Reis\, l’oncle Deulofeu fa entrega d’un peculiar Trencanous a la Clara. Un cop adormida\, la valenta i atrevida jove\, lluita amb ratolins entremaliats\, i junt amb el seu Trencanous s’endinsa en un preciós viatge travessant una tempesta d’hivern\, fins a arribar al Món dels Dolços. Un meravellós món ple de màgia i fantasia on tots dos són rebuts amb dolces danses de diferents cultures: la Xocolata espanyola\, el Te xinès\, el Cafè de l’Aràbia\, el Massapà francès\, Bastons de Menta russos i com no podia faltar en aquesta producció\, els Carquinyolis i Neules catalans. \nUn viatge de somnis on la nostra protagonista troba la seva força interior que desconeixia tenir. El plaer més dolç d’aquestes festes! \n 
URL:https://poblenouurbandistrict.com/ca/agenda/el-trencanous-ballet-de-barcelona/2025-01-18/
LOCATION:Casino l’aliança del Poblenou\, Rambla del Poblenou\, 42\,\, Barcelona\, Barcelona\, 08005\, Espanya
CATEGORIES:Danza,Música
ATTACH;FMTTYPE=image/jpeg:https://media.poblenouurbandistrict.com/2025/01/25082524/poster-a3-el-trencanous-copia-scaled-1.jpg
END:VEVENT
BEGIN:VEVENT
DTSTART;TZID=Europe/Madrid:20250118T200000
DTEND;TZID=Europe/Madrid:20250118T200000
DTSTAMP:20260423T180854
CREATED:20250117T121644Z
LAST-MODIFIED:20250117T121903Z
UID:10007107-1737230400-1737230400@poblenouurbandistrict.com
SUMMARY:Los Punsetes - Que le den por culo a tus amigos TOUR - Gira 20 Aniversario
DESCRIPTION:  \nMés informació i entrades aquí.
URL:https://poblenouurbandistrict.com/ca/agenda/los-punsetes-que-le-den-por-culo-a-tus-amigos-tour-gira-20-aniversario/
LOCATION:Sala Razzmatazz\, C/ dels Almogàvers\, 122\, Barcelona\, Barcelona\, 08018\, Espanya
CATEGORIES:Música
ATTACH;FMTTYPE=image/jpeg:https://media.poblenouurbandistrict.com/2025/01/25083132/lospunsetes1sofiacolodronsofiacolodron-1-1000x540-1.jpg
END:VEVENT
BEGIN:VEVENT
DTSTART;TZID=Europe/Madrid:20250118T203000
DTEND;TZID=Europe/Madrid:20250118T203000
DTSTAMP:20260423T180854
CREATED:20250110T102111Z
LAST-MODIFIED:20250110T102221Z
UID:10007093-1737232200-1737232200@poblenouurbandistrict.com
SUMMARY:El Buen Hijo
DESCRIPTION:El Buen Hijo o\, el que és el mateix\, la suma de Marco\, Alicia\, Cham\, Miquel i Daniel\, ha consagrat la seva existència com a grup de música a buscar (i trobar) la cançó perfecta de pop. Una banda que transcendeix èpoques i tendències i que s’ha convertit\, per dret propi\, en una de les realitats més apassionants de l’escena independent nacional. El seu imminent nou treball\, Vé i va\, confirma el que ja es sabia: El Bon Fill són únics\, divertits\, apassionants i apassionats. \n  \nMés informació i entrades aquí.
URL:https://poblenouurbandistrict.com/ca/agenda/el-buen-hijo/
LOCATION:La Nau
CATEGORIES:Música
ATTACH;FMTTYPE=image/jpeg:https://media.poblenouurbandistrict.com/2025/01/25082753/elbuenhijo.jpg
END:VEVENT
BEGIN:VEVENT
DTSTART;TZID=Europe/Madrid:20250119T180000
DTEND;TZID=Europe/Madrid:20250119T180000
DTSTAMP:20260423T180854
CREATED:20250107T120510Z
LAST-MODIFIED:20250107T120510Z
UID:10007087-1737309600-1737309600@poblenouurbandistrict.com
SUMMARY:[:ca]El Trencanous - Ballet de Barcelona[:es]El Cascanueces - Ballet de Barcelona[:en]The Nutcracker - Ballet de Barcelona[:]
DESCRIPTION:El Ballet de Barcelona torna amb el seu aclamat Trencanous a la Ciutat Comtal! \nQuan el rellotge marca les dotze la nit de Reis\, l’oncle Deulofeu fa entrega d’un peculiar Trencanous a la Clara. Un cop adormida\, la valenta i atrevida jove\, lluita amb ratolins entremaliats\, i junt amb el seu Trencanous s’endinsa en un preciós viatge travessant una tempesta d’hivern\, fins a arribar al Món dels Dolços. Un meravellós món ple de màgia i fantasia on tots dos són rebuts amb dolces danses de diferents cultures: la Xocolata espanyola\, el Te xinès\, el Cafè de l’Aràbia\, el Massapà francès\, Bastons de Menta russos i com no podia faltar en aquesta producció\, els Carquinyolis i Neules catalans. \nUn viatge de somnis on la nostra protagonista troba la seva força interior que desconeixia tenir. El plaer més dolç d’aquestes festes! \n 
URL:https://poblenouurbandistrict.com/ca/agenda/el-trencanous-ballet-de-barcelona/2025-01-19/
LOCATION:Casino l’aliança del Poblenou\, Rambla del Poblenou\, 42\,\, Barcelona\, Barcelona\, 08005\, Espanya
CATEGORIES:Danza,Música
ATTACH;FMTTYPE=image/jpeg:https://media.poblenouurbandistrict.com/2025/01/25082524/poster-a3-el-trencanous-copia-scaled-1.jpg
END:VEVENT
BEGIN:VEVENT
DTSTART;TZID=Europe/Madrid:20250119T180000
DTEND;TZID=Europe/Madrid:20250119T180000
DTSTAMP:20260423T180854
CREATED:20250110T102907Z
LAST-MODIFIED:20250110T102907Z
UID:10007095-1737309600-1737309600@poblenouurbandistrict.com
SUMMARY:“La Descarguita” - Live! feat JAY KALO CUBAN QUINTET
DESCRIPTION:El pròxim 19 de gener\, de la mà de Street Timba i El Caribe Productions\, ens espera una Matinée Cubana a La Nau\, Barcelona.\nA partir de les 18 h\, Dj La Pantera i Dj La Dura ompliran la sala amb la millor selecció de música cubana per als balladors i\, després\, el Jay Kalo Cuban Quintet oferirà un concert amb la veritable essència cubana\, l’elegància del latin jazz matisat amb la timba d’arrel.\nNo et pots perdre aquesta matinée\, perfecta per a la teva tarda de diumenge! \nPrograma: \n\n18 h: obertura + dj set\n18.30 h: Jay Kalo Cuban Quintet\n20 h: dj set + ball social\n23 h: tancament\n\n  \nMés informació i entrades aquí.
URL:https://poblenouurbandistrict.com/ca/agenda/la-descarguita-live-feat-jay-kalo-cuban-quintet/
LOCATION:La Nau
CATEGORIES:Música
ATTACH;FMTTYPE=image/jpeg:https://media.poblenouurbandistrict.com/2025/01/25082756/jaykalo.jpg
END:VEVENT
BEGIN:VEVENT
DTSTART;TZID=Europe/Madrid:20250120T170000
DTEND;TZID=Europe/Madrid:20250120T170000
DTSTAMP:20260423T180854
CREATED:20250107T115827Z
LAST-MODIFIED:20250107T115827Z
UID:10007084-1737392400-1737392400@poblenouurbandistrict.com
SUMMARY:[:ca]Cicle de Cobla a Barcelona - Grans Conjunts[:es]Ciclo de Cobla a Barcelona - Grans Conjunts[:en]Cobla in Barcelona -  Grans conjunts[:]
DESCRIPTION:Un any més\, el Cicle de Cobla al Casino L’Aliança del Poblenou acull els alumnes de cobla de l’Escola Superior de Música de Catalunya en el seu concert final del primer quadrimestre. \n 
URL:https://poblenouurbandistrict.com/ca/agenda/cicle-de-cobla-a-barcelona-grans-conjunts/
LOCATION:Casino l’aliança del Poblenou\, Rambla del Poblenou\, 42\,\, Barcelona\, Barcelona\, 08005\, Espanya
CATEGORIES:Música
ATTACH;FMTTYPE=image/jpeg:https://media.poblenouurbandistrict.com/2025/01/25082521/grans-conjunts.jpg
END:VEVENT
BEGIN:VEVENT
DTSTART;TZID=Europe/Madrid:20250122T190000
DTEND;TZID=Europe/Madrid:20250122T190000
DTSTAMP:20260423T180854
CREATED:20250117T122211Z
LAST-MODIFIED:20250117T122254Z
UID:10007108-1737572400-1737572400@poblenouurbandistrict.com
SUMMARY:BUFFALO NICHOLS TOUR 2025
DESCRIPTION:El concert del bluesman nord-americà Buffalo Nichols a Barcelona el 22 de gener se celebrarà a Heliogàbal (i no a Razzmatazz 3\, com s’havia anunciat inicialment). \nL’import de les entrades anticipades ja adquirides es reemborsarà automàticament als compradors a través del canal de venda on les van adquirir. D’altra banda\, indicar que ja estan disponibles les entrades per a les dues noves ubicacions. \nMés informació i entrades aquí.
URL:https://poblenouurbandistrict.com/ca/agenda/buffalo-nichols-tour-2025/
CATEGORIES:Música
ATTACH;FMTTYPE=image/jpeg:https://media.poblenouurbandistrict.com/2025/01/25083135/buffaloweb-1000x540-1.jpg
END:VEVENT
BEGIN:VEVENT
DTSTART;TZID=Europe/Madrid:20250123T183000
DTEND;TZID=Europe/Madrid:20250123T183000
DTSTAMP:20260423T180854
CREATED:20250117T123118Z
LAST-MODIFIED:20250117T123118Z
UID:10007111-1737657000-1737657000@poblenouurbandistrict.com
SUMMARY:CARCASS + BRUJERÍA + ROTTEN SOUND
DESCRIPTION:  \nMés informació i entrades aquí.
URL:https://poblenouurbandistrict.com/ca/agenda/carcass-brujeria-rotten-sound/
LOCATION:Sala Razzmatazz\, C/ dels Almogàvers\, 122\, Barcelona\, Barcelona\, 08018\, Espanya
CATEGORIES:Música
ATTACH;FMTTYPE=image/jpeg:https://media.poblenouurbandistrict.com/2025/01/25083144/carcass1-1000x540-1.jpg
END:VEVENT
BEGIN:VEVENT
DTSTART;TZID=Europe/Madrid:20250123T210000
DTEND;TZID=Europe/Madrid:20250123T210000
DTSTAMP:20260423T180854
CREATED:20250110T103555Z
LAST-MODIFIED:20250110T103555Z
UID:10007096-1737666000-1737666000@poblenouurbandistrict.com
SUMMARY:MISHKA
DESCRIPTION:Concert gratuït amb invitació \nPrepara’t per rebre una veu única a l’escena musical internacional: Mishka\, l’artista de reggae folk originari de les Bermudes. \n  \nMés informació i entrades aquí.
URL:https://poblenouurbandistrict.com/ca/agenda/mishka/
LOCATION:La Nau
CATEGORIES:Música
ATTACH;FMTTYPE=image/jpeg:https://media.poblenouurbandistrict.com/2025/01/25082759/mishka-web.jpg
END:VEVENT
BEGIN:VEVENT
DTSTART;TZID=Europe/Madrid:20250124T193000
DTEND;TZID=Europe/Madrid:20250124T193000
DTSTAMP:20260423T180854
CREATED:20250117T122609Z
LAST-MODIFIED:20250117T122609Z
UID:10007109-1737747000-1737747000@poblenouurbandistrict.com
SUMMARY:DEPEDRO
DESCRIPTION:Després de cinc àlbums publicats i col·laboracions amb alguns dels noms més potents de l’escena com Vetusta Morla o Santi Balmes\, entre molts altres\, aquest artista madrileny torna amb el nou disc ‘Un lugar perfecto’ (‘Un lloc perfecte’)\, que teixeix una geografia folklòrica i emocional de la memòria i un camí entre l’ansietat i l’esperança. \nDepedro està convençut que la vida es queda als llocs on sentim\, i ens ho demostrarà en el seu concert grandiosament íntim. \nVine a emocionar-te amb ell el pròxim \nMés informació i entrades aquí.
URL:https://poblenouurbandistrict.com/ca/agenda/depedro/
LOCATION:Sala Razzmatazz\, C/ dels Almogàvers\, 122\, Barcelona\, Barcelona\, 08018\, Espanya
CATEGORIES:Música
ATTACH;FMTTYPE=image/png:https://media.poblenouurbandistrict.com/2025/01/25083137/depedro1-1000x540-1.png
END:VEVENT
BEGIN:VEVENT
DTSTART;TZID=Europe/Madrid:20250124T193000
DTEND;TZID=Europe/Madrid:20250124T193000
DTSTAMP:20260423T180854
CREATED:20250117T122836Z
LAST-MODIFIED:20250117T122836Z
UID:10007110-1737747000-1737747000@poblenouurbandistrict.com
SUMMARY:DERIVAS - EL MAYOR HOMENAJE A HÉROES DEL SILENCIO
DESCRIPTION:  \nMés informació i entrades aquí.
URL:https://poblenouurbandistrict.com/ca/agenda/derivas-el-mayor-homenaje-a-heroes-del-silencio/
LOCATION:Sala Razzmatazz\, C/ dels Almogàvers\, 122\, Barcelona\, Barcelona\, 08018\, Espanya
CATEGORIES:Música
ATTACH;FMTTYPE=image/jpeg:https://media.poblenouurbandistrict.com/2025/01/25083141/derivas11-1000x540-1.jpg
END:VEVENT
BEGIN:VEVENT
DTSTART;TZID=Europe/Madrid:20250124T203000
DTEND;TZID=Europe/Madrid:20250124T203000
DTSTAMP:20260423T180854
CREATED:20250110T103858Z
LAST-MODIFIED:20250110T103858Z
UID:10007097-1737750600-1737750600@poblenouurbandistrict.com
SUMMARY:PAPOOZ
DESCRIPTION:Imagina una joia pop enganxosa\, portada per una veu andrògina i inquietant\, dansaire i grácil com una bombolla de sabó\, concebuda com un himne a l’alegria. Un duet que té l’objectiu més senzill: fer de la música\, en particular del pop\, la banda sonora de les seves vides\, per amor a les guitarres\, però sobretot\, per fer feliç a la gent. Els sons estiuencs de PAPOOZ s’obren pas en les nostres orelles per no abandonar-les mai més. \n  \nMés informació i entrades aquí.
URL:https://poblenouurbandistrict.com/ca/agenda/papooz/
LOCATION:La Nau
CATEGORIES:Música
ATTACH;FMTTYPE=image/jpeg:https://media.poblenouurbandistrict.com/2025/01/25082802/papooz-dice-web.jpg
END:VEVENT
BEGIN:VEVENT
DTSTART;TZID=Europe/Madrid:20250125T193000
DTEND;TZID=Europe/Madrid:20250125T193000
DTSTAMP:20260423T180854
CREATED:20250121T103711Z
LAST-MODIFIED:20250121T103711Z
UID:10007112-1737833400-1737833400@poblenouurbandistrict.com
SUMMARY:Tarque & La Asociación del Riff - Gira Volumen 2
DESCRIPTION:  \nMés informació i entrades aquí.
URL:https://poblenouurbandistrict.com/ca/agenda/tarque-la-asociacion-del-riff-gira-volumen-2/
LOCATION:Sala Razzmatazz\, C/ dels Almogàvers\, 122\, Barcelona\, Barcelona\, 08018\, Espanya
CATEGORIES:Música
ATTACH;FMTTYPE=image/jpeg:https://media.poblenouurbandistrict.com/2025/01/25083218/tarque1-1000x540-1.jpg
END:VEVENT
END:VCALENDAR