BEGIN:VCALENDAR
VERSION:2.0
PRODID:-//Poblenou Urban District - ECPv6.15.20//NONSGML v1.0//EN
CALSCALE:GREGORIAN
METHOD:PUBLISH
X-WR-CALNAME:Poblenou Urban District
X-ORIGINAL-URL:https://poblenouurbandistrict.com/ca
X-WR-CALDESC:Esdeveniments per Poblenou Urban District
REFRESH-INTERVAL;VALUE=DURATION:PT1H
X-Robots-Tag:noindex
X-PUBLISHED-TTL:PT1H
BEGIN:VTIMEZONE
TZID:Europe/Madrid
BEGIN:DAYLIGHT
TZOFFSETFROM:+0100
TZOFFSETTO:+0200
TZNAME:CEST
DTSTART:20210328T010000
END:DAYLIGHT
BEGIN:STANDARD
TZOFFSETFROM:+0200
TZOFFSETTO:+0100
TZNAME:CET
DTSTART:20211031T010000
END:STANDARD
BEGIN:DAYLIGHT
TZOFFSETFROM:+0100
TZOFFSETTO:+0200
TZNAME:CEST
DTSTART:20220327T010000
END:DAYLIGHT
BEGIN:STANDARD
TZOFFSETFROM:+0200
TZOFFSETTO:+0100
TZNAME:CET
DTSTART:20221030T010000
END:STANDARD
BEGIN:DAYLIGHT
TZOFFSETFROM:+0100
TZOFFSETTO:+0200
TZNAME:CEST
DTSTART:20230326T010000
END:DAYLIGHT
BEGIN:STANDARD
TZOFFSETFROM:+0200
TZOFFSETTO:+0100
TZNAME:CET
DTSTART:20231029T010000
END:STANDARD
END:VTIMEZONE
BEGIN:VEVENT
DTSTART;TZID=Europe/Madrid:20220629T200000
DTEND;TZID=Europe/Madrid:20220629T210000
DTSTAMP:20260426T061546
CREATED:20220530T112458Z
LAST-MODIFIED:20220530T112458Z
UID:10003711-1656532800-1656536400@poblenouurbandistrict.com
SUMMARY:[:ca]Concert: Festival Talent - Taller de músics[:es]Concierto: Festival Talent - Taller de músicos[:en]Concert: Festival Talent - Musicians' Workshop[:]
DESCRIPTION:Marta Duran\, Artur Suriñach\, Albert Poll i Toni Benlloch formen part del Festival Talent.
URL:https://poblenouurbandistrict.com/ca/agenda/concert-festival-talent-taller-de-musics/2022-06-29/
LOCATION:La Nau
CATEGORIES:Música
ATTACH;FMTTYPE=image/jpeg:https://media.poblenouurbandistrict.com/2022/05/25052503/talent-logo-2022-positiu-web.jpg
END:VEVENT
BEGIN:VEVENT
DTSTART;TZID=Europe/Madrid:20220629T210000
DTEND;TZID=Europe/Madrid:20220629T223000
DTSTAMP:20260426T061546
CREATED:20220527T104252Z
LAST-MODIFIED:20220527T104252Z
UID:10003679-1656536400-1656541800@poblenouurbandistrict.com
SUMMARY:[:ca]Concert: Rise Against + Blowfuse[:es]Concierto: Rise Against + Blowfuse[:en]Concert: Rise Against + Blowfuse[:]
DESCRIPTION:Rise Against torna a Barcelona\, després de més de deu anys des del seu últim concert en la ciutat. Una de les bandes més populars del punk rock melòdic a escala global torna al nostre país en 2022.
URL:https://poblenouurbandistrict.com/ca/agenda/concert-rise-against-blowfuse/
LOCATION:Sala Razzmatazz\, C/ dels Almogàvers\, 122\, Barcelona\, Barcelona\, 08018\, Espanya
CATEGORIES:Música
ATTACH;FMTTYPE=image/jpeg:https://media.poblenouurbandistrict.com/2022/05/25052309/screenshot-2022-05-27-at-124225.jpg
END:VEVENT
END:VCALENDAR