BEGIN:VCALENDAR
VERSION:2.0
PRODID:-//Poblenou Urban District - ECPv6.15.20//NONSGML v1.0//EN
CALSCALE:GREGORIAN
METHOD:PUBLISH
X-WR-CALNAME:Poblenou Urban District
X-ORIGINAL-URL:https://poblenouurbandistrict.com/ca
X-WR-CALDESC:Esdeveniments per Poblenou Urban District
REFRESH-INTERVAL;VALUE=DURATION:PT1H
X-Robots-Tag:noindex
X-PUBLISHED-TTL:PT1H
BEGIN:VTIMEZONE
TZID:Europe/Madrid
BEGIN:DAYLIGHT
TZOFFSETFROM:+0100
TZOFFSETTO:+0200
TZNAME:CEST
DTSTART:20210328T010000
END:DAYLIGHT
BEGIN:STANDARD
TZOFFSETFROM:+0200
TZOFFSETTO:+0100
TZNAME:CET
DTSTART:20211031T010000
END:STANDARD
BEGIN:DAYLIGHT
TZOFFSETFROM:+0100
TZOFFSETTO:+0200
TZNAME:CEST
DTSTART:20220327T010000
END:DAYLIGHT
BEGIN:STANDARD
TZOFFSETFROM:+0200
TZOFFSETTO:+0100
TZNAME:CET
DTSTART:20221030T010000
END:STANDARD
BEGIN:DAYLIGHT
TZOFFSETFROM:+0100
TZOFFSETTO:+0200
TZNAME:CEST
DTSTART:20230326T010000
END:DAYLIGHT
BEGIN:STANDARD
TZOFFSETFROM:+0200
TZOFFSETTO:+0100
TZNAME:CET
DTSTART:20231029T010000
END:STANDARD
END:VTIMEZONE
BEGIN:VEVENT
DTSTART;TZID=Europe/Madrid:20220704T090000
DTEND;TZID=Europe/Madrid:20220708T140000
DTSTAMP:20260426T054108
CREATED:20220607T094211Z
LAST-MODIFIED:20220627T090548Z
UID:10003858-1656925200-1657288800@poblenouurbandistrict.com
SUMMARY:[:ca]Casal d'estiu Xup-Xup (7-12 anys)[:es]Casal de verano Xup-Xup (7-12 años)[:en]Summer camp Xup-Xup (7-12 years)[:]
DESCRIPTION:El Museu del Disseny de Barcelona i Tantàgora organitzen el XUP-XUP\, una proposta creativa estiuenca adreçada a nens i nenes de 7 a 12 anys durant dues setmanes de juliol. Cada setmana (de dilluns a divendres)\, es faran activitats al voltant de temes com la literatura\, la música\, l’art o el disseny. \nSetmana del 4 al 8 de juliol\nIL·LUSTRANT…\nAmb Cristina Picazo \nSetmana de l’11 al 15 de juliol\nDISSENY BAND\nAmb Azuzena Moya \nCada setmana (de dilluns a divendres) de 9 a 14 h.
URL:https://poblenouurbandistrict.com/ca/agenda/casal-destiu-xup-xup-7-12-anys/2022-07-04/
LOCATION:Museu del Disseny\, Plaça de les Glòries Catalanes\,\, 37\, Barcelona\, Barcelona\, 08018\, Espanya
CATEGORIES:Art,Curs,Música,Taller
ATTACH;FMTTYPE=image/jpeg:https://media.poblenouurbandistrict.com/2022/06/25052701/screenshot-2022-06-07-at-114135.jpg
END:VEVENT
BEGIN:VEVENT
DTSTART;TZID=Europe/Madrid:20220704T100000
DTEND;TZID=Europe/Madrid:20220708T140000
DTSTAMP:20260426T054108
CREATED:20220607T094850Z
LAST-MODIFIED:20220627T091913Z
UID:10003861-1656928800-1657288800@poblenouurbandistrict.com
SUMMARY:[:ca]Taller d'estiu ZIP per a joves (13-17 anys)[:es]Taller de verano ZIP para jóvenes (13-17 años)[:en]Summer workshop ZIP for teenagers (13-17 years)[:]
DESCRIPTION:El Museu del Disseny de Barcelona i Tantàgora organitzen el ZIP\, una setmana de creació adreçada a nois i noies de 13 a 17 anys. Una setmana dedicada al “Radio Station” i una altra a les “Ciutats invisibles”. \nSetmana del 4 al 8 de juliol\nRÀDIO STATION\nAmb Clara Darder \nSetmana de l’11 del 15 juliol\nCIUTATS INVISIBLES\nAmb Noemí Batllori \nDilluns a divendres de 10 a 14 h
URL:https://poblenouurbandistrict.com/ca/agenda/taller-destiu-zip-per-a-joves-13-17-anys/2022-07-04/
LOCATION:Museu del Disseny\, Plaça de les Glòries Catalanes\,\, 37\, Barcelona\, Barcelona\, 08018\, Espanya
CATEGORIES:Art,Audiovisual,Curs,Música,Taller
ATTACH;FMTTYPE=image/jpeg:https://media.poblenouurbandistrict.com/2022/06/25052703/screenshot-2022-06-07-at-114654.jpg
END:VEVENT
BEGIN:VEVENT
DTSTART;TZID=Europe/Madrid:20220707T190000
DTEND;TZID=Europe/Madrid:20220707T210000
DTSTAMP:20260426T054108
CREATED:20220609T093201Z
LAST-MODIFIED:20220609T093201Z
UID:10003888-1657220400-1657227600@poblenouurbandistrict.com
SUMMARY:[:ca]Música: Nicola Benedetti & Lionel Bringuier[:es]Música: Nicola Benedetti & Lionel Bringuier[:en]Music: Nicola Benedetti & Lionel Bringuier[:]
DESCRIPTION:Festival Mozart Nits d’Estiu. L’Orquestra Simfònica de Barcelona i Nacional de Catalunya (OBC) presenta: \n\nMozart: Adagio i Fuga per a cordes en Do\, KV 546\nMozart: Concert per a violí n. 3 en Sol\, KV 216 (1775) 24′\nBeethoven: Simfonia en Si bemoll\, op. 60
URL:https://poblenouurbandistrict.com/ca/agenda/musica-nicola-benedetti-lionel-bringuier/
LOCATION:L’Auditori\, Carrer de Lepant\, 150\, Barcelona\, 08013\, Espanya
CATEGORIES:Música
ATTACH;FMTTYPE=image/jpeg:https://media.poblenouurbandistrict.com/2022/06/25052739/screenshot-2022-06-09-at-113114.jpg
END:VEVENT
BEGIN:VEVENT
DTSTART;TZID=Europe/Madrid:20220707T203000
DTEND;TZID=Europe/Madrid:20220707T220000
DTSTAMP:20260426T054108
CREATED:20220530T082917Z
LAST-MODIFIED:20220530T082917Z
UID:10003687-1657225800-1657231200@poblenouurbandistrict.com
SUMMARY:[:ca]Concert: Los Pericos[:es]Concierto: Los Pericos[:en]Concert: Los Pericos[:]
DESCRIPTION:Los Pericos és una banda de reggae i ska argentina fundada en 1986. En el mes de juliol arribaran a Espanya amb la seva Gira 35 anys\, on delectaran als seus seguidors amb les seves interpretacions inèdites dels clàssics més esperats pel públic com “Runaway”.
URL:https://poblenouurbandistrict.com/ca/agenda/concert-los-pericos/
LOCATION:Sala Razzmatazz\, C/ dels Almogàvers\, 122\, Barcelona\, Barcelona\, 08018\, Espanya
CATEGORIES:Música
ATTACH;FMTTYPE=image/jpeg:https://media.poblenouurbandistrict.com/2022/05/25052318/pericosposter.jpg
END:VEVENT
BEGIN:VEVENT
DTSTART;TZID=Europe/Madrid:20220707T210000
DTEND;TZID=Europe/Madrid:20220707T223000
DTSTAMP:20260426T054108
CREATED:20220701T152124Z
LAST-MODIFIED:20220701T152141Z
UID:10003878-1657227600-1657233000@poblenouurbandistrict.com
SUMMARY:[:ca]Concert: Gustavo Santaolalla[:es]Concierto: Gustavo Santaolalla[:en]Concert: Gustavo Santaolalla[:]
DESCRIPTION:El dues vegades guanyador de l’Oscar\, presenta “Desandando el Camino”\, un recorregut per totes les seves obres incloent Arco Iris\, Bajofondo\, alguns films com Brokeback Mountain\, Babel\, Diarios de Motocicleta\, el guardonat videojoc The Last of Us i molt més.
URL:https://poblenouurbandistrict.com/ca/agenda/concert-gustavo-santaolalla/
LOCATION:Casino l’aliança del Poblenou\, Rambla del Poblenou\, 42\,\, Barcelona\, Barcelona\, 08005\, Espanya
CATEGORIES:Música
ATTACH;FMTTYPE=image/jpeg:https://media.poblenouurbandistrict.com/2022/07/25053334/capture-decran-2022-07-01-a-171917.jpg
END:VEVENT
END:VCALENDAR