BEGIN:VCALENDAR
VERSION:2.0
PRODID:-//Poblenou Urban District - ECPv6.15.20//NONSGML v1.0//EN
CALSCALE:GREGORIAN
METHOD:PUBLISH
X-ORIGINAL-URL:https://poblenouurbandistrict.com/ca
X-WR-CALDESC:Esdeveniments per Poblenou Urban District
REFRESH-INTERVAL;VALUE=DURATION:PT1H
X-Robots-Tag:noindex
X-PUBLISHED-TTL:PT1H
BEGIN:VTIMEZONE
TZID:Europe/Madrid
BEGIN:DAYLIGHT
TZOFFSETFROM:+0100
TZOFFSETTO:+0200
TZNAME:CEST
DTSTART:20210328T010000
END:DAYLIGHT
BEGIN:STANDARD
TZOFFSETFROM:+0200
TZOFFSETTO:+0100
TZNAME:CET
DTSTART:20211031T010000
END:STANDARD
BEGIN:DAYLIGHT
TZOFFSETFROM:+0100
TZOFFSETTO:+0200
TZNAME:CEST
DTSTART:20220327T010000
END:DAYLIGHT
BEGIN:STANDARD
TZOFFSETFROM:+0200
TZOFFSETTO:+0100
TZNAME:CET
DTSTART:20221030T010000
END:STANDARD
BEGIN:DAYLIGHT
TZOFFSETFROM:+0100
TZOFFSETTO:+0200
TZNAME:CEST
DTSTART:20230326T010000
END:DAYLIGHT
BEGIN:STANDARD
TZOFFSETFROM:+0200
TZOFFSETTO:+0100
TZNAME:CET
DTSTART:20231029T010000
END:STANDARD
END:VTIMEZONE
BEGIN:VEVENT
DTSTART;TZID=Europe/Madrid:20220716T190000
DTEND;TZID=Europe/Madrid:20220716T210000
DTSTAMP:20260426T054523
CREATED:20220609T094222Z
LAST-MODIFIED:20220609T094222Z
UID:10003793-1657998000-1658005200@poblenouurbandistrict.com
SUMMARY:[:ca]Música: Desert[:es]Música: Desert[:en]Music: Desert[:]
DESCRIPTION:Desert parteix de la peça Timber (2009) del compositor americà Michael Gordon (1956-)\, obra va ser estrenada a Espanya per l’ensemble de percussió FRAMES Percussion l’any 2016.
URL:https://poblenouurbandistrict.com/ca/agenda/musica-desert/2022-07-16/
LOCATION:L’Auditori\, Carrer de Lepant\, 150\, Barcelona\, 08013\, Espanya
CATEGORIES:Música
ATTACH;FMTTYPE=image/jpeg:https://media.poblenouurbandistrict.com/2022/06/25052744/screenshot-2022-06-09-at-114145.jpg
END:VEVENT
BEGIN:VEVENT
DTSTART;TZID=Europe/Madrid:20220716T190000
DTEND;TZID=Europe/Madrid:20220716T210000
DTSTAMP:20260426T054523
CREATED:20220609T094819Z
LAST-MODIFIED:20220609T094819Z
UID:10003796-1657998000-1658005200@poblenouurbandistrict.com
SUMMARY:[:ca]Música: Julia Lezhneva & Dani Espasa[:es]Música: Julia Lezhneva & Dani Espasa[:en]Music: Julia Lezhneva & Dani Espasa[:]
DESCRIPTION:Festival Mozart Nits d’Estiu: L’Orquestra Simfònica de Barcelona i Nacional de Catalunya (OBC) presenta Don Juan\, Orfeo ed Euridice\, Obertura d’Idomeneo\, Recitatiu i Rondo\, i més.
URL:https://poblenouurbandistrict.com/ca/agenda/musica-julia-lezhneva-dani-espasa/
LOCATION:L’Auditori\, Carrer de Lepant\, 150\, Barcelona\, 08013\, Espanya
CATEGORIES:Música
ATTACH;FMTTYPE=image/jpeg:https://media.poblenouurbandistrict.com/2022/06/25052745/screenshot-2022-06-09-at-114753.jpg
END:VEVENT
BEGIN:VEVENT
DTSTART;TZID=Europe/Madrid:20220716T210000
DTEND;TZID=Europe/Madrid:20220716T223000
DTSTAMP:20260426T054523
CREATED:20220530T085356Z
LAST-MODIFIED:20220530T085356Z
UID:10003690-1658005200-1658010600@poblenouurbandistrict.com
SUMMARY:[:ca]Concert: Los Van Van[:es]Concierto: Los Van Van[:en]Concert: Los Van Van[:]
DESCRIPTION:Concert Celebració 50 anys de carrera de Los Van Van.
URL:https://poblenouurbandistrict.com/ca/agenda/concert-los-van-van/
LOCATION:Sala Razzmatazz\, C/ dels Almogàvers\, 122\, Barcelona\, Barcelona\, 08018\, Espanya
CATEGORIES:Música
ATTACH;FMTTYPE=image/jpeg:https://media.poblenouurbandistrict.com/2022/05/25052323/vanvanfoto-1920x964-1.jpg
END:VEVENT
BEGIN:VEVENT
DTSTART;TZID=Europe/Madrid:20220716T213000
DTEND;TZID=Europe/Madrid:20220716T230000
DTSTAMP:20260426T054523
CREATED:20220701T125321Z
LAST-MODIFIED:20220701T125321Z
UID:10003382-1658007000-1658012400@poblenouurbandistrict.com
SUMMARY:[:ca]Concert: MUV + Sofia Gabanna[:es]Concierto: MUV + Sofia Gabanna[:en]Concert: MUV + Sofia Gabanna[:]
DESCRIPTION:MUV és un conjunt de música multiinstrumental que utilitza el llenguatge de signes per a la improvisació col·lectiva\, creant música de ball i un ambient divertit.
URL:https://poblenouurbandistrict.com/ca/agenda/concert-muv-sofia-gabanna/
LOCATION:La Nau
CATEGORIES:Música
ATTACH;FMTTYPE=image/jpeg:https://media.poblenouurbandistrict.com/2022/07/25053324/capture-decran-2022-07-01-a-145215.jpg
END:VEVENT
BEGIN:VEVENT
DTSTART;TZID=Europe/Madrid:20220716T230000
DTEND;TZID=Europe/Madrid:20220716T230000
DTSTAMP:20260426T054523
CREATED:20220704T113427Z
LAST-MODIFIED:20220704T113427Z
UID:10003892-1658012400-1658012400@poblenouurbandistrict.com
SUMMARY:[:ca]Festa de cloenda del XVII Obrador d’estiu[:es]Fiesta de clausura del XVII Obrador d’estiu[:en]Closing party of the XVII Obrador d'estiu[:]
DESCRIPTION:L’Obrador és un dels esdeveniments importants de la proposta artística i formativa general de la Sala Beckett. Per això\, volem celebrar la cloenda de la seva 17a edició amb una proposta festiva: una nit de música amb una selecció de DJ’s propers a la Beckett i al sector teatral. \nSala VOL
URL:https://poblenouurbandistrict.com/ca/agenda/festa-de-cloenda-del-xvii-obrador-destiu/
LOCATION:Sala Beckett\, C. de Pere IV\, 228\, 232\, Barcelona\, Barcelona\, 08005
CATEGORIES:Música,Teatre
ATTACH;FMTTYPE=image/jpeg:https://media.poblenouurbandistrict.com/2022/07/25053339/capture-decran-2022-07-04-a-133254.jpg
END:VEVENT
END:VCALENDAR