BEGIN:VCALENDAR
VERSION:2.0
PRODID:-//Poblenou Urban District - ECPv6.15.20//NONSGML v1.0//EN
CALSCALE:GREGORIAN
METHOD:PUBLISH
X-WR-CALNAME:Poblenou Urban District
X-ORIGINAL-URL:https://poblenouurbandistrict.com/ca
X-WR-CALDESC:Esdeveniments per Poblenou Urban District
REFRESH-INTERVAL;VALUE=DURATION:PT1H
X-Robots-Tag:noindex
X-PUBLISHED-TTL:PT1H
BEGIN:VTIMEZONE
TZID:Europe/Madrid
BEGIN:DAYLIGHT
TZOFFSETFROM:+0100
TZOFFSETTO:+0200
TZNAME:CEST
DTSTART:20210328T010000
END:DAYLIGHT
BEGIN:STANDARD
TZOFFSETFROM:+0200
TZOFFSETTO:+0100
TZNAME:CET
DTSTART:20211031T010000
END:STANDARD
BEGIN:DAYLIGHT
TZOFFSETFROM:+0100
TZOFFSETTO:+0200
TZNAME:CEST
DTSTART:20220327T010000
END:DAYLIGHT
BEGIN:STANDARD
TZOFFSETFROM:+0200
TZOFFSETTO:+0100
TZNAME:CET
DTSTART:20221030T010000
END:STANDARD
BEGIN:DAYLIGHT
TZOFFSETFROM:+0100
TZOFFSETTO:+0200
TZNAME:CEST
DTSTART:20230326T010000
END:DAYLIGHT
BEGIN:STANDARD
TZOFFSETFROM:+0200
TZOFFSETTO:+0100
TZNAME:CET
DTSTART:20231029T010000
END:STANDARD
END:VTIMEZONE
BEGIN:VEVENT
DTSTART;TZID=Europe/Madrid:20220720T160000
DTEND;TZID=Europe/Madrid:20220720T170000
DTSTAMP:20260426T063120
CREATED:20220713T102852Z
LAST-MODIFIED:20220713T102852Z
UID:10003909-1658332800-1658336400@poblenouurbandistrict.com
SUMMARY:[:ca]Info Day Online: Industria Musical[:es]Info Day Online: Industria Musical[:en]Info Day Online: Musical Industry[:]
DESCRIPTION:Si somies treballar gestionant la carrera d’artistes internacionals o sent part de l’organització d’un gran festival o un segell discogràfic\, el primer pas per aconseguir-ho és enfocar la teva formació en la direcció correcta. \nA SAE portem dècades formant professionals de primer nivell i alguns dels nostres alumni ja treballen en empreses com Warner Music\, Deluxe Spain\, Sony Music o Weekndr. \nTens l’oportunitat de conèixer com es van formar i descobrir el nostre Programa en Indústria Musical en una sessió online amb el Head of Music Business\, Carlos Vinnuesa\, en què parlarem de les necessitats de la indústria i revisarem alguns dels projectes més destacats que els nostres estudiants han realitzat al llarg de la formació.
URL:https://poblenouurbandistrict.com/ca/agenda/info-day-online-industria-musical/
LOCATION:SAE Barcelona\, C/ del Perú\, 176\, Barcelona\, 08020
CATEGORIES:Música
ATTACH;FMTTYPE=image/jpeg:https://media.poblenouurbandistrict.com/2022/07/25053516/info-day-web-music-business-842x842-1.jpg
END:VEVENT
END:VCALENDAR