BEGIN:VCALENDAR
VERSION:2.0
PRODID:-//Poblenou Urban District - ECPv6.15.20//NONSGML v1.0//EN
CALSCALE:GREGORIAN
METHOD:PUBLISH
X-ORIGINAL-URL:https://poblenouurbandistrict.com/ca
X-WR-CALDESC:Esdeveniments per Poblenou Urban District
REFRESH-INTERVAL;VALUE=DURATION:PT1H
X-Robots-Tag:noindex
X-PUBLISHED-TTL:PT1H
BEGIN:VTIMEZONE
TZID:Europe/Madrid
BEGIN:DAYLIGHT
TZOFFSETFROM:+0100
TZOFFSETTO:+0200
TZNAME:CEST
DTSTART:20210328T010000
END:DAYLIGHT
BEGIN:STANDARD
TZOFFSETFROM:+0200
TZOFFSETTO:+0100
TZNAME:CET
DTSTART:20211031T010000
END:STANDARD
BEGIN:DAYLIGHT
TZOFFSETFROM:+0100
TZOFFSETTO:+0200
TZNAME:CEST
DTSTART:20220327T010000
END:DAYLIGHT
BEGIN:STANDARD
TZOFFSETFROM:+0200
TZOFFSETTO:+0100
TZNAME:CET
DTSTART:20221030T010000
END:STANDARD
BEGIN:DAYLIGHT
TZOFFSETFROM:+0100
TZOFFSETTO:+0200
TZNAME:CEST
DTSTART:20230326T010000
END:DAYLIGHT
BEGIN:STANDARD
TZOFFSETFROM:+0200
TZOFFSETTO:+0100
TZNAME:CET
DTSTART:20231029T010000
END:STANDARD
END:VTIMEZONE
BEGIN:VEVENT
DTSTART;TZID=Europe/Madrid:20220820T130000
DTEND;TZID=Europe/Madrid:20220820T210000
DTSTAMP:20260426T040046
CREATED:20220722T122721Z
LAST-MODIFIED:20220722T144518Z
UID:10003916-1661000400-1661029200@poblenouurbandistrict.com
SUMMARY:[:ca]Música: Sub-Urban[:es]Música: Sub-Urban[:en]Music: Sub-Urban[:]
DESCRIPTION:Deep House\, Nu-Disco i Soulful són els sons que defineixen Sub_Urban Music\, un segell discogràfic independent de Mallorca que s’ha fet un lloc entre els millors segells house del món. Aquest estiu el segell de Sebas Ramis porta alguns dels seus artistes de gran èxit\, com Sam Ruffillo i el vocalista nord-americà Lee Wilson\, acompanyats pels habituals Viktor Olle i el mateix Sebas Ramis.
URL:https://poblenouurbandistrict.com/ca/agenda/musica-sub-urban/2022-08-20/
LOCATION:Hilton Diagonal Mar\, Passeig del Taulat\, 262-264\, Barcelona\, 08019\, España
CATEGORIES:Música
ATTACH;FMTTYPE=image/jpeg:https://media.poblenouurbandistrict.com/2022/07/25053711/capture-decran-2022-07-22-a-142240.jpg
END:VEVENT
END:VCALENDAR