BEGIN:VCALENDAR
VERSION:2.0
PRODID:-//Poblenou Urban District - ECPv6.15.20//NONSGML v1.0//EN
CALSCALE:GREGORIAN
METHOD:PUBLISH
X-WR-CALNAME:Poblenou Urban District
X-ORIGINAL-URL:https://poblenouurbandistrict.com/ca
X-WR-CALDESC:Esdeveniments per Poblenou Urban District
REFRESH-INTERVAL;VALUE=DURATION:PT1H
X-Robots-Tag:noindex
X-PUBLISHED-TTL:PT1H
BEGIN:VTIMEZONE
TZID:Europe/Madrid
BEGIN:DAYLIGHT
TZOFFSETFROM:+0100
TZOFFSETTO:+0200
TZNAME:CEST
DTSTART:20210328T010000
END:DAYLIGHT
BEGIN:STANDARD
TZOFFSETFROM:+0200
TZOFFSETTO:+0100
TZNAME:CET
DTSTART:20211031T010000
END:STANDARD
BEGIN:DAYLIGHT
TZOFFSETFROM:+0100
TZOFFSETTO:+0200
TZNAME:CEST
DTSTART:20220327T010000
END:DAYLIGHT
BEGIN:STANDARD
TZOFFSETFROM:+0200
TZOFFSETTO:+0100
TZNAME:CET
DTSTART:20221030T010000
END:STANDARD
BEGIN:DAYLIGHT
TZOFFSETFROM:+0100
TZOFFSETTO:+0200
TZNAME:CEST
DTSTART:20230326T010000
END:DAYLIGHT
BEGIN:STANDARD
TZOFFSETFROM:+0200
TZOFFSETTO:+0100
TZNAME:CET
DTSTART:20231029T010000
END:STANDARD
END:VTIMEZONE
BEGIN:VEVENT
DTSTART;TZID=Europe/Madrid:20220823T210000
DTEND;TZID=Europe/Madrid:20220823T223000
DTSTAMP:20260426T041619
CREATED:20220615T100216Z
LAST-MODIFIED:20220615T100216Z
UID:10003833-1661288400-1661293800@poblenouurbandistrict.com
SUMMARY:[:ca]Concert: bbno$[:es]Concierto: bbno$[:en]Concert: bbno$[:]
DESCRIPTION:Les lletres de bbno$\, plenes de sarcasme i indiferència a la cultura en línia\, van acompanyades de genials videoclips i un enfocament creatiu que demostren que\, en el saturat mercat de la música d’avui dia\, encara queda espai per a artistes independents curulls de carisma. Gaudeix del seu concert a Sala Razzmatazz el 23 d’agost.
URL:https://poblenouurbandistrict.com/ca/agenda/concert-bbno/
LOCATION:Sala Razzmatazz\, C/ dels Almogàvers\, 122\, Barcelona\, Barcelona\, 08018\, Espanya
CATEGORIES:Música
ATTACH;FMTTYPE=image/jpeg:https://media.poblenouurbandistrict.com/2022/06/25053007/screenshot-2022-06-15-at-120115.jpg
END:VEVENT
END:VCALENDAR