BEGIN:VCALENDAR
VERSION:2.0
PRODID:-//Poblenou Urban District - ECPv6.15.20//NONSGML v1.0//EN
CALSCALE:GREGORIAN
METHOD:PUBLISH
X-ORIGINAL-URL:https://poblenouurbandistrict.com/ca
X-WR-CALDESC:Esdeveniments per Poblenou Urban District
REFRESH-INTERVAL;VALUE=DURATION:PT1H
X-Robots-Tag:noindex
X-PUBLISHED-TTL:PT1H
BEGIN:VTIMEZONE
TZID:Europe/Madrid
BEGIN:DAYLIGHT
TZOFFSETFROM:+0100
TZOFFSETTO:+0200
TZNAME:CEST
DTSTART:20210328T010000
END:DAYLIGHT
BEGIN:STANDARD
TZOFFSETFROM:+0200
TZOFFSETTO:+0100
TZNAME:CET
DTSTART:20211031T010000
END:STANDARD
BEGIN:DAYLIGHT
TZOFFSETFROM:+0100
TZOFFSETTO:+0200
TZNAME:CEST
DTSTART:20220327T010000
END:DAYLIGHT
BEGIN:STANDARD
TZOFFSETFROM:+0200
TZOFFSETTO:+0100
TZNAME:CET
DTSTART:20221030T010000
END:STANDARD
BEGIN:DAYLIGHT
TZOFFSETFROM:+0100
TZOFFSETTO:+0200
TZNAME:CEST
DTSTART:20230326T010000
END:DAYLIGHT
BEGIN:STANDARD
TZOFFSETFROM:+0200
TZOFFSETTO:+0100
TZNAME:CET
DTSTART:20231029T010000
END:STANDARD
END:VTIMEZONE
BEGIN:VEVENT
DTSTART;TZID=Europe/Madrid:20220915T080000
DTEND;TZID=Europe/Madrid:20220915T170000
DTSTAMP:20260426T020617
CREATED:20220830T134742Z
LAST-MODIFIED:20220915T114430Z
UID:10003931-1663228800-1663261200@poblenouurbandistrict.com
SUMMARY:[:ca]Concert: LA BANDA AL CASINO L’ALIANÇA DEL POBLENOU[:es]Concierto: LA BANDA AL CASINO L’ALIANÇA DEL POBLENOU[:en]Concert: LA BANDA AL CASINO L’ALIANÇA DEL POBLENOU[:]
DESCRIPTION:REPERTORI\n\n\n\nJoan Lamote de Grignon:\n\n\nScherzo sobre un tema popular català \n\n\nJoaquim Serra:\n\n\nCavalleresca \n\n\n. Sardana\n\n\n\n\nJoan Lluís Moraleda:\n\n\nTirant lo Blanc \n\n\nJuli Garreta:\n\n\nLlicorella \n\n\n. Sardana\n\n\n\n\nEnric Casals:\n\n\nHeroica \n\n\n. Sardana\n\n\n\n\nJosep Maria Ruera:\n\n\nLa verge catalana \n\n\n. Sardana\n\n\n\n\nManuel Oltra:\n\n\nMontmagastre \n\n\n\nINTÈRPRETS\n\n\n\nBanda Municipal de Barcelona\n\n\nCarlos Ramón\, director\n\n 
URL:https://poblenouurbandistrict.com/ca/agenda/concert-la-banda-al-casino-lalianca-del-poblenou/
LOCATION:Casino l’aliança del Poblenou\, Rambla del Poblenou\, 42\,\, Barcelona\, Barcelona\, 08005\, Espanya
CATEGORIES:Música
ATTACH;FMTTYPE=image/png:https://poblenouurbandistrict.com/wp-content/uploads/2022/08/diseno-sin-titulo-8.jpg
END:VEVENT
BEGIN:VEVENT
DTSTART;TZID=Europe/Madrid:20220915T080000
DTEND;TZID=Europe/Madrid:20220915T170000
DTSTAMP:20260426T020617
CREATED:20220913T125002Z
LAST-MODIFIED:20220913T125002Z
UID:10003577-1663228800-1663261200@poblenouurbandistrict.com
SUMMARY:[:ca]¡VIVA MÉXICO! a TOPE[:es]¡VIVA MÉXICO! en TOPE[:en]¡VIVA MÉXICO! in TOPE[:]
DESCRIPTION:Celebrem junts la independència al terrat més xingona de Barcelona! \nEl crit més famós de Mèxic s’escoltarà a TOPE \nEl 15 de setembre celebrem la independència de Mèxic amb una festa pare que comptarà amb els millors tacs i glops: Els nostres xefs serviran street-food mexicà\, correran el tequila\, el mescal i les xel·les i brindarem amb cavallets\, ballant a ritme de SonikGroove\, directament des del cor de Llatinoamèrica. \n  \n*IMPRESCINDIBLE ENTRADA GRATUÏTA PER ACCEDIR\n** L’ENTRADA GRATUÏTA NO GARANTEIX ACCÉS SI S’ARRIBA A L’AFORAMENT MÀXIM\, ES RECOMANA ARRIBAR AVIAT
URL:https://poblenouurbandistrict.com/ca/agenda/viva-mexico-a-tope/
LOCATION:TOPE\, Av. Diagonal 205\, Barcelona\, Catalunya\, 08018\, España
CATEGORIES:Gastronomia,Música
ATTACH;FMTTYPE=image/jpeg:https://media.poblenouurbandistrict.com/2022/09/25054217/capture-decran-2022-09-13-a-144906.jpg
ORGANIZER;CN="TOPE":MAILTO:alex.trilla@thehox.com
END:VEVENT
BEGIN:VEVENT
DTSTART;TZID=Europe/Madrid:20220915T120000
DTEND;TZID=Europe/Madrid:20220915T140000
DTSTAMP:20260426T020617
CREATED:20220830T155547Z
LAST-MODIFIED:20220915T114702Z
UID:10003967-1663243200-1663250400@poblenouurbandistrict.com
SUMMARY:[:ca]Concert: COSMOS QUARTET[:es]Concierto: COSMOS QUARTET[:en]Concert: COSMOS QUARTET[:]
DESCRIPTION:REPERTORI\n\n\n\nF. J. Haydn:\n\n\n\n\nQuartet de corda n. 1 en si m\, op. 33\n\n\nQuartet de corda n. 1 en Sol\, op. 76\n\n\n\nINTÈRPRETS\n\nCosmos Quartet\n\n\n\nPROGRAMA\n\n\nJoseph Haydn va compondre una setantena de quartets de corda al llarg de la seva trajectòria i va tenir una importància decisiva en la consolidació d’aquesta formació instrumental com un gènere musical per se. En aquesta ocasió\, el Cosmos Quartet interpretarà el Quartet de corda n. 1\, op. 33 (1781) i el Quartet de corda n. 1\, op. 76 (1797)\, creats amb gairebé vint anys de diferència. \nEls Quartets de corda\, op. 33\, que es coneixen com els “Quartets russos” perquè estan dedicats al gran duc Pau de Rússia\, són obres plenes d’ironia i enginy. Al principi del primer quartet\, Haydn juga amb l’ambigüitat\, deixa que l’espectador endevini si està escrit en Re o en si m. \nEls Quartets de corda\, op. 76 són una de les últimes obres que Haydn va compondre\, ja en plena maduresa\, i estan dedicats al comte Erdödy. El primer quartet d’aquesta sèrie\, escrit en Sol\, comença amb tres acords en tutti que són especialment coneguts i s’estructura en quatre moviments\, tres dels quals tenen forma de sonata. De nou\, Haydn oscil·la entre tonalitats majors i menors i\, de fet\, comença l’últim moviment en sol m.
URL:https://poblenouurbandistrict.com/ca/agenda/concert-cosmos-quartet/
LOCATION:L’Auditori\, Carrer de Lepant\, 150\, Barcelona\, 08013\, Espanya
CATEGORIES:Música
ATTACH;FMTTYPE=image/png:https://poblenouurbandistrict.com/wp-content/uploads/2022/08/diseno-sin-titulo-11.jpg
END:VEVENT
END:VCALENDAR