BEGIN:VCALENDAR
VERSION:2.0
PRODID:-//Poblenou Urban District - ECPv6.15.20//NONSGML v1.0//EN
CALSCALE:GREGORIAN
METHOD:PUBLISH
X-WR-CALNAME:Poblenou Urban District
X-ORIGINAL-URL:https://poblenouurbandistrict.com/ca
X-WR-CALDESC:Esdeveniments per Poblenou Urban District
REFRESH-INTERVAL;VALUE=DURATION:PT1H
X-Robots-Tag:noindex
X-PUBLISHED-TTL:PT1H
BEGIN:VTIMEZONE
TZID:Europe/Madrid
BEGIN:DAYLIGHT
TZOFFSETFROM:+0100
TZOFFSETTO:+0200
TZNAME:CEST
DTSTART:20210328T010000
END:DAYLIGHT
BEGIN:STANDARD
TZOFFSETFROM:+0200
TZOFFSETTO:+0100
TZNAME:CET
DTSTART:20211031T010000
END:STANDARD
BEGIN:DAYLIGHT
TZOFFSETFROM:+0100
TZOFFSETTO:+0200
TZNAME:CEST
DTSTART:20220327T010000
END:DAYLIGHT
BEGIN:STANDARD
TZOFFSETFROM:+0200
TZOFFSETTO:+0100
TZNAME:CET
DTSTART:20221030T010000
END:STANDARD
BEGIN:DAYLIGHT
TZOFFSETFROM:+0100
TZOFFSETTO:+0200
TZNAME:CEST
DTSTART:20230326T010000
END:DAYLIGHT
BEGIN:STANDARD
TZOFFSETFROM:+0200
TZOFFSETTO:+0100
TZNAME:CET
DTSTART:20231029T010000
END:STANDARD
END:VTIMEZONE
BEGIN:VEVENT
DTSTART;TZID=Europe/Madrid:20220916T190000
DTEND;TZID=Europe/Madrid:20220916T210000
DTSTAMP:20260426T020239
CREATED:20220830T142504Z
LAST-MODIFIED:20220830T142504Z
UID:10003933-1663354800-1663362000@poblenouurbandistrict.com
SUMMARY:[:ca]Concert: BELCEA QUARTET I ARIS QUARTETT[:es]Concierto: BELCEA QUARTET I ARIS QUARTETT[:en]Concert: BELCEA QUARTET I ARIS QUARTETT[:]
DESCRIPTION:REPERTORI\n\nAris Quartett \n\n\nMisato Mochizuki:\n\n\nin-side de Brains \n\n\n per a quartet de corda (2020) 6′ – Estrena nacional\n\n\nBelcea Quartet \n\n\nGyörgy Kurtág:\n\n\nOfficium breve in memoriam Andreae Szervánszky \n\n\n\, op. 28 (1988-1989) 13′\n\n\n\n\nFranz Schubert:\n\n\nQuartettsatz \n\n\nDmitri Xostakóvitx: Quartet de corda n. 14 en Fa #\, op. 142 (1973) 26′\n\n\nL. V. Beethoven: Quartet de corda n. 1\, op. 59 “Razumovsky”\n\n\n\nINTÈRPRETS\n\n\n\nBelcea Quartet\n\n\nAris Quartett\n\n\n\nPROGRAMA\n\n\nEls tres Quartets de corda\, op. 59 –coneguts amb el nom del comte a qui estan dedicats\, Razumovski– van suposar un punt d’inflexió en la carrera compositiva de L. van Beethoven\, que finalment va atrevir-se a escapar de les convencions clàssiques. Són obres tècnicament difícils\, amb contrastos de dinàmiques i una magnitud sonora gairebé simfònica. A petició de Razumovski\, el primer quartet inclou un tema popular rus que articula l’últim moviment. \nEl “Quartettsatz”\, que és el primer moviment d’un quartet de corda que Franz Schubert no va acabar mai\, té un cert aire tràgic i pertany a l’etapa madura del compositor. \nEl Quartet de corda n. 14\, op. 142 és el penúltim quartet que Dmitri Xostakóvitx va compondre\, ja malalt\, i el violoncel hi té un paper predominant. \nA l’Officium breve (In memoriam Andreae Szervanszky)\, op. 28\, György Kurtag fa un homenatge pòstum a Szervanszki i a Anton Webern\, dos dels seus grans referents musicals. \nTambé interpretaran in-side\, la quarta peça del cicle Brains\, que Misato Mochizuki va compondre a partir d’algunes investigacions sobre el funcionament del cervell.
URL:https://poblenouurbandistrict.com/ca/agenda/concert-belcea-quartet-i-aris-quartett/
LOCATION:L’Auditori\, Carrer de Lepant\, 150\, Barcelona\, 08013\, Espanya
CATEGORIES:Música
ATTACH;FMTTYPE=image/png:https://poblenouurbandistrict.com/wp-content/uploads/2022/08/diseno-sin-titulo-10.jpg
END:VEVENT
BEGIN:VEVENT
DTSTART;TZID=Europe/Madrid:20220916T200000
DTEND;TZID=Europe/Madrid:20220916T200000
DTSTAMP:20260426T020239
CREATED:20220905T131052Z
LAST-MODIFIED:20220905T131052Z
UID:10003935-1663358400-1663358400@poblenouurbandistrict.com
SUMMARY:[:ca]Concert: Umwelt Rock: ReDimoni + Human Carnage[:es]Concierto: Umwelt Rock: ReDimoni + Human Carnage[:en]Concert: Umwelt Rock: ReDimoni + Human Carnage[:]
DESCRIPTION:Espectacular concert de les bandes barcelonines ReDimoni\, amb nou single sota el braç\, i Human Carnage a La Nau\, una sala amb un so sempre excel·lent. Tota una delicatessen\, una descàrrega de Thrash i Brutal Death Metall que arrasarà de ben segur els fonaments del local.
URL:https://poblenouurbandistrict.com/ca/agenda/concert-umwelt-rock-redimoni-human-carnage/
LOCATION:La Nau
CATEGORIES:Música
ATTACH;FMTTYPE=image/jpeg:https://media.poblenouurbandistrict.com/2022/09/25053953/capture-decran-2022-09-05-a-151016.jpg
END:VEVENT
BEGIN:VEVENT
DTSTART;TZID=Europe/Madrid:20220916T210000
DTEND;TZID=Europe/Madrid:20220916T230000
DTSTAMP:20260426T020239
CREATED:20220913T130056Z
LAST-MODIFIED:20220913T130056Z
UID:10003582-1663362000-1663369200@poblenouurbandistrict.com
SUMMARY:Concierto: Stop Stop
DESCRIPTION:Els nois de Barceloningham que aquest any han publicat el seu cinquè disc Lowcost Life acaben d’anunciar per al proper any 2022 que participaran al Monsters Of Rock Cruise compartint creuer i escenari amb Alice Cooper\, Vixen\, Winger\, Skid Row… entre d’altres. \nTambé anuncien una extensa gira per diverses ciutats del país\, que properament comuniquessin\, lògicament la primera data que volien anunciar era Barcelona per ser on estan les seves arrels com a banda.
URL:https://poblenouurbandistrict.com/ca/agenda/concierto-stop-stop/
LOCATION:Sala Wolf\, C/ dels Almogàvers\, 88\, Barcelona\, Barcelona\, 08018\, Espanya
CATEGORIES:Música
ATTACH;FMTTYPE=image/jpeg:https://media.poblenouurbandistrict.com/2022/09/25054221/capture-decran-2022-09-13-a-150024.jpg
END:VEVENT
END:VCALENDAR