BEGIN:VCALENDAR
VERSION:2.0
PRODID:-//Poblenou Urban District - ECPv6.15.20//NONSGML v1.0//EN
CALSCALE:GREGORIAN
METHOD:PUBLISH
X-ORIGINAL-URL:https://poblenouurbandistrict.com/ca
X-WR-CALDESC:Esdeveniments per Poblenou Urban District
REFRESH-INTERVAL;VALUE=DURATION:PT1H
X-Robots-Tag:noindex
X-PUBLISHED-TTL:PT1H
BEGIN:VTIMEZONE
TZID:Europe/Madrid
BEGIN:DAYLIGHT
TZOFFSETFROM:+0100
TZOFFSETTO:+0200
TZNAME:CEST
DTSTART:20210328T010000
END:DAYLIGHT
BEGIN:STANDARD
TZOFFSETFROM:+0200
TZOFFSETTO:+0100
TZNAME:CET
DTSTART:20211031T010000
END:STANDARD
BEGIN:DAYLIGHT
TZOFFSETFROM:+0100
TZOFFSETTO:+0200
TZNAME:CEST
DTSTART:20220327T010000
END:DAYLIGHT
BEGIN:STANDARD
TZOFFSETFROM:+0200
TZOFFSETTO:+0100
TZNAME:CET
DTSTART:20221030T010000
END:STANDARD
BEGIN:DAYLIGHT
TZOFFSETFROM:+0100
TZOFFSETTO:+0200
TZNAME:CEST
DTSTART:20230326T010000
END:DAYLIGHT
BEGIN:STANDARD
TZOFFSETFROM:+0200
TZOFFSETTO:+0100
TZNAME:CET
DTSTART:20231029T010000
END:STANDARD
END:VTIMEZONE
BEGIN:VEVENT
DTSTART;TZID=Europe/Madrid:20220918T210000
DTEND;TZID=Europe/Madrid:20220918T210000
DTSTAMP:20260426T020601
CREATED:20220905T131510Z
LAST-MODIFIED:20220905T131510Z
UID:10003965-1663534800-1663534800@poblenouurbandistrict.com
SUMMARY:[:ca]Concert: Hipnotic Brass Ensemble[:es]Concierto: Hipnotic Brass Ensemble[:en]Concert: Hipnotic Brass Ensemble[:]
DESCRIPTION:HYPNOTIC BRASS ENSEMBLE és un projecte integrat pels set fills del genial Phil Cohran\, fundador de “Sun Ra Arkestra” i de “Earth\, Wind & Fire”. Resulta obvi indicar qui ha estat la seva influència més gran. A aquest bagatge artístic gairebé connatural\, se sumen les seves experiències i inquietuds pròpies\, que van des del so de les big-bands de New Orleans\, passant pel funk\, l’afrobeat\, i una mica de l’agressivitat del hip-hop a la secció rítmica . Va ser el 2005\, amb l’èxit de vendes del seu segon àlbum\, Júpiter\, amb què comença la seva projecció internacional.
URL:https://poblenouurbandistrict.com/ca/agenda/concert-hipnotic-brass-ensemble/
LOCATION:La Nau
CATEGORIES:Música
ATTACH;FMTTYPE=image/jpeg:https://media.poblenouurbandistrict.com/2022/09/25053955/capture-decran-2022-09-05-a-151427.jpg
END:VEVENT
END:VCALENDAR