BEGIN:VCALENDAR
VERSION:2.0
PRODID:-//Poblenou Urban District - ECPv6.15.20//NONSGML v1.0//EN
CALSCALE:GREGORIAN
METHOD:PUBLISH
X-ORIGINAL-URL:https://poblenouurbandistrict.com/ca
X-WR-CALDESC:Esdeveniments per Poblenou Urban District
REFRESH-INTERVAL;VALUE=DURATION:PT1H
X-Robots-Tag:noindex
X-PUBLISHED-TTL:PT1H
BEGIN:VTIMEZONE
TZID:Europe/Madrid
BEGIN:DAYLIGHT
TZOFFSETFROM:+0100
TZOFFSETTO:+0200
TZNAME:CEST
DTSTART:20210328T010000
END:DAYLIGHT
BEGIN:STANDARD
TZOFFSETFROM:+0200
TZOFFSETTO:+0100
TZNAME:CET
DTSTART:20211031T010000
END:STANDARD
BEGIN:DAYLIGHT
TZOFFSETFROM:+0100
TZOFFSETTO:+0200
TZNAME:CEST
DTSTART:20220327T010000
END:DAYLIGHT
BEGIN:STANDARD
TZOFFSETFROM:+0200
TZOFFSETTO:+0100
TZNAME:CET
DTSTART:20221030T010000
END:STANDARD
BEGIN:DAYLIGHT
TZOFFSETFROM:+0100
TZOFFSETTO:+0200
TZNAME:CEST
DTSTART:20230326T010000
END:DAYLIGHT
BEGIN:STANDARD
TZOFFSETFROM:+0200
TZOFFSETTO:+0100
TZNAME:CET
DTSTART:20231029T010000
END:STANDARD
END:VTIMEZONE
BEGIN:VEVENT
DTSTART;TZID=Europe/Madrid:20221126T110000
DTEND;TZID=Europe/Madrid:20221126T133000
DTSTAMP:20260425T215302
CREATED:20221122T121210Z
LAST-MODIFIED:20221123T165603Z
UID:10003621-1669460400-1669469400@poblenouurbandistrict.com
SUMMARY:SCHÖNBERG: PELLEAS UND MELISANDE
DESCRIPTION:REPERTORIO\n\n\nJohannes Brahms / Luciano Berio: Sonata para clarinete en fa m\, op. 120 n. 1 (1894) 24′\n\n\nOlga Neuwirth:\n\nMasaot/Clocks without Hands \n\n (Masaot/Relojes sin manijas) (2013-15) 24′ – Estreno nacional\n\n\nArnold Schönberg:\n\nPelleas und Melisande \n\, op. 5 (1902-1903; rev. 1920) 41′ \n\n\n\nINTÉRPRETAS\n\n\nOrquesta Sinfónica de Barcelona y Nacional de Cataluña (OBC)\n\n\nAndreas Ottensamer\, clarinete\n\nMatthias Pintscher\, dirección \n\n\n\nPROGRAMA\n\n\nCon fuertes arrelas en el Romanticismo y el decadentismo finisecular\, el poema sinfónico  Peleas y Melisenda  sobre el texto de Maurice Maeterlinck pertenece al primer período de la obra de Arnold Schönberg\, junto al ciclo de los  Gurrelieder  (Canciones de Gurre) y  Verklärte Nacht  ( Noche transfigurada)\, con la que mantiene correspondencias. Con una orquesta de resonancias straussianas\, casi se pueden oír los estertores de un mundo que se apagaba y otro que estaba a punto de estallar\, en paralelo a la evolución creativa del compositor vienés\, que en ese momento quitaba la tensión expresiva del lenguaje tonal hasta el límite y que poco después tomaría “un camino más arduo”\, como recordaba al final de su vida. \nLuciano Berio\, sólido conocedor de la tradición y proclive en su música a la cita y la paráfrasis\, convirtió la Sonata para clarinete y piano en fa n. 1\, op. 120 en el concierto que Johannes Brahms nunca escribió para ese instrumento. Lo hizo en una etapa -la década de los ochenta del siglo pasado- muy ligada a las transcripciones y reconstrucciones. En esta ocasión\, Berio traslada a la orquesta la meticulosa y densa escritura para el piano que envuelve al solista.  \nEn esta partitura dedicada a la Filarmónica de Viena\, formación que la estrenó en 2015\, la reconocida compositora austríaca Olga Neuwirth ofrece una reflexión sobre la naturaleza del tiempo y los recuerdos en la música\, donde se deshacen tal y como lo anuncia el título:  Clocks without Hands  (relojes sin manijas).
URL:https://poblenouurbandistrict.com/ca/agenda/schonberg-pelleas-und-melisande/2022-11-26/
LOCATION:L’Auditori\, Carrer de Lepant\, 150\, Barcelona\, 08013\, Espanya
CATEGORIES:Música
ATTACH;FMTTYPE=image/jpeg:https://media.poblenouurbandistrict.com/2022/11/25055037/diseno-sin-titulo-4.jpg
END:VEVENT
BEGIN:VEVENT
DTSTART;TZID=Europe/Madrid:20221126T211500
DTEND;TZID=Europe/Madrid:20221126T224500
DTSTAMP:20260425T215302
CREATED:20221122T125555Z
LAST-MODIFIED:20221122T125555Z
UID:10003637-1669497300-1669502700@poblenouurbandistrict.com
SUMMARY:FUEGO LIVE! - MDA & AMBEATS
DESCRIPTION:Mda & ambeats\, referents de la música d’avantguarda a Espanya presenten ‘Inteligencia Artificial’. Un àlbum conformat per 22 cançons plenes de codis i experiències disperses en el temps i que troba tots dos artistes embolicats en diferents etapes de les seves vides. \nUn treball profètic sobre el món avui\, un lloc que espanta per la velocitat\, l’agressivitat i l’avarícia dels mateixos humans\, mda & ambeats intenten buscar la seva posició al món a través de l’amor\, el sexe\, l’amistat i la confrontació a un món en ruïnes.
URL:https://poblenouurbandistrict.com/ca/agenda/fuego-live-mda-ambeats/
LOCATION:Sala Razzmatazz\, C/ dels Almogàvers\, 122\, Barcelona\, Barcelona\, 08018\, Espanya
CATEGORIES:Música
ATTACH;FMTTYPE=image/jpeg:https://media.poblenouurbandistrict.com/2022/11/25055045/diseno-sin-titulo-9.jpg
END:VEVENT
BEGIN:VEVENT
DTSTART;TZID=Europe/Madrid:20221126T213000
DTEND;TZID=Europe/Madrid:20221126T230000
DTSTAMP:20260425T215302
CREATED:20221122T130226Z
LAST-MODIFIED:20221122T130416Z
UID:10003638-1669498200-1669503600@poblenouurbandistrict.com
SUMMARY:HEY BULLDOGS
DESCRIPTION:Hay bandas que forman parte de nuestra historia desde siempre. Nos acompañan a nuestra vida siendo o no conscientes de ellas y componen a veces decenas\, cientos de recortes que podrían contar muchas de nuestras experiencias vividas. The Beatles es\, sin duda alguna\, uno de estos grupos. \nEscucharlos en directo dejó de ser posible en 1966\, cuando decidieron retirarse de los escenarios para dedicarse a producir una música diferente que los medios con los que se contaba entonces no habrían permitido reproducir en vivo… Y está aquí donde entran Hey Bulldogs: formada por cinco músicos provenientes del mundo del beato\, el rock ‘n roll\, la clásica y el jazz\, la banda funciona con la única intención de plasmar en el escenario la actitud y el nervio de Lennon\, McCartney\, Harrison y Starr sin dejar de lado figuras que fueron fundamentales en su historia\, como George Martin o Billy Preston. \nHey Bulldogs se comprometen con una idea de show en vivo donde cada elemento se produce en servicio del espectáculo incontestable\, haciendo el resto en corazones infinitos de tres\, cuatro o cinco voces\, arreglos orquestales y sintetizadores sesenta que abarcan sin complejos desde el llamada Beatlemanía de los primeros años\, de rock ‘n roll contagioso\, pasando por sus transiciones de amor a los detalles\, a las nuevas guitarras\, a la psicodelia\, y llegando al punto culminante de las vanguardias donde cada cosa tuvo lugar y nunca\, por desgracia\, pudo ser experimentado en directo. \nNo son una banda tributo al uso: aquí el homenaje es música en estado puro que suena Beatles y energía sobre el escenario\, sin abordar la teatralidad en la que se pueda buscar la copia de gestos o estéticas determinadas. Hey Bulldogs tienen el sonido que habría seguido en nuestras cabezas si The Beatles hubieran seguido en activo. Nada menos. \nCon esta seña de identidad que contagia la actitud sobre el escenario al público\, de pasarlo bien arriba y abajo en un show que\, si fuera necesario calificar en una sola palabra\, sería “diversión”\, Hey Bulldogs se entregan en vivo a la propuesta de los cuatro de Liverpool en su línea más lúdica y vital\, con el recorrido completo por toda su historia de principio a fin. \n¿Te lo vas a perder?
URL:https://poblenouurbandistrict.com/ca/agenda/hey-bulldogs/
LOCATION:Sala Razzmatazz\, C/ dels Almogàvers\, 122\, Barcelona\, Barcelona\, 08018\, Espanya
CATEGORIES:Música
ATTACH;FMTTYPE=image/jpeg:https://media.poblenouurbandistrict.com/2022/11/25055046/diseno-sin-titulo-10.jpg
END:VEVENT
END:VCALENDAR