BEGIN:VCALENDAR
VERSION:2.0
PRODID:-//Poblenou Urban District - ECPv6.15.20//NONSGML v1.0//EN
CALSCALE:GREGORIAN
METHOD:PUBLISH
X-WR-CALNAME:Poblenou Urban District
X-ORIGINAL-URL:https://poblenouurbandistrict.com/ca
X-WR-CALDESC:Esdeveniments per Poblenou Urban District
REFRESH-INTERVAL;VALUE=DURATION:PT1H
X-Robots-Tag:noindex
X-PUBLISHED-TTL:PT1H
BEGIN:VTIMEZONE
TZID:Europe/Madrid
BEGIN:DAYLIGHT
TZOFFSETFROM:+0100
TZOFFSETTO:+0200
TZNAME:CEST
DTSTART:20210328T010000
END:DAYLIGHT
BEGIN:STANDARD
TZOFFSETFROM:+0200
TZOFFSETTO:+0100
TZNAME:CET
DTSTART:20211031T010000
END:STANDARD
BEGIN:DAYLIGHT
TZOFFSETFROM:+0100
TZOFFSETTO:+0200
TZNAME:CEST
DTSTART:20220327T010000
END:DAYLIGHT
BEGIN:STANDARD
TZOFFSETFROM:+0200
TZOFFSETTO:+0100
TZNAME:CET
DTSTART:20221030T010000
END:STANDARD
BEGIN:DAYLIGHT
TZOFFSETFROM:+0100
TZOFFSETTO:+0200
TZNAME:CEST
DTSTART:20230326T010000
END:DAYLIGHT
BEGIN:STANDARD
TZOFFSETFROM:+0200
TZOFFSETTO:+0100
TZNAME:CET
DTSTART:20231029T010000
END:STANDARD
END:VTIMEZONE
BEGIN:VEVENT
DTSTART;TZID=Europe/Madrid:20221129T193000
DTEND;TZID=Europe/Madrid:20221129T213000
DTSTAMP:20260425T195535
CREATED:20221123T115210Z
LAST-MODIFIED:20221123T115210Z
UID:10004237-1669750200-1669757400@poblenouurbandistrict.com
SUMMARY:FRANK CARTER & THE RATTLESNAKES + THE OBGMS
DESCRIPTION:L’últim disc de Frank Carter amb els seus Rattlesnakes\, “Sticky”\, ha estat un dels millors de l’any sens dubte i tenim moltes ganes de gaudir del seu directe. A causa de la incertesa present en altres països europeus que fa que la totalitat de la gira de l’artista estigui en risc\, la banda ha decidit moure totes les dates a novembre de l’any que ve i afegir una data a Madrid. \nEls canadencs The OBGMs vindran com a artista convidat
URL:https://poblenouurbandistrict.com/ca/agenda/frank-carter-the-rattlesnakes-the-obgms/
LOCATION:Sala Razzmatazz\, C/ dels Almogàvers\, 122\, Barcelona\, Barcelona\, 08018\, Espanya
CATEGORIES:Música
ATTACH;FMTTYPE=image/png:https://poblenouurbandistrict.com/wp-content/uploads/2022/11/diseno-sin-titulo-24.jpg
END:VEVENT
BEGIN:VEVENT
DTSTART;TZID=Europe/Madrid:20221129T200000
DTEND;TZID=Europe/Madrid:20221129T213000
DTSTAMP:20260425T195535
CREATED:20221123T094412Z
LAST-MODIFIED:20221123T094412Z
UID:10004078-1669752000-1669757400@poblenouurbandistrict.com
SUMMARY:Com l’estel que no hi és
DESCRIPTION:Després de conèixer-se en un encàrrec per musicar i recitar una sèrie de poemes premiats en els Jocs Florals de Barcelona 2021\, Berta Giraut i Mireia Tejero decideixen aprofitar la química que hi ha entre les dues creant Paelleta flou\, una performance que dona forma musical i escènica al llibre de poemes Com l’estel que no hi és\, escrit per la pròpia Berta Giraut i publicat al mes de març del 2020\, en ple confinament. \nFestival Alcools\, poesia en escena\nLa poesia ho és tot i no és res. És una flor en un jardí tancat\, una escopinada a la carretera\, un record dolç d’infantesa\, un cop de puny damunt la taula\, un crit i un silenci. I el festival ALCOOLS\, des que va néixer el 2015\, gràcies a l’impuls de l’enyorat Hermann Bonnín i sota la inspiració d’Apollinaire\, busca posar en escena la poesia contemporània amb l’ajuda dels amics dels poetes\, músics\, intèrprets\, artistes\, filòsofs\, i tothom que pensi que\, avui dia\, la paraula té valor. \nPassaran les crisis\, les guerres\, els sotracs\, els aldarulls\, però sempre hi haurà un poeta que\, enmig del caos\, alçarà la veu per exclamar\, com Sylvia Plath\, que està posseït per un crit. ALCOOLS vol ser el recer dels mots\, dels que els diuen i dels que els escolten\, una cerimònia única en temps\, com sempre\, incerts.
URL:https://poblenouurbandistrict.com/ca/agenda/com-lestel-que-no-hi-es/
LOCATION:Sala Beckett\, C. de Pere IV\, 228\, 232\, Barcelona\, Barcelona\, 08005
CATEGORIES:Música
ATTACH;FMTTYPE=image/jpeg:https://media.poblenouurbandistrict.com/2022/11/25055100/diseno-sin-titulo-14.jpg
END:VEVENT
BEGIN:VEVENT
DTSTART;TZID=Europe/Madrid:20221129T203000
DTEND;TZID=Europe/Madrid:20221129T223000
DTSTAMP:20260425T195535
CREATED:20221124T120915Z
LAST-MODIFIED:20221124T120915Z
UID:10003681-1669753800-1669761000@poblenouurbandistrict.com
SUMMARY:COQUE MALLA
DESCRIPTION:Coque Malla i la seva banda aterraran a Barcelona per a El Último Viaje del Astronauta Gigante. Després de recórrer els principals escenaris i festivals del 2022 amb el seu gira El Viaje del Astronauta Gigante\, que ha suposat el retorn de Coque als grans recintes després de la pandèmia\, Razzmatazz acollirà el seu últim concert a Barcelona. \nSempre abrigallat pels seus músics de capçalera i amb moltes sorpreses per a una nit tan especial\, Coque posarà el fermall final a un dels seus millors anys el pròxim 29 de desembre a la sala Razzmatazz de Barcelona.
URL:https://poblenouurbandistrict.com/ca/agenda/coque-malla/
LOCATION:Sala Razzmatazz\, C/ dels Almogàvers\, 122\, Barcelona\, Barcelona\, 08018\, Espanya
CATEGORIES:Música
ATTACH;FMTTYPE=image/jpeg:https://media.poblenouurbandistrict.com/2022/11/25055243/diseno-sin-titulo-55.jpg
END:VEVENT
END:VCALENDAR