BEGIN:VCALENDAR
VERSION:2.0
PRODID:-//Poblenou Urban District - ECPv6.15.20//NONSGML v1.0//EN
CALSCALE:GREGORIAN
METHOD:PUBLISH
X-WR-CALNAME:Poblenou Urban District
X-ORIGINAL-URL:https://poblenouurbandistrict.com/ca
X-WR-CALDESC:Esdeveniments per Poblenou Urban District
REFRESH-INTERVAL;VALUE=DURATION:PT1H
X-Robots-Tag:noindex
X-PUBLISHED-TTL:PT1H
BEGIN:VTIMEZONE
TZID:Europe/Madrid
BEGIN:DAYLIGHT
TZOFFSETFROM:+0100
TZOFFSETTO:+0200
TZNAME:CEST
DTSTART:20210328T010000
END:DAYLIGHT
BEGIN:STANDARD
TZOFFSETFROM:+0200
TZOFFSETTO:+0100
TZNAME:CET
DTSTART:20211031T010000
END:STANDARD
BEGIN:DAYLIGHT
TZOFFSETFROM:+0100
TZOFFSETTO:+0200
TZNAME:CEST
DTSTART:20220327T010000
END:DAYLIGHT
BEGIN:STANDARD
TZOFFSETFROM:+0200
TZOFFSETTO:+0100
TZNAME:CET
DTSTART:20221030T010000
END:STANDARD
BEGIN:DAYLIGHT
TZOFFSETFROM:+0100
TZOFFSETTO:+0200
TZNAME:CEST
DTSTART:20230326T010000
END:DAYLIGHT
BEGIN:STANDARD
TZOFFSETFROM:+0200
TZOFFSETTO:+0100
TZNAME:CET
DTSTART:20231029T010000
END:STANDARD
END:VTIMEZONE
BEGIN:VEVENT
DTSTART;TZID=Europe/Madrid:20221202T190000
DTEND;TZID=Europe/Madrid:20221202T213000
DTSTAMP:20260425T195442
CREATED:20221123T120943Z
LAST-MODIFIED:20221123T121051Z
UID:10004241-1670007600-1670016600@poblenouurbandistrict.com
SUMMARY:AIRBOURNE + BLUES PILLS
DESCRIPTION:A hores d’ara tothom sap que *Airbourne són artilleria pesant\, una bomba d’hidrogen\, la col·lisió frontal de dos ferrocarrils i els *titanes cridats a prendre el testimoni dels grans antics quan aquests ja no estiguin. \nSi acomiadem 2019 amb l’ona expansiva del seu últim treball\, “*Boneshaker” (2019) per a caure de cap en aquesta piscina buida que ha estat la pandèmia\, la fi d’aquesta ens porta el despertar d’aquests gegants que eleven totes les aposta amb el seu *World Tour 2022 amb el qual literalment donaran diverses voltes al globus amb la intenció de posar potes enlaire cada ciutat que trepitgin amb una enèrgica sacsejada de pur i electritzant Rock ‘n’ *roll que pot presumir de tenir un directe imbatible. \nPer si això no us havia volat encara el cap\, us informem que no venen sols\, i seran Blues *Pills els encarregats de complementar al blego australià amb el seu *hard rock americà i el blues que els caracteritza.
URL:https://poblenouurbandistrict.com/ca/agenda/airbourne-blues-pills/
LOCATION:Sala Razzmatazz\, C/ dels Almogàvers\, 122\, Barcelona\, Barcelona\, 08018\, Espanya
CATEGORIES:Música
ATTACH;FMTTYPE=image/jpeg:https://media.poblenouurbandistrict.com/2022/11/25055155/diseno-sin-titulo-28.jpg
END:VEVENT
BEGIN:VEVENT
DTSTART;TZID=Europe/Madrid:20221202T193000
DTEND;TZID=Europe/Madrid:20221202T213000
DTSTAMP:20260425T195442
CREATED:20221123T120634Z
LAST-MODIFIED:20221123T120634Z
UID:10004240-1670009400-1670016600@poblenouurbandistrict.com
SUMMARY:MAIDEN UNITED + POWERIZED
DESCRIPTION:*Maiden *uniteD és una banda tributo que compta amb l’aval dels propis *Iron *Maiden. Tenen un xou *semi acústic íntim i personal que ofereix atmosferes increïbles amb un enfocament totalment diferent al que s’hagi vist fins al moment\, amb membres en la seva formació històrica de bandes com *Within *Temptation\, *Threshold\, *theGathering i *Apocalyptica. Venen presentant l’àlbum “*Powerslave”\, a més de tots els clàssics. \nUn concert que serà una delícia per a tot aquell que es consideri fan de *Iron *Maiden. Una experiència única i irrepetible. Els acompanya *Powerized\, la banda liderada per Nick *Holleman (*Sinbreed\, *Vicious *Rumors).
URL:https://poblenouurbandistrict.com/ca/agenda/maiden-united-powerized/
LOCATION:Sala Razzmatazz\, C/ dels Almogàvers\, 122\, Barcelona\, Barcelona\, 08018\, Espanya
CATEGORIES:Música
ATTACH;FMTTYPE=image/png:https://poblenouurbandistrict.com/wp-content/uploads/2022/11/diseno-sin-titulo-27.jpg
END:VEVENT
BEGIN:VEVENT
DTSTART;TZID=Europe/Madrid:20221202T210000
DTEND;TZID=Europe/Madrid:20221202T223000
DTSTAMP:20260425T195442
CREATED:20221129T130636Z
LAST-MODIFIED:20221129T130636Z
UID:10004316-1670014800-1670020200@poblenouurbandistrict.com
SUMMARY:YAWNERS
DESCRIPTION: Yawners en concert a Barcelona\, és un concert que té lloc el 02/12/2023 a les 21:00 a la Sala La Nau. Gènere: Indie \n\n\n 
URL:https://poblenouurbandistrict.com/ca/agenda/yawners/
LOCATION:La Nau
CATEGORIES:Música
ATTACH;FMTTYPE=image/jpeg:https://media.poblenouurbandistrict.com/2022/11/25055247/duplo-yawners-disco-2022.jpeg
END:VEVENT
END:VCALENDAR