BEGIN:VCALENDAR
VERSION:2.0
PRODID:-//Poblenou Urban District - ECPv6.15.20//NONSGML v1.0//EN
CALSCALE:GREGORIAN
METHOD:PUBLISH
X-WR-CALNAME:Poblenou Urban District
X-ORIGINAL-URL:https://poblenouurbandistrict.com/ca
X-WR-CALDESC:Esdeveniments per Poblenou Urban District
REFRESH-INTERVAL;VALUE=DURATION:PT1H
X-Robots-Tag:noindex
X-PUBLISHED-TTL:PT1H
BEGIN:VTIMEZONE
TZID:Europe/Madrid
BEGIN:DAYLIGHT
TZOFFSETFROM:+0100
TZOFFSETTO:+0200
TZNAME:CEST
DTSTART:20210328T010000
END:DAYLIGHT
BEGIN:STANDARD
TZOFFSETFROM:+0200
TZOFFSETTO:+0100
TZNAME:CET
DTSTART:20211031T010000
END:STANDARD
BEGIN:DAYLIGHT
TZOFFSETFROM:+0100
TZOFFSETTO:+0200
TZNAME:CEST
DTSTART:20220327T010000
END:DAYLIGHT
BEGIN:STANDARD
TZOFFSETFROM:+0200
TZOFFSETTO:+0100
TZNAME:CET
DTSTART:20221030T010000
END:STANDARD
BEGIN:DAYLIGHT
TZOFFSETFROM:+0100
TZOFFSETTO:+0200
TZNAME:CEST
DTSTART:20230326T010000
END:DAYLIGHT
BEGIN:STANDARD
TZOFFSETFROM:+0200
TZOFFSETTO:+0100
TZNAME:CET
DTSTART:20231029T010000
END:STANDARD
END:VTIMEZONE
BEGIN:VEVENT
DTSTART;TZID=Europe/Madrid:20221213T190000
DTEND;TZID=Europe/Madrid:20221213T203000
DTSTAMP:20260425T195638
CREATED:20221124T090251Z
LAST-MODIFIED:20221124T090251Z
UID:10004302-1670958000-1670963400@poblenouurbandistrict.com
SUMMARY:[:ca]HAYDN: LES SET ÚLTIMES PARAULES[:es]HAYDN: LAS SIETE ÚLTIMAS PALABRAS[:en]HAYDN: THE SEVEN LAST WORDS[:]
DESCRIPTION:REPERTORI\n\n\n\nF. J. Haydn:\n\n\nLes set últimes paraules de Crist a la creu \n (1787-1796) 55′\n\n\n\nINTÈRPRETS\n\n\n\nEnsemble O Vos Omnes\n\n\n\n\nQuartet Gerhard\n\n\n\n\nRoger Illa\, fortepiano\n\n\nXavier Pastrana\, direcció\n\n\n\nPROGRAMA\n\n\nLes set últimes paraules de Crist a la creu de Joseph Haydn és una de les obres més directament relacionades amb la mort\, l’eix temàtic d’aquesta temporada. A partir de la segona meitat del segle XVIII\, la popularitat de Haydn va començar a traspassar fronteres\, i el 1786 la Congregació de la Santa Cova de Cadis va encarregar-li una obra per a la cerimònia religiosa del Divendres Sant. A través de set sonates\, Haydn repassa\, una per una\, les últimes paraules que Crist va pronunciar just abans de morir crucificat. Amb la voluntat de ser del tot fidel a les paraules dels Evangelis\, Haydn capta musicalment estats d’ànim ben diferents: des del dolor de la primera paraula fins al consol de la sisena; des de la companyia materna de la tercera fins a la soledat vertiginosa de la quarta; des de la transcendència de la segona fins al patiment físic de la cinquena. A part de les set sonates\, Haydn hi afegeix una introducció i un “terratrèmol” final\, considerablement més fort i agitat que la resta de l’obra.
URL:https://poblenouurbandistrict.com/ca/agenda/haydn-les-set-ultimes-paraules/
LOCATION:L’Auditori\, Carrer de Lepant\, 150\, Barcelona\, 08013\, Espanya
CATEGORIES:Música
ATTACH;FMTTYPE=image/jpeg:https://media.poblenouurbandistrict.com/2022/11/25055216/diseno-sin-titulo-35.jpg
END:VEVENT
END:VCALENDAR