BEGIN:VCALENDAR
VERSION:2.0
PRODID:-//Poblenou Urban District - ECPv6.15.20//NONSGML v1.0//EN
CALSCALE:GREGORIAN
METHOD:PUBLISH
X-ORIGINAL-URL:https://poblenouurbandistrict.com/ca
X-WR-CALDESC:Esdeveniments per Poblenou Urban District
REFRESH-INTERVAL;VALUE=DURATION:PT1H
X-Robots-Tag:noindex
X-PUBLISHED-TTL:PT1H
BEGIN:VTIMEZONE
TZID:Europe/Madrid
BEGIN:DAYLIGHT
TZOFFSETFROM:+0100
TZOFFSETTO:+0200
TZNAME:CEST
DTSTART:20210328T010000
END:DAYLIGHT
BEGIN:STANDARD
TZOFFSETFROM:+0200
TZOFFSETTO:+0100
TZNAME:CET
DTSTART:20211031T010000
END:STANDARD
BEGIN:DAYLIGHT
TZOFFSETFROM:+0100
TZOFFSETTO:+0200
TZNAME:CEST
DTSTART:20220327T010000
END:DAYLIGHT
BEGIN:STANDARD
TZOFFSETFROM:+0200
TZOFFSETTO:+0100
TZNAME:CET
DTSTART:20221030T010000
END:STANDARD
BEGIN:DAYLIGHT
TZOFFSETFROM:+0100
TZOFFSETTO:+0200
TZNAME:CEST
DTSTART:20230326T010000
END:DAYLIGHT
BEGIN:STANDARD
TZOFFSETFROM:+0200
TZOFFSETTO:+0100
TZNAME:CET
DTSTART:20231029T010000
END:STANDARD
END:VTIMEZONE
BEGIN:VEVENT
DTSTART;TZID=Europe/Madrid:20221215T190000
DTEND;TZID=Europe/Madrid:20221215T190000
DTSTAMP:20260425T195754
CREATED:20221214T111754Z
LAST-MODIFIED:20221214T112850Z
UID:10004376-1671130800-1671130800@poblenouurbandistrict.com
SUMMARY:[:ca]Estrena de Restos de Puente de José Mora i Ariel de Montserrat Lladó.[:es]Estrena de Restos de Puente de José Mora y Ariel de Montserrat Lladó.[:]
DESCRIPTION:Dues obres comissionades per Barcelona Creació Sonora. \nLes peces d’estrena\, que es presentaran en un doble concert\, dialogaran amb una sel·lecció de Machaut-Architekturen de José María Sánchez-Verdú i Dust III per a sis percussionistes de Rebecca Saunders. \nRestos de Puente i Machaut-Architekturen seran interpretades per CrossingLines i Ariel i Dust III per FRAMES Percussion i el Cosmos Quartet.
URL:https://poblenouurbandistrict.com/ca/agenda/estrena-de-restos-de-puente-de-jose-mora-i-ariel-de-montserrat-llado/
LOCATION:L’Auditori\, Carrer de Lepant\, 150\, Barcelona\, 08013\, Espanya
CATEGORIES:Música
ATTACH;FMTTYPE=image/jpeg:https://media.poblenouurbandistrict.com/2022/12/25055422/vermuth-piramidon.jpg
END:VEVENT
BEGIN:VEVENT
DTSTART;TZID=Europe/Madrid:20221215T190000
DTEND;TZID=Europe/Madrid:20221215T203000
DTSTAMP:20260425T195754
CREATED:20221124T091829Z
LAST-MODIFIED:20221124T091829Z
UID:10004253-1671130800-1671136200@poblenouurbandistrict.com
SUMMARY:CHARPENTIER
DESCRIPTION:REPERTORI\n\n\n\nMarc Antoine Charpentier:\n\n\nTe Deum \n\n\n en Re (c. 1688-1698) 28′\n\n\nIn Nativitatem Domini Canticum \n\, H 416 (c. 1690) 29′\n\n\n\nINTÈRPRETS\n\n\n\nLe Concert des Nations\n\n\n\n\nLa Capella Reial de Catalunya\n\n\nJordi Savall\, direcció\n\n\n\nPROGRAMA\n\n\nMarc-Antoine Charpentier (1643?-1704) va ser deixeble a Roma de Giacomo Carissimi i\, un cop va haver tornat a França i després d’una disputa que havia enfrontat Molière i Lully\, va ser el compositor oficial del comediògraf. Mort Lully\, que tenia el monopoli de la tragédie lyrique\, el músic va iniciar una carrera com a compositor teatral. Tanmateix\, una de les seves obres més conegudes és el Te Deum en Re\, cèlebre per la fanfara inicial utilitzada en transmissions televisives europees. \nDefugint la pompositat excessiva i les ornamentacions coloristes de Lully\, Charpentier compagina brillantor i introspecció en obres sacres com l’esmentat Te Deum i l’himne motet In nativitatem Domini cantum per a quatre veus i orquestra\, escrit a l’entorn de 1690 quan Charpentier era mestre de capella a l’església de Saint Louis de París. L’obra\, destinada a un ofici sacre nadalenc\, sintetitza la fusió de música francesa i italiana i és una esplèndida narració de l’advent i del naixement de Crist.
URL:https://poblenouurbandistrict.com/ca/agenda/charpentier/
LOCATION:L’Auditori\, Carrer de Lepant\, 150\, Barcelona\, 08013\, Espanya
CATEGORIES:Música
ATTACH;FMTTYPE=image/png:https://poblenouurbandistrict.com/wp-content/uploads/2022/11/diseno-sin-titulo-38.jpg
END:VEVENT
BEGIN:VEVENT
DTSTART;TZID=Europe/Madrid:20221215T203000
DTEND;TZID=Europe/Madrid:20221215T220000
DTSTAMP:20260425T195754
CREATED:20221124T112509Z
LAST-MODIFIED:20221124T112509Z
UID:10003669-1671136200-1671141600@poblenouurbandistrict.com
SUMMARY:BLASFEM
DESCRIPTION:EL PRODUCTOR GRANAÍNO ES REUNEIX AMB EL MILLOR DEL RAP EN ESPAÑOL EN EL SEU DEBUT “Blasfem On Air”; un quilomètric tractat del que ha de ser el rap.
URL:https://poblenouurbandistrict.com/ca/agenda/blasfem/
LOCATION:Sala Razzmatazz\, C/ dels Almogàvers\, 122\, Barcelona\, Barcelona\, 08018\, Espanya
CATEGORIES:Música
ATTACH;FMTTYPE=image/png:https://poblenouurbandistrict.com/wp-content/uploads/2022/11/diseno-sin-titulo-49.jpg
END:VEVENT
BEGIN:VEVENT
DTSTART;TZID=Europe/Madrid:20221215T210000
DTEND;TZID=Europe/Madrid:20221215T223000
DTSTAMP:20260425T195754
CREATED:20221129T144407Z
LAST-MODIFIED:20221129T144407Z
UID:10004041-1671138000-1671143400@poblenouurbandistrict.com
SUMMARY:NOTHING\, NOWHERE
DESCRIPTION:El 2015\, va decidir compartir les seves cançons a Soundcloud sota el nom de nothing\, nowhere. Només dos anys després\, ja publicaria el seu primer disc titulat Reaper\, el so rap emo del qual amb guitarres elèctriques va seduir el prestigiós The New York Times que el va definir com “un dels treballs més prometedors del 2017”. De fet\, Jon Caramanica\, crític musical d’aquest diari\, va triar Reaper com el millor disc de l’any. \nL’abril del 2018\, l’artista que es declara vegà i que fuig de l’alcohol i de les drogues\, trauria al mercat el seu segon treball Ruiner. Aquest LP inclou èxits de la talla de ‘hammer’ que suma més de 44 milions de reproduccions a Spotify i gairebé 8 milions de visualitzacions a YouTube. \nPer al seu darrer treball Trauma Factory\, Mulherin va compondre gairebé 100 cançons i es va quedar amb les 15 millors. Es va negar a establir regles sobre quin tipus de so havia de seguir: “El so és perquè altres persones el defineixin. Per mi\, és experimental. Això no vol dir que sigui música d’avantguarda o de soroll aspre\, però si no experimento\, no em sento satisfet internament.”\nEl resultat és un disc ric en variacions: “No m’importava si una cançó no sonava com una altra. Només estic hisenda cançons que fico en una bossa i que lliuro a la gent.”
URL:https://poblenouurbandistrict.com/ca/agenda/nothing-nowhere/
LOCATION:La Nau
CATEGORIES:Música
ATTACH;FMTTYPE=image/png:https://poblenouurbandistrict.com/wp-content/uploads/2022/11/diseno-sin-titulo-1.jpg
END:VEVENT
END:VCALENDAR