BEGIN:VCALENDAR
VERSION:2.0
PRODID:-//Poblenou Urban District - ECPv6.15.20//NONSGML v1.0//EN
CALSCALE:GREGORIAN
METHOD:PUBLISH
X-ORIGINAL-URL:https://poblenouurbandistrict.com/ca
X-WR-CALDESC:Esdeveniments per Poblenou Urban District
REFRESH-INTERVAL;VALUE=DURATION:PT1H
X-Robots-Tag:noindex
X-PUBLISHED-TTL:PT1H
BEGIN:VTIMEZONE
TZID:Europe/Madrid
BEGIN:DAYLIGHT
TZOFFSETFROM:+0100
TZOFFSETTO:+0200
TZNAME:CEST
DTSTART:20210328T010000
END:DAYLIGHT
BEGIN:STANDARD
TZOFFSETFROM:+0200
TZOFFSETTO:+0100
TZNAME:CET
DTSTART:20211031T010000
END:STANDARD
BEGIN:DAYLIGHT
TZOFFSETFROM:+0100
TZOFFSETTO:+0200
TZNAME:CEST
DTSTART:20220327T010000
END:DAYLIGHT
BEGIN:STANDARD
TZOFFSETFROM:+0200
TZOFFSETTO:+0100
TZNAME:CET
DTSTART:20221030T010000
END:STANDARD
BEGIN:DAYLIGHT
TZOFFSETFROM:+0100
TZOFFSETTO:+0200
TZNAME:CEST
DTSTART:20230326T010000
END:DAYLIGHT
BEGIN:STANDARD
TZOFFSETFROM:+0200
TZOFFSETTO:+0100
TZNAME:CET
DTSTART:20231029T010000
END:STANDARD
END:VTIMEZONE
BEGIN:VEVENT
DTSTART;TZID=Europe/Madrid:20221218T180000
DTEND;TZID=Europe/Madrid:20221218T193000
DTSTAMP:20260425T195739
CREATED:20221124T093309Z
LAST-MODIFIED:20221124T093309Z
UID:10004250-1671386400-1671391800@poblenouurbandistrict.com
SUMMARY:[:ca]CONCERT DE NADAL[:es]CONCIERTO DE NAVIDAD[:en]CHRISTMAS CONCERT[:]
DESCRIPTION:REPERTORI\n\n\n\nNigel Hess:\n\n\nA Christmas Overture \n\n\n (2007) 8’\n\n\n\n\nJosé R. Pascual-Vilaplana:\n\n\nLes quatre estacions \n\n\n (2019) (14’)\n\n\n\n\nMorten Lauridsen:\n\n\nO Magnum Misterium \n\n\n (1994) 6’\n\n\n\n\nLuigi Arditi:\n\n\nIl bacio \n\n\n (El petó). Vals (5’)\n\n\n\n\nAlbert Guinovart:\n\n\nQuatre cançons populars catalanes \n\n\n (2015) 15’ – Estrena mundial de la versió per a banda\n\n\n\n\nSalvador Brotons:\n\n\nNadales catalanes \n\, op. 76 (1998) 12′\n\n\n\nINTÈRPRETS\n\n\n\nBanda Municipal de Barcelona\n\n\n\n\nMarta Mathéu\, soprano\n\n\n\n\nVinyet Morral\, actriu\n\n\n\n\nJosé R. Pascual-Vilaplana\, direcció\n\n\nDavid Pintó\, direcció escènica\n\n\n\nPROGRAMA\n\n\nNadal és època de tradicions\, i les Nadales catalanes de Salvador Brotons ja formen part del concert que la Banda Municipal fa en aquestes dates. Aquesta obra\, tanmateix\, tanca un programa que és ben farcit de novetats. Albert Guinovart estrena Quatre cançons populars catalanes amb una nova instrumentació per a banda simfònica. José R. Pascual-Vilaplana dirigeix per primera vegada com a director titular una obra seva\, Les quatre estacions\, escrita per a veu i banda a partir del poema homònim de Joan Tomàs Jordà i Sanchis\, i estrenada en un concert benèfic en favor de l’Asociación de Cáncer Metastásico per encàrrec de la Societat Musical Ciutat d’Assís. L’obra de Nigel Hess A Christmas Overture ens convida a recordar nadales tan populars també a casa nostra com Ha nascut el Déu Infant o Els àngels allà a la glòria. El concert es completa amb una obra d’extrema delicadesa\, el responsori O Magnum Misterium de Lauridsen\, i l’alegria del vals cantat Il bacio amb música d’Arditi i poesia d’Aldighieri.
URL:https://poblenouurbandistrict.com/ca/agenda/concert-de-nadal/
LOCATION:L’Auditori\, Carrer de Lepant\, 150\, Barcelona\, 08013\, Espanya
CATEGORIES:Música
ATTACH;FMTTYPE=image/jpeg:https://media.poblenouurbandistrict.com/2022/11/25055219/diseno-sin-titulo-40.jpg
END:VEVENT
END:VCALENDAR