BEGIN:VCALENDAR
VERSION:2.0
PRODID:-//Poblenou Urban District - ECPv6.15.20//NONSGML v1.0//EN
CALSCALE:GREGORIAN
METHOD:PUBLISH
X-ORIGINAL-URL:https://poblenouurbandistrict.com/ca
X-WR-CALDESC:Esdeveniments per Poblenou Urban District
REFRESH-INTERVAL;VALUE=DURATION:PT1H
X-Robots-Tag:noindex
X-PUBLISHED-TTL:PT1H
BEGIN:VTIMEZONE
TZID:Europe/Madrid
BEGIN:DAYLIGHT
TZOFFSETFROM:+0100
TZOFFSETTO:+0200
TZNAME:CEST
DTSTART:20210328T010000
END:DAYLIGHT
BEGIN:STANDARD
TZOFFSETFROM:+0200
TZOFFSETTO:+0100
TZNAME:CET
DTSTART:20211031T010000
END:STANDARD
BEGIN:DAYLIGHT
TZOFFSETFROM:+0100
TZOFFSETTO:+0200
TZNAME:CEST
DTSTART:20220327T010000
END:DAYLIGHT
BEGIN:STANDARD
TZOFFSETFROM:+0200
TZOFFSETTO:+0100
TZNAME:CET
DTSTART:20221030T010000
END:STANDARD
BEGIN:DAYLIGHT
TZOFFSETFROM:+0100
TZOFFSETTO:+0200
TZNAME:CEST
DTSTART:20230326T010000
END:DAYLIGHT
BEGIN:STANDARD
TZOFFSETFROM:+0200
TZOFFSETTO:+0100
TZNAME:CET
DTSTART:20231029T010000
END:STANDARD
END:VTIMEZONE
BEGIN:VEVENT
DTSTART;TZID=Europe/Madrid:20221220T190000
DTEND;TZID=Europe/Madrid:20221220T203000
DTSTAMP:20260425T195727
CREATED:20221123T101033Z
LAST-MODIFIED:20221123T101033Z
UID:10004045-1671562800-1671568200@poblenouurbandistrict.com
SUMMARY:Versets i cigarrets
DESCRIPTION:Diu: “Escric perquè m’estimo les places plenes i\, alhora\, la butaca del racó més fosc de la casa; m’estimo els ocells i les cuques i les plantes de fulles; m’estimo les veus i les olors; m’estimo la música i les paraules (i el silenci d’entremig). També escric per explicar el que llegeixo o escolto d’altres persones\, per reflexionar\, per assenyalar el meu punt de vista o el dels col·lectius que no poden escriure. O bé escric com si jugués a un joc en el qual els jugadors som només la llengua i jo\, i que consisteix a parlar amb tot i amb tots els qui no arribo amb la veu”. versets i cigarrets és una mena d’antologia que recull els poemes de Laia Malo\, poeta\, músic i traductora\, i que la mateixa poeta vestirà perquè ens adonem que la poesia és un acte de rebel·lia contra un món que condemna les paraules. \nFestival Alcools\, poesia en escena\nLa poesia ho és tot i no és res. És una flor en un jardí tancat\, una escopinada a la carretera\, un record dolç d’infantesa\, un cop de puny damunt la taula\, un crit i un silenci. I el festival ALCOOLS\, des que va néixer el 2015\, gràcies a l’impuls de l’enyorat Hermann Bonnín i sota la inspiració d’Apollinaire\, busca posar en escena la poesia contemporània amb l’ajuda dels amics dels poetes\, músics\, intèrprets\, artistes\, filòsofs\, i tothom que pensi que\, avui dia\, la paraula té valor. \nPassaran les crisis\, les guerres\, els sotracs\, els aldarulls\, però sempre hi haurà un poeta que\, enmig del caos\, alçarà la veu per exclamar\, com Sylvia Plath\, que està posseït per un crit. ALCOOLS vol ser el recer dels mots\, dels que els diuen i dels que els escolten\, una cerimònia única en temps\, com sempre\, incerts.
URL:https://poblenouurbandistrict.com/ca/agenda/versets-i-cigarrets/
LOCATION:Sala Beckett\, C. de Pere IV\, 228\, 232\, Barcelona\, Barcelona\, 08005
CATEGORIES:Música
ATTACH;FMTTYPE=image/jpeg:https://media.poblenouurbandistrict.com/2022/11/25055141/diseno-sin-titulo-17.jpg
END:VEVENT
END:VCALENDAR