BEGIN:VCALENDAR
VERSION:2.0
PRODID:-//Poblenou Urban District - ECPv6.15.20//NONSGML v1.0//EN
CALSCALE:GREGORIAN
METHOD:PUBLISH
X-ORIGINAL-URL:https://poblenouurbandistrict.com/ca
X-WR-CALDESC:Esdeveniments per Poblenou Urban District
REFRESH-INTERVAL;VALUE=DURATION:PT1H
X-Robots-Tag:noindex
X-PUBLISHED-TTL:PT1H
BEGIN:VTIMEZONE
TZID:Europe/Madrid
BEGIN:DAYLIGHT
TZOFFSETFROM:+0100
TZOFFSETTO:+0200
TZNAME:CEST
DTSTART:20210328T010000
END:DAYLIGHT
BEGIN:STANDARD
TZOFFSETFROM:+0200
TZOFFSETTO:+0100
TZNAME:CET
DTSTART:20211031T010000
END:STANDARD
BEGIN:DAYLIGHT
TZOFFSETFROM:+0100
TZOFFSETTO:+0200
TZNAME:CEST
DTSTART:20220327T010000
END:DAYLIGHT
BEGIN:STANDARD
TZOFFSETFROM:+0200
TZOFFSETTO:+0100
TZNAME:CET
DTSTART:20221030T010000
END:STANDARD
BEGIN:DAYLIGHT
TZOFFSETFROM:+0100
TZOFFSETTO:+0200
TZNAME:CEST
DTSTART:20230326T010000
END:DAYLIGHT
BEGIN:STANDARD
TZOFFSETFROM:+0200
TZOFFSETTO:+0100
TZNAME:CET
DTSTART:20231029T010000
END:STANDARD
END:VTIMEZONE
BEGIN:VEVENT
DTSTART;TZID=Europe/Madrid:20221221T180000
DTEND;TZID=Europe/Madrid:20221221T193000
DTSTAMP:20260425T195731
CREATED:20221124T093912Z
LAST-MODIFIED:20221124T093912Z
UID:10004249-1671645600-1671651000@poblenouurbandistrict.com
SUMMARY:[:ca]ROCKPELSXUKLIS SIMFÒNIC[:es]ROCKPELSXUKLIS SINFÓNICA[:en]ROCKPELSXUKLIS SYMPHONIC[:]
DESCRIPTION:INTÈRPRETS\n\n\n\nMonturiols Band\, banda de l’ Institut Narcís Monturiol\n\n\n\n\nOrquestra Simfònica i Banda Bentocats de l’EMMSA “Mestre Pich-Santasusana”\n\n\nPlease Banda Tribut U2\n\n\n\nPROGRAMA\n\n\nDes d’AFANOC s’impulsen diferents projectes per aconseguir recursos\, “ROCKPELSXUKLIS” és un d’ells i neix amb l’objectiu de donar suport a iniciatives musicals que vulguin posar el seu granet de sorra per ajudar a totes aquestes famílies i alhora fer visible la realitat dels joves amb càncer des d’espais que els identifiquin.\nOBJECTIUS\nSensibilitzar la societat a través de la música per donar a conèixer el càncer en infants i adolescents i les repercussions que se’n generen a partir del diagnòstic.\nGenerar recursos propis i promoure un model d’implicació i participació ciutadana a través d’un esdeveniment solidari.\nGarantir la gratuïtat dels serveis que l’AFANOC ofereix a les famílies de Catalunya\, tant als hospitals com a la Casa dels Xuklis i a les nostres seus.\nIncentivar les empreses\, entitats i administracions a implicar-se en un recurs necessari i gestionat amb total transparència.\nFacilitar que les persones puguin fer un donatiu des d’un espai lúdic mentre gaudeixen de la música\, la cultura i la solidaritat.
URL:https://poblenouurbandistrict.com/ca/agenda/rockpelsxuklis-simfonic/
LOCATION:L’Auditori\, Carrer de Lepant\, 150\, Barcelona\, 08013\, Espanya
CATEGORIES:Música
ATTACH;FMTTYPE=image/jpeg:https://media.poblenouurbandistrict.com/2022/11/25055221/diseno-sin-titulo-41.jpg
END:VEVENT
BEGIN:VEVENT
DTSTART;TZID=Europe/Madrid:20221221T200000
DTEND;TZID=Europe/Madrid:20221221T213000
DTSTAMP:20260425T195731
CREATED:20221124T094214Z
LAST-MODIFIED:20221124T094214Z
UID:10004248-1671652800-1671658200@poblenouurbandistrict.com
SUMMARY:[:ca]GRANS HIMNES DEL POP - ROCK AMB L'ORQUESTRA SIMFÒNICA DEL VALLÈS.[:es]GRANDES HIMNOS DEL POP - ROCK CON LA ORQUESTRA SIMFÒNICA DEL VALLÈS.[:en]GREAT POP-ROCK ANTHEMS BY THE VALLÈS SYMPHONY ORCHESTRA[:]
DESCRIPTION:REPERTORI\n\nI PART \n\n\nDeep Purple:\n\n\nSmoke on the Water \n\n\n (Orquestra)\n\n\n\n\nElvis Presley:\n\n\nCan’tfalling in love with you \n\n\n (Orquestra)\n\n\n\n\nThe Beatles:\n\n\nHelp \n\n\n (Orquestra+Cor)\n\n\n\n\nPink Floyd:\n\n\nAnother brick in the wall \n\n\n (Orquestra)\n\n\n\n\nGloria Gaynor:\n\n\nI will survive \n\n\n (Orquestra + Cor+Solista)\n\n\n\n\nDonna Summer:\n\n\nHot Stuff \n\n\n (Orquestra+Cor)\n\n\n\n\nJohn Travolta i Olivia Newton-John: Grease Medley (Orquestra+Cor)\n\n\n\nII PART \n\n\nDiversos artistes: Disco hits medley (Orquestra)\n\n\n\n\nQueen:\n\n\nBohemian rhapsody \n\n\n (Orquestra +Cor+Solistes)\n\n\n\n\nAbba:\n\n\nWaterloo \n\n\n (Orquestra+Cor)\n\n\n\n\nU2:\n\n\nI still haven’t found what i’m looking for \n\n\n (Orquestra + Cor)\n\n\n\n\nQueen:\n\n\nWe are the champions \n\n\n (Orquestra+Cor)\n\n\n\n\nQueen:\n\n\nWe will rock you \n (Orquestra+Cor)\n\n\n\nINTÈRPRETS\n\n\n\nOrquestra Simfònica del Vallès\n\n\nRubén Gimeno\, direcció\n\n 
URL:https://poblenouurbandistrict.com/ca/agenda/grans-himnes-del-pop-rock-amb-lorquestra-simfonica-del-valles/
LOCATION:L’Auditori\, Carrer de Lepant\, 150\, Barcelona\, 08013\, Espanya
CATEGORIES:Música
ATTACH;FMTTYPE=image/jpeg:https://media.poblenouurbandistrict.com/2022/11/25055222/diseno-sin-titulo-42.jpg
END:VEVENT
END:VCALENDAR