BEGIN:VCALENDAR
VERSION:2.0
PRODID:-//Poblenou Urban District - ECPv6.15.20//NONSGML v1.0//EN
CALSCALE:GREGORIAN
METHOD:PUBLISH
X-ORIGINAL-URL:https://poblenouurbandistrict.com/ca
X-WR-CALDESC:Esdeveniments per Poblenou Urban District
REFRESH-INTERVAL;VALUE=DURATION:PT1H
X-Robots-Tag:noindex
X-PUBLISHED-TTL:PT1H
BEGIN:VTIMEZONE
TZID:Europe/Madrid
BEGIN:DAYLIGHT
TZOFFSETFROM:+0100
TZOFFSETTO:+0200
TZNAME:CEST
DTSTART:20210328T010000
END:DAYLIGHT
BEGIN:STANDARD
TZOFFSETFROM:+0200
TZOFFSETTO:+0100
TZNAME:CET
DTSTART:20211031T010000
END:STANDARD
BEGIN:DAYLIGHT
TZOFFSETFROM:+0100
TZOFFSETTO:+0200
TZNAME:CEST
DTSTART:20220327T010000
END:DAYLIGHT
BEGIN:STANDARD
TZOFFSETFROM:+0200
TZOFFSETTO:+0100
TZNAME:CET
DTSTART:20221030T010000
END:STANDARD
BEGIN:DAYLIGHT
TZOFFSETFROM:+0100
TZOFFSETTO:+0200
TZNAME:CEST
DTSTART:20230326T010000
END:DAYLIGHT
BEGIN:STANDARD
TZOFFSETFROM:+0200
TZOFFSETTO:+0100
TZNAME:CET
DTSTART:20231029T010000
END:STANDARD
END:VTIMEZONE
BEGIN:VEVENT
DTSTART;TZID=Europe/Madrid:20221227T210000
DTEND;TZID=Europe/Madrid:20221227T230000
DTSTAMP:20260425T180015
CREATED:20221124T114635Z
LAST-MODIFIED:20221124T115231Z
UID:10003677-1672174800-1672182000@poblenouurbandistrict.com
SUMMARY:MAIKA MAKOVSKI - CURTCIRCUIT
DESCRIPTION:Maika Makovski no és una artista predictible. El seu talent musical\, la multitud d’influències que atresora\, i la urgència del seu esperit\, en constant cerca\, fan d’ella un nom veritablement únic en la música actual. Des de l’inici de la seva carrera amb només 20 anys\, s’ha mantingut fidel a les seves arrels i alhora ha perseverat de manera incansable en la cerca del seu caràcter propi\, com demostra el seu últim treball\, ‘MKMK’\, que va veure la llum el mes de maig passat; un disc lluminós i sorollós\, de textures\, nascut per a sorprendre i agitar a l’oïdor. \nEl presenta a Curtcircuit el 27 de desembre a la sala Razzmatazz 2\, en el qual serà el seu últim concert en sala de tota la gira\, no te’l perdis!
URL:https://poblenouurbandistrict.com/ca/agenda/maika-makovski-curtcircuit/
LOCATION:Sala Razzmatazz\, C/ dels Almogàvers\, 122\, Barcelona\, Barcelona\, 08018\, Espanya
CATEGORIES:Música
ATTACH;FMTTYPE=image/jpeg:https://media.poblenouurbandistrict.com/2022/11/25055240/diseno-sin-titulo-53.jpg
END:VEVENT
END:VCALENDAR