BEGIN:VCALENDAR
VERSION:2.0
PRODID:-//Poblenou Urban District - ECPv6.15.20//NONSGML v1.0//EN
CALSCALE:GREGORIAN
METHOD:PUBLISH
X-ORIGINAL-URL:https://poblenouurbandistrict.com/ca
X-WR-CALDESC:Esdeveniments per Poblenou Urban District
REFRESH-INTERVAL;VALUE=DURATION:PT1H
X-Robots-Tag:noindex
X-PUBLISHED-TTL:PT1H
BEGIN:VTIMEZONE
TZID:Europe/Madrid
BEGIN:DAYLIGHT
TZOFFSETFROM:+0100
TZOFFSETTO:+0200
TZNAME:CEST
DTSTART:20220327T010000
END:DAYLIGHT
BEGIN:STANDARD
TZOFFSETFROM:+0200
TZOFFSETTO:+0100
TZNAME:CET
DTSTART:20221030T010000
END:STANDARD
BEGIN:DAYLIGHT
TZOFFSETFROM:+0100
TZOFFSETTO:+0200
TZNAME:CEST
DTSTART:20230326T010000
END:DAYLIGHT
BEGIN:STANDARD
TZOFFSETFROM:+0200
TZOFFSETTO:+0100
TZNAME:CET
DTSTART:20231029T010000
END:STANDARD
BEGIN:DAYLIGHT
TZOFFSETFROM:+0100
TZOFFSETTO:+0200
TZNAME:CEST
DTSTART:20240331T010000
END:DAYLIGHT
BEGIN:STANDARD
TZOFFSETFROM:+0200
TZOFFSETTO:+0100
TZNAME:CET
DTSTART:20241027T010000
END:STANDARD
END:VTIMEZONE
BEGIN:VEVENT
DTSTART;TZID=Europe/Madrid:20230330T080000
DTEND;TZID=Europe/Madrid:20230330T170000
DTSTAMP:20260425T121606
CREATED:20230327T104506Z
LAST-MODIFIED:20230327T104506Z
UID:10004439-1680163200-1680195600@poblenouurbandistrict.com
SUMMARY:[:ca]Una sessió de música experimental amb la guitarra expandida de Nuno Rebelo[:es]Una sesión de música experimental con guitarra expandida de Nuno Rebelo[:en]An experimental music session with expanded guitar by Nuno Rebelo[:]
DESCRIPTION:
URL:https://poblenouurbandistrict.com/ca/agenda/una-sessio-de-musica-experimental-amb-la-guitarra-expandida-de-nuno-rebelo/
LOCATION:Museu de la música\, C/ de Lepant\, 150\, Barcelona\, Catalunya\, 08013\, Espanya
CATEGORIES:Música
END:VEVENT
END:VCALENDAR