BEGIN:VCALENDAR
VERSION:2.0
PRODID:-//Poblenou Urban District - ECPv6.15.20//NONSGML v1.0//EN
CALSCALE:GREGORIAN
METHOD:PUBLISH
X-ORIGINAL-URL:https://poblenouurbandistrict.com/ca
X-WR-CALDESC:Esdeveniments per Poblenou Urban District
REFRESH-INTERVAL;VALUE=DURATION:PT1H
X-Robots-Tag:noindex
X-PUBLISHED-TTL:PT1H
BEGIN:VTIMEZONE
TZID:Europe/Madrid
BEGIN:DAYLIGHT
TZOFFSETFROM:+0100
TZOFFSETTO:+0200
TZNAME:CEST
DTSTART:20220327T010000
END:DAYLIGHT
BEGIN:STANDARD
TZOFFSETFROM:+0200
TZOFFSETTO:+0100
TZNAME:CET
DTSTART:20221030T010000
END:STANDARD
BEGIN:DAYLIGHT
TZOFFSETFROM:+0100
TZOFFSETTO:+0200
TZNAME:CEST
DTSTART:20230326T010000
END:DAYLIGHT
BEGIN:STANDARD
TZOFFSETFROM:+0200
TZOFFSETTO:+0100
TZNAME:CET
DTSTART:20231029T010000
END:STANDARD
BEGIN:DAYLIGHT
TZOFFSETFROM:+0100
TZOFFSETTO:+0200
TZNAME:CEST
DTSTART:20240331T010000
END:DAYLIGHT
BEGIN:STANDARD
TZOFFSETFROM:+0200
TZOFFSETTO:+0100
TZNAME:CET
DTSTART:20241027T010000
END:STANDARD
END:VTIMEZONE
BEGIN:VEVENT
DTSTART;TZID=Europe/Madrid:20230331T190000
DTEND;TZID=Europe/Madrid:20230331T190000
DTSTAMP:20260425T121655
CREATED:20230327T104932Z
LAST-MODIFIED:20230327T104932Z
UID:10004442-1680289200-1680289200@poblenouurbandistrict.com
SUMMARY:[:ca]Beethoven 5: Juan Manuel Gómez i Ludovic Morlot[:es]Beethoven 5: Juan Manuel Gómez y Ludovic Morlot[:en]Beethoven 5: Juan Manuel Gómez and Ludovic Morlot[:]
DESCRIPTION:
URL:https://poblenouurbandistrict.com/ca/agenda/beethoven-5-juan-manuel-gomez-i-ludovic-morlot/2023-03-31/
LOCATION:L’Auditori\, Carrer de Lepant\, 150\, Barcelona\, 08013\, Espanya
CATEGORIES:Música
END:VEVENT
BEGIN:VEVENT
DTSTART;TZID=Europe/Madrid:20230331T210000
DTEND;TZID=Europe/Madrid:20230331T210000
DTSTAMP:20260425T121655
CREATED:20230327T102706Z
LAST-MODIFIED:20230327T102706Z
UID:10004436-1680296400-1680296400@poblenouurbandistrict.com
SUMMARY:[:ca]Concert Yung Beef: Fuego Live[:es]Concierto Yung Beef: Fuego live[:en]Yung Beef's concert: Fuego live[:]
DESCRIPTION:
URL:https://poblenouurbandistrict.com/ca/agenda/concert-yung-beef-fuego-live/
LOCATION:Sala Razzmatazz\, C/ dels Almogàvers\, 122\, Barcelona\, Barcelona\, 08018\, Espanya
CATEGORIES:Música
END:VEVENT
END:VCALENDAR