BEGIN:VCALENDAR
VERSION:2.0
PRODID:-//Poblenou Urban District - ECPv6.15.20//NONSGML v1.0//EN
CALSCALE:GREGORIAN
METHOD:PUBLISH
X-ORIGINAL-URL:https://poblenouurbandistrict.com/ca
X-WR-CALDESC:Esdeveniments per Poblenou Urban District
REFRESH-INTERVAL;VALUE=DURATION:PT1H
X-Robots-Tag:noindex
X-PUBLISHED-TTL:PT1H
BEGIN:VTIMEZONE
TZID:Europe/Madrid
BEGIN:DAYLIGHT
TZOFFSETFROM:+0100
TZOFFSETTO:+0200
TZNAME:CEST
DTSTART:20230326T010000
END:DAYLIGHT
BEGIN:STANDARD
TZOFFSETFROM:+0200
TZOFFSETTO:+0100
TZNAME:CET
DTSTART:20231029T010000
END:STANDARD
BEGIN:DAYLIGHT
TZOFFSETFROM:+0100
TZOFFSETTO:+0200
TZNAME:CEST
DTSTART:20240331T010000
END:DAYLIGHT
BEGIN:STANDARD
TZOFFSETFROM:+0200
TZOFFSETTO:+0100
TZNAME:CET
DTSTART:20241027T010000
END:STANDARD
BEGIN:DAYLIGHT
TZOFFSETFROM:+0100
TZOFFSETTO:+0200
TZNAME:CEST
DTSTART:20250330T010000
END:DAYLIGHT
BEGIN:STANDARD
TZOFFSETFROM:+0200
TZOFFSETTO:+0100
TZNAME:CET
DTSTART:20251026T010000
END:STANDARD
END:VTIMEZONE
BEGIN:VEVENT
DTSTART;TZID=Europe/Madrid:20241010T190000
DTEND;TZID=Europe/Madrid:20241010T190000
DTSTAMP:20260424T015405
CREATED:20241008T090506Z
LAST-MODIFIED:20241008T090506Z
UID:10006919-1728586800-1728586800@poblenouurbandistrict.com
SUMMARY:NONPALIDECE
DESCRIPTION:Nonpalicece és la banda més esperada de l’àmbit Reggae. \nVint-i-vuit anys de música. Des de 1996\, Nonpalidece o Nonpa\, com la van sobrenomenar\, ha estat una usina de reggae a Llatinoamèrica\, al costat de bandes col·legues del mateix país com Els Cafres i Els Pericos. Amb alts i baixos\, la banda de gairebé tres dècades s’ha mantingut ferma en la cultura. \nNéstor Ramljak\, vocalista de Nonpa\, utilitza l’analogia d’una planta per a referir-se al moment en el qual la banda es troba. Un en el qual\, després d’anys d’esforç i treball\, poden recollir els fruits. \nMés informació i entrades aquí.
URL:https://poblenouurbandistrict.com/ca/agenda/nonpalidece/
LOCATION:Sala Razzmatazz\, C/ dels Almogàvers\, 122\, Barcelona\, Barcelona\, 08018\, Espanya
CATEGORIES:Música
ATTACH;FMTTYPE=image/png:https://media.poblenouurbandistrict.com/2024/10/25075759/nonpalidece2.png
END:VEVENT
BEGIN:VEVENT
DTSTART;TZID=Europe/Madrid:20241010T200000
DTEND;TZID=Europe/Madrid:20241010T200000
DTSTAMP:20260424T015405
CREATED:20241008T090852Z
LAST-MODIFIED:20241008T090852Z
UID:10006920-1728590400-1728590400@poblenouurbandistrict.com
SUMMARY:TIMØ - CONQUISTAR EL PLANETA TOUR
DESCRIPTION:La banda colombiana TIMØ\, recentment nominada com a millor nou artista en els Latin Grammys\, torna a Espanya amb la seva nova gira “Conquistar El Planeta Tour”. \nAquest concert és un xou completament nou acompanyat dels més recents llançaments de la banda colombiana sense deixar de costat les seves cançons clàssiques\, però elevant l’experiència i el muntatge del xou. \nCada concert del tour serà diferent perquè tindrà moments preparats especialment per a cada ciutat. Aquest és sens dubte el tour més ambiciós de tota la seva carrera i l’estaran presentant en 14 ciutats – 10 països de Llatinoamèrica i Europa. \nMés informació i entrades aquí.
URL:https://poblenouurbandistrict.com/ca/agenda/timo-conquistar-el-planeta-tour/
LOCATION:Sala Razzmatazz\, C/ dels Almogàvers\, 122\, Barcelona\, Barcelona\, 08018\, Espanya
CATEGORIES:Música
ATTACH;FMTTYPE=image/jpeg:https://media.poblenouurbandistrict.com/2024/10/25075802/timo1-1000x540-1.jpg
END:VEVENT
BEGIN:VEVENT
DTSTART;TZID=Europe/Madrid:20241010T210000
DTEND;TZID=Europe/Madrid:20241010T210000
DTSTAMP:20260424T015405
CREATED:20241004T091717Z
LAST-MODIFIED:20241004T091717Z
UID:10006910-1728594000-1728594000@poblenouurbandistrict.com
SUMMARY:[:ca]Festa Presentació PICANTE + Ruben Cons DJ + Unai Muguruza DJ[:es]Fiesta Presentación PICANTE + Ruben Cons DJ + Unai Muguruza DJ[:en]PICANTE Introduction Party + Ruben Cons DJ + Unai Muguruza DJ[:]
DESCRIPTION:  \nMés informació  i entrades aquí.
URL:https://poblenouurbandistrict.com/ca/agenda/festa-presentacio-picante-ruben-cons-dj-unai-muguruza-dj/
LOCATION:La Nau
CATEGORIES:Música
ATTACH;FMTTYPE=image/jpeg:https://media.poblenouurbandistrict.com/2024/10/25075722/flyer-lanau-picante-web.jpg
END:VEVENT
END:VCALENDAR