BEGIN:VCALENDAR
VERSION:2.0
PRODID:-//Poblenou Urban District - ECPv6.15.20//NONSGML v1.0//EN
CALSCALE:GREGORIAN
METHOD:PUBLISH
X-WR-CALNAME:Poblenou Urban District
X-ORIGINAL-URL:https://poblenouurbandistrict.com/ca
X-WR-CALDESC:Esdeveniments per Poblenou Urban District
REFRESH-INTERVAL;VALUE=DURATION:PT1H
X-Robots-Tag:noindex
X-PUBLISHED-TTL:PT1H
BEGIN:VTIMEZONE
TZID:Europe/Madrid
BEGIN:DAYLIGHT
TZOFFSETFROM:+0100
TZOFFSETTO:+0200
TZNAME:CEST
DTSTART:20230326T010000
END:DAYLIGHT
BEGIN:STANDARD
TZOFFSETFROM:+0200
TZOFFSETTO:+0100
TZNAME:CET
DTSTART:20231029T010000
END:STANDARD
BEGIN:DAYLIGHT
TZOFFSETFROM:+0100
TZOFFSETTO:+0200
TZNAME:CEST
DTSTART:20240331T010000
END:DAYLIGHT
BEGIN:STANDARD
TZOFFSETFROM:+0200
TZOFFSETTO:+0100
TZNAME:CET
DTSTART:20241027T010000
END:STANDARD
BEGIN:DAYLIGHT
TZOFFSETFROM:+0100
TZOFFSETTO:+0200
TZNAME:CEST
DTSTART:20250330T010000
END:DAYLIGHT
BEGIN:STANDARD
TZOFFSETFROM:+0200
TZOFFSETTO:+0100
TZNAME:CET
DTSTART:20251026T010000
END:STANDARD
END:VTIMEZONE
BEGIN:VEVENT
DTSTART;TZID=Europe/Madrid:20241011T193000
DTEND;TZID=Europe/Madrid:20241011T193000
DTSTAMP:20260424T015251
CREATED:20241008T093216Z
LAST-MODIFIED:20241008T093216Z
UID:10006923-1728675000-1728675000@poblenouurbandistrict.com
SUMMARY:[:ca]NIÑOS MUTANTES - 30 ANIVERSARIO - CONCIERTO DESPEDIDA[:es]POWAFUNKNIÑOS MUTANTES - 30 ANIVERSARIO - CONCIERTO DESPEDIDA#CURTCIRCUIT[:en]NIÑOS MUTANTES - 30 ANIVERSARIO - CONCIERTO DESPEDIDA[:]
DESCRIPTION:Niños Mutantes diuen adeu en 2024. \nHo faran amb una cita a Barcelona\, posant el punt final a 30 anys de trajectòria musical que han donat per a més de 1.000 concerts\, 12 discos i una col·lecció de cançons inoblidables com a “Errante”\, “Todo va a cambiar” o “No puedo más contigo”\, que quedaran per a la banda sonora de les nostres vides. \nPer a Nens Mutants\, ha arribat el moment de l’adeu. \n\n\n\n\n  \n\n\n\nMés informació i entrades aquí.
URL:https://poblenouurbandistrict.com/ca/agenda/ninos-mutantes-30-aniversario-concierto-despedida/
LOCATION:Sala Razzmatazz\, C/ dels Almogàvers\, 122\, Barcelona\, Barcelona\, 08018\, Espanya
CATEGORIES:Música
ATTACH;FMTTYPE=image/jpeg:https://media.poblenouurbandistrict.com/2024/10/25075810/niosposter.jpg
END:VEVENT
BEGIN:VEVENT
DTSTART;TZID=Europe/Madrid:20241011T193000
DTEND;TZID=Europe/Madrid:20241011T193000
DTSTAMP:20260424T015251
CREATED:20241008T093350Z
LAST-MODIFIED:20241008T093514Z
UID:10006924-1728675000-1728675000@poblenouurbandistrict.com
SUMMARY:[:ca]NIÑOS MUTANTES - 30 ANIVERSARIO - CONCIERTO DESPEDIDA[:es]NIÑOS MUTANTES - 30 ANIVERSARIO - CONCIERTO DESPEDIDA#CURTCIRCUIT[:en]NIÑOS MUTANTES - 30 ANIVERSARIO - CONCIERTO DESPEDIDA[:]
DESCRIPTION:Niños Mutantes diuen adeu en 2024. \nHo faran amb una cita a Barcelona\, posant el punt final a 30 anys de trajectòria musical que han donat per a més de 1.000 concerts\, 12 discos i una col·lecció de cançons inoblidables com a “Errante”\, “Todo va a cambiar” o “No puedo más contigo”\, que quedaran per a la banda sonora de les nostres vides. \nPer a Nens Mutants\, ha arribat el moment de l’adeu. \n\n\n\n\n  \n\n\n\nMés informació i entrades aquí.
URL:https://poblenouurbandistrict.com/ca/agenda/ninos-mutantes-30-aniversario-concierto-despedida-2/
LOCATION:Sala Razzmatazz\, C/ dels Almogàvers\, 122\, Barcelona\, Barcelona\, 08018\, Espanya
CATEGORIES:Música
ATTACH;FMTTYPE=image/jpeg:https://media.poblenouurbandistrict.com/2024/10/25075810/niosposter.jpg
END:VEVENT
BEGIN:VEVENT
DTSTART;TZID=Europe/Madrid:20241011T200000
DTEND;TZID=Europe/Madrid:20241011T200000
DTSTAMP:20260424T015251
CREATED:20241008T092745Z
LAST-MODIFIED:20241008T092745Z
UID:10006922-1728676800-1728676800@poblenouurbandistrict.com
SUMMARY:POWAFUNK #CURTCIRCUIT
DESCRIPTION:Després d’esgotar entrades i triomfar en la mítica sala El Segle de Sant Cugat del Vallés\, el millor tribut a El Canto del Loco s’atreveix amb la sala 2 de Razzmatazz a Barcelona. \nEncant de Boig és una banda formada a Barcelona a mitjan 2021. Aquest tribut al El Canto del Loc et transportarà a l’època dels 2000\, on Dani Martín i els seus van crear himnes del pop rock nacional al nostre país. Qui no ha escoltat Zapatillas\, Foto en Blanco y Negro\, Besos o Peter Pan? \nMolts hem crescut amb ells i els hem escoltat com a banda sonora de la nostra adolescència\, i això és exactament el que viureu. Segurament vas cantar\, vas plorar o vas riure amb algunes de les seves cançons mentre anaves a l’institut\, a la universitat i quan salias de tabola amb els teus amics. \nEl que podreu veure en els seus concerts és una recreació del que va ser una de la bandes mes importants del nostre país. No faltaran en els seus xous cançons com a  Insoportable\, Volverá\, Ya Nada Volverá a Ser Como Antes\, Son Sueños o La Suerte de Mi Vida entre altres i pot ser que alguna sorpresa de Dani Martín en solitari com a Zero. Encant de Boig et transportarà a aquesta època com cap altre tribut t’ho ha fet recordar. \n\n\n\nMés informació i entrades aquí.
URL:https://poblenouurbandistrict.com/ca/agenda/powafunk-curtcircuit/
LOCATION:Sala Razzmatazz\, C/ dels Almogàvers\, 122\, Barcelona\, Barcelona\, 08018\, Espanya
CATEGORIES:Música
ATTACH;FMTTYPE=image/jpeg:https://media.poblenouurbandistrict.com/2024/10/25075807/encantodellocoposter.jpg
END:VEVENT
BEGIN:VEVENT
DTSTART;TZID=Europe/Madrid:20241011T203000
DTEND;TZID=Europe/Madrid:20241011T203000
DTSTAMP:20260424T015251
CREATED:20241008T091439Z
LAST-MODIFIED:20241008T092149Z
UID:10006921-1728678600-1728678600@poblenouurbandistrict.com
SUMMARY:POWAFUNK #CURTCIRCUIT
DESCRIPTION:El productor i baixista canari Charlie Moreno presenta Powafunk\, un projecte que ofereix un gir conceptual a la seva discografia anterior. Descàrrega d’energia i positivitat\, amb la particularitat que en aquesta ocasió cedeix el protagonisme del seu baix a les veus dels cantants Alex Delgado i Brigitte Emaga. Aquest treball està influenciat per la música dels clàssics del funk\, però amb aires de modernitat i la descaradura al qual l’artista ens té acostumats\, aquesta vegada acompanyat d’una banda de vuit músics excepcionals. Presenten el seu segon àlbum ‘Black Juice’ en el marc de Curtcircuit l’11 d’octubre a la sala Razzmatazz 3. Un treball elaborat principalment per composicions originals i alguna revisió d’èxits. En definitiva\, Powafunk arriba per a quedar-se\, i ho farà en forma de “groove tsunami”\, fent que el públic no pugui evitar arrencar-se a ballar. \n\n\n\n\n\n\nMés informació i entrades aquí.
URL:https://poblenouurbandistrict.com/ca/agenda/timo-conquistar-el-planeta-tour-2/
LOCATION:Sala Razzmatazz\, C/ dels Almogàvers\, 122\, Barcelona\, Barcelona\, 08018\, Espanya
CATEGORIES:Música
ATTACH;FMTTYPE=image/jpeg:https://media.poblenouurbandistrict.com/2024/10/25075804/powa2.jpg
END:VEVENT
BEGIN:VEVENT
DTSTART;TZID=Europe/Madrid:20241011T210000
DTEND;TZID=Europe/Madrid:20241011T210000
DTSTAMP:20260424T015251
CREATED:20241004T093650Z
LAST-MODIFIED:20241004T093650Z
UID:10006911-1728680400-1728680400@poblenouurbandistrict.com
SUMMARY:[:ca]HIP HORNS BRASS COLLECTIVE + Convidats + After party[:es]HIP HORNS BRASS COLLECTIVE + Invitados + After party[:en]HIP HORNS BRASS COLLECTIVE + Guests + After party[:]
DESCRIPTION:Hip Horns Brass Collective porta sota el braç una poderosa posada en escena i una estètica moderna i innovadora de la mà de músics que venen de treballar amb artistes de la talla de C. Tangana o Nathy Peluso. Un homenatge al jazz amb basa a Nova Orleans\, barrejant la cultura internacional del hip-hop i sense renunciar el més mínim al Groove. Un frenètic 2023 els ha portat a treure diversos treballs\, entre ells un enorme homenatge al desaparegut MF Doom\, publicar diversos singles (Bram! & Mulligan\, SIL Records)\, i a col·laborar en estudi i en directe amb artistes com Escandaloso Expósito\, Las Ninyas del Corro\, o Ana Tijoux\, además d’una agenda de més de 25 directes. \nPassen per Curtcircuit per presentar el seu primer LP amb el que volen continuar reivindicant la seva experiència sonora i visual. L’11 d’octubre a La Nau\, un concert amb un munt de convidats sorpresa i una sessió de DJ en acabar el show per a seguir gaudint de la festassa que ens tenen preparat. \nMés informació  i entrades aquí.
URL:https://poblenouurbandistrict.com/ca/agenda/hip-horns-brass-collective-convidats-after-party/
LOCATION:La Nau
CATEGORIES:Música
ATTACH;FMTTYPE=image/jpeg:https://media.poblenouurbandistrict.com/2024/10/25075725/hiphorns-web-e1728574731491.jpg
END:VEVENT
END:VCALENDAR