BEGIN:VCALENDAR
VERSION:2.0
PRODID:-//Poblenou Urban District - ECPv6.15.20//NONSGML v1.0//EN
CALSCALE:GREGORIAN
METHOD:PUBLISH
X-ORIGINAL-URL:https://poblenouurbandistrict.com/ca
X-WR-CALDESC:Esdeveniments per Poblenou Urban District
REFRESH-INTERVAL;VALUE=DURATION:PT1H
X-Robots-Tag:noindex
X-PUBLISHED-TTL:PT1H
BEGIN:VTIMEZONE
TZID:Europe/Madrid
BEGIN:DAYLIGHT
TZOFFSETFROM:+0100
TZOFFSETTO:+0200
TZNAME:CEST
DTSTART:20240331T010000
END:DAYLIGHT
BEGIN:STANDARD
TZOFFSETFROM:+0200
TZOFFSETTO:+0100
TZNAME:CET
DTSTART:20241027T010000
END:STANDARD
BEGIN:DAYLIGHT
TZOFFSETFROM:+0100
TZOFFSETTO:+0200
TZNAME:CEST
DTSTART:20250330T010000
END:DAYLIGHT
BEGIN:STANDARD
TZOFFSETFROM:+0200
TZOFFSETTO:+0100
TZNAME:CET
DTSTART:20251026T010000
END:STANDARD
BEGIN:DAYLIGHT
TZOFFSETFROM:+0100
TZOFFSETTO:+0200
TZNAME:CEST
DTSTART:20260329T010000
END:DAYLIGHT
BEGIN:STANDARD
TZOFFSETFROM:+0200
TZOFFSETTO:+0100
TZNAME:CET
DTSTART:20261025T010000
END:STANDARD
END:VTIMEZONE
BEGIN:VEVENT
DTSTART;TZID=Europe/Madrid:20250111T190000
DTEND;TZID=Europe/Madrid:20250111T190000
DTSTAMP:20260423T194258
CREATED:20250107T095324Z
LAST-MODIFIED:20250107T095324Z
UID:10007080-1736622000-1736622000@poblenouurbandistrict.com
SUMMARY:HOMENAJE MECANO "ME CUESTA TANTO OLVIDARTE"
DESCRIPTION:Reviu MECANO amb la millor banda homenatge del món\, en gira per Espanya per temps limitat. \n“ME CUESTA TANTO OLVIDARTE HOMENAJE A MECANO” és el concert homenatge al grup més important del pop espanyol. Un espectacle que ofereix al públic una reproducció exacta de MECANO\, convertint-se en tot un xou musical. L’objectiu és crear la sensació d’estar veient MECANO en directe.
URL:https://poblenouurbandistrict.com/ca/agenda/homenaje-mecano-me-cuesta-tanto-olvidarte/
LOCATION:Sala Razzmatazz\, C/ dels Almogàvers\, 122\, Barcelona\, Barcelona\, 08018\, Espanya
CATEGORIES:Música
ATTACH;FMTTYPE=image/jpeg:https://media.poblenouurbandistrict.com/2025/01/25082511/mecanoposter25.jpg
END:VEVENT
BEGIN:VEVENT
DTSTART;TZID=Europe/Madrid:20250111T193000
DTEND;TZID=Europe/Madrid:20250111T193000
DTSTAMP:20260423T194258
CREATED:20250107T094217Z
LAST-MODIFIED:20250107T094949Z
UID:10007079-1736623800-1736623800@poblenouurbandistrict.com
SUMMARY:LOVE OF LESBIAN - HERMANDAD TOUR
DESCRIPTION:
URL:https://poblenouurbandistrict.com/ca/agenda/love-of-lesbian-hermandad-tour/2025-01-11/
LOCATION:Sala Razzmatazz\, C/ dels Almogàvers\, 122\, Barcelona\, Barcelona\, 08018\, Espanya
CATEGORIES:Música
ATTACH;FMTTYPE=image/jpeg:https://media.poblenouurbandistrict.com/2025/01/25082501/lol1-1000x540-1.jpg
END:VEVENT
BEGIN:VEVENT
DTSTART;TZID=Europe/Madrid:20250111T193000
DTEND;TZID=Europe/Madrid:20250111T193000
DTSTAMP:20260423T194258
CREATED:20250107T095913Z
LAST-MODIFIED:20250107T095913Z
UID:10007081-1736623800-1736623800@poblenouurbandistrict.com
SUMMARY:[:ca]MELTEM + TUGURIO + DOPEMANCER[:es]MELTEM + TUGURIO + DOPEMANCER[:en]HOMENAJE MECANO "ME CUESTA TANTO OLVIDARTE"[:]
DESCRIPTION:Els barcelonins van debutar amb una demo\, a la tardor del 2022\, que tenia tot el caràcter d’una gravació professional. En aquesta presentaven credencials com una banda interessant\, a tenir en compte si ets dels que gaudeixen enfrontant-se a reptes musicals. No estem parlant d’una proposta per a tots els públics: les cinc cançons incloses en aquesta primera carta de presentació requereixen ser escoltades amb atenció\, posant els sentits en alerta i submergint-te sense reserves en la borrascosa sonoritat que emergeix dels altaveus. Etiquetes com el doom o el stoner els quedaven petites\, massa reduccionistes per a una proposta que\, intuïem\, anava molt més enllà. \nEfectivament\, el present Mare Nostrum és la prova que no estàvem equivocats. Si bé és cert que els estils esmentats són la terra d’on brollen les seves cançons\, aquestes estan regades per la seva facilitat per crear atmosferes i embolcallar l’oient\, atrapant-lo entre suggeridores textures rítmiques i espirals de guitarres\, creant una música tremendament descriptiva\, gairebé física\, capaç de fer-te sentir la calor.
URL:https://poblenouurbandistrict.com/ca/agenda/meltem-tugurio-dopemancer/
LOCATION:Sala Razzmatazz\, C/ dels Almogàvers\, 122\, Barcelona\, Barcelona\, 08018\, Espanya
CATEGORIES:Música
ATTACH;FMTTYPE=image/jpeg:https://media.poblenouurbandistrict.com/2025/01/25082514/meltem.jpg
END:VEVENT
BEGIN:VEVENT
DTSTART;TZID=Europe/Madrid:20250111T200000
DTEND;TZID=Europe/Madrid:20250111T200000
DTSTAMP:20260423T194258
CREATED:20250108T102216Z
LAST-MODIFIED:20250108T102216Z
UID:10007090-1736625600-1736625600@poblenouurbandistrict.com
SUMMARY:FACE THE MAYBE + DARKTEMIS
DESCRIPTION:La banda\, que es va formar a Barcelona el 2009 i compta amb diversos àlbums d’estudi i gires d’èxit a les seves espatlles\, torna als escenaris amb més força que mai després d’un període de descans. \nPrepara’t per escoltar en directe els seus nous avançaments “Embrace” i “Fragile”\, singles del que serà el seu tercer àlbum d’estudi! \nCom a banda convidada\, actuarà Darktemis\, banda de metall simfònic formada a la ciutat Comtal\, que presentaran el seu primer treball.
URL:https://poblenouurbandistrict.com/ca/agenda/face-the-maybe-darktemis/
LOCATION:La Nau
CATEGORIES:Música
ATTACH;FMTTYPE=image/jpeg:https://media.poblenouurbandistrict.com/2025/01/25082543/face-web.jpg
END:VEVENT
END:VCALENDAR