BEGIN:VCALENDAR
VERSION:2.0
PRODID:-//Poblenou Urban District - ECPv6.15.20//NONSGML v1.0//EN
CALSCALE:GREGORIAN
METHOD:PUBLISH
X-WR-CALNAME:Poblenou Urban District
X-ORIGINAL-URL:https://poblenouurbandistrict.com/ca
X-WR-CALDESC:Esdeveniments per Poblenou Urban District
REFRESH-INTERVAL;VALUE=DURATION:PT1H
X-Robots-Tag:noindex
X-PUBLISHED-TTL:PT1H
BEGIN:VTIMEZONE
TZID:Europe/Madrid
BEGIN:DAYLIGHT
TZOFFSETFROM:+0100
TZOFFSETTO:+0200
TZNAME:CEST
DTSTART:20240331T010000
END:DAYLIGHT
BEGIN:STANDARD
TZOFFSETFROM:+0200
TZOFFSETTO:+0100
TZNAME:CET
DTSTART:20241027T010000
END:STANDARD
BEGIN:DAYLIGHT
TZOFFSETFROM:+0100
TZOFFSETTO:+0200
TZNAME:CEST
DTSTART:20250330T010000
END:DAYLIGHT
BEGIN:STANDARD
TZOFFSETFROM:+0200
TZOFFSETTO:+0100
TZNAME:CET
DTSTART:20251026T010000
END:STANDARD
BEGIN:DAYLIGHT
TZOFFSETFROM:+0100
TZOFFSETTO:+0200
TZNAME:CEST
DTSTART:20260329T010000
END:DAYLIGHT
BEGIN:STANDARD
TZOFFSETFROM:+0200
TZOFFSETTO:+0100
TZNAME:CET
DTSTART:20261025T010000
END:STANDARD
END:VTIMEZONE
BEGIN:VEVENT
DTSTART;TZID=Europe/Madrid:20250118T193000
DTEND;TZID=Europe/Madrid:20250118T193000
DTSTAMP:20260423T194114
CREATED:20250117T121334Z
LAST-MODIFIED:20250117T121334Z
UID:10007106-1737228600-1737228600@poblenouurbandistrict.com
SUMMARY:VARRY BRAVA - GIRA SHARIROP
DESCRIPTION:Per motius logístics\, el concert de BARCELONA es trasllada a la SALA RAZZMATAZZ 3\, situada al Carrer del Pamplona 88 Interior. \nEls horaris de l’esdeveniment es mantenen sense canvis\, així com les entrades adquirides\, que continuaran sent vàlides per a la nova ubicació. \nMés informació i entrades aquí.
URL:https://poblenouurbandistrict.com/ca/agenda/varry-brava-gira-sharirop/
CATEGORIES:Música
ATTACH;FMTTYPE=image/jpeg:https://media.poblenouurbandistrict.com/2025/01/25083129/vb1-1000x540-1.jpg
END:VEVENT
BEGIN:VEVENT
DTSTART;TZID=Europe/Madrid:20250118T200000
DTEND;TZID=Europe/Madrid:20250118T200000
DTSTAMP:20260423T194114
CREATED:20250107T120510Z
LAST-MODIFIED:20250107T120510Z
UID:10007086-1737230400-1737230400@poblenouurbandistrict.com
SUMMARY:[:ca]El Trencanous - Ballet de Barcelona[:es]El Cascanueces - Ballet de Barcelona[:en]The Nutcracker - Ballet de Barcelona[:]
DESCRIPTION:El Ballet de Barcelona torna amb el seu aclamat Trencanous a la Ciutat Comtal! \nQuan el rellotge marca les dotze la nit de Reis\, l’oncle Deulofeu fa entrega d’un peculiar Trencanous a la Clara. Un cop adormida\, la valenta i atrevida jove\, lluita amb ratolins entremaliats\, i junt amb el seu Trencanous s’endinsa en un preciós viatge travessant una tempesta d’hivern\, fins a arribar al Món dels Dolços. Un meravellós món ple de màgia i fantasia on tots dos són rebuts amb dolces danses de diferents cultures: la Xocolata espanyola\, el Te xinès\, el Cafè de l’Aràbia\, el Massapà francès\, Bastons de Menta russos i com no podia faltar en aquesta producció\, els Carquinyolis i Neules catalans. \nUn viatge de somnis on la nostra protagonista troba la seva força interior que desconeixia tenir. El plaer més dolç d’aquestes festes! \n 
URL:https://poblenouurbandistrict.com/ca/agenda/el-trencanous-ballet-de-barcelona/2025-01-18/
LOCATION:Casino l’aliança del Poblenou\, Rambla del Poblenou\, 42\,\, Barcelona\, Barcelona\, 08005\, Espanya
CATEGORIES:Danza,Música
ATTACH;FMTTYPE=image/jpeg:https://media.poblenouurbandistrict.com/2025/01/25082524/poster-a3-el-trencanous-copia-scaled-1.jpg
END:VEVENT
BEGIN:VEVENT
DTSTART;TZID=Europe/Madrid:20250118T200000
DTEND;TZID=Europe/Madrid:20250118T200000
DTSTAMP:20260423T194114
CREATED:20250117T121644Z
LAST-MODIFIED:20250117T121903Z
UID:10007107-1737230400-1737230400@poblenouurbandistrict.com
SUMMARY:Los Punsetes - Que le den por culo a tus amigos TOUR - Gira 20 Aniversario
DESCRIPTION:  \nMés informació i entrades aquí.
URL:https://poblenouurbandistrict.com/ca/agenda/los-punsetes-que-le-den-por-culo-a-tus-amigos-tour-gira-20-aniversario/
LOCATION:Sala Razzmatazz\, C/ dels Almogàvers\, 122\, Barcelona\, Barcelona\, 08018\, Espanya
CATEGORIES:Música
ATTACH;FMTTYPE=image/jpeg:https://media.poblenouurbandistrict.com/2025/01/25083132/lospunsetes1sofiacolodronsofiacolodron-1-1000x540-1.jpg
END:VEVENT
BEGIN:VEVENT
DTSTART;TZID=Europe/Madrid:20250118T203000
DTEND;TZID=Europe/Madrid:20250118T203000
DTSTAMP:20260423T194114
CREATED:20250110T102111Z
LAST-MODIFIED:20250110T102221Z
UID:10007093-1737232200-1737232200@poblenouurbandistrict.com
SUMMARY:El Buen Hijo
DESCRIPTION:El Buen Hijo o\, el que és el mateix\, la suma de Marco\, Alicia\, Cham\, Miquel i Daniel\, ha consagrat la seva existència com a grup de música a buscar (i trobar) la cançó perfecta de pop. Una banda que transcendeix èpoques i tendències i que s’ha convertit\, per dret propi\, en una de les realitats més apassionants de l’escena independent nacional. El seu imminent nou treball\, Vé i va\, confirma el que ja es sabia: El Bon Fill són únics\, divertits\, apassionants i apassionats. \n  \nMés informació i entrades aquí.
URL:https://poblenouurbandistrict.com/ca/agenda/el-buen-hijo/
LOCATION:La Nau
CATEGORIES:Música
ATTACH;FMTTYPE=image/jpeg:https://media.poblenouurbandistrict.com/2025/01/25082753/elbuenhijo.jpg
END:VEVENT
END:VCALENDAR