BEGIN:VCALENDAR
VERSION:2.0
PRODID:-//Poblenou Urban District - ECPv6.15.20//NONSGML v1.0//EN
CALSCALE:GREGORIAN
METHOD:PUBLISH
X-WR-CALNAME:Poblenou Urban District
X-ORIGINAL-URL:https://poblenouurbandistrict.com/ca
X-WR-CALDESC:Esdeveniments per Poblenou Urban District
REFRESH-INTERVAL;VALUE=DURATION:PT1H
X-Robots-Tag:noindex
X-PUBLISHED-TTL:PT1H
BEGIN:VTIMEZONE
TZID:Europe/Madrid
BEGIN:DAYLIGHT
TZOFFSETFROM:+0100
TZOFFSETTO:+0200
TZNAME:CEST
DTSTART:20240331T010000
END:DAYLIGHT
BEGIN:STANDARD
TZOFFSETFROM:+0200
TZOFFSETTO:+0100
TZNAME:CET
DTSTART:20241027T010000
END:STANDARD
BEGIN:DAYLIGHT
TZOFFSETFROM:+0100
TZOFFSETTO:+0200
TZNAME:CEST
DTSTART:20250330T010000
END:DAYLIGHT
BEGIN:STANDARD
TZOFFSETFROM:+0200
TZOFFSETTO:+0100
TZNAME:CET
DTSTART:20251026T010000
END:STANDARD
BEGIN:DAYLIGHT
TZOFFSETFROM:+0100
TZOFFSETTO:+0200
TZNAME:CEST
DTSTART:20260329T010000
END:DAYLIGHT
BEGIN:STANDARD
TZOFFSETFROM:+0200
TZOFFSETTO:+0100
TZNAME:CET
DTSTART:20261025T010000
END:STANDARD
END:VTIMEZONE
BEGIN:VEVENT
DTSTART;TZID=Europe/Madrid:20250119T180000
DTEND;TZID=Europe/Madrid:20250119T180000
DTSTAMP:20260423T194116
CREATED:20250107T120510Z
LAST-MODIFIED:20250107T120510Z
UID:10007087-1737309600-1737309600@poblenouurbandistrict.com
SUMMARY:[:ca]El Trencanous - Ballet de Barcelona[:es]El Cascanueces - Ballet de Barcelona[:en]The Nutcracker - Ballet de Barcelona[:]
DESCRIPTION:El Ballet de Barcelona torna amb el seu aclamat Trencanous a la Ciutat Comtal! \nQuan el rellotge marca les dotze la nit de Reis\, l’oncle Deulofeu fa entrega d’un peculiar Trencanous a la Clara. Un cop adormida\, la valenta i atrevida jove\, lluita amb ratolins entremaliats\, i junt amb el seu Trencanous s’endinsa en un preciós viatge travessant una tempesta d’hivern\, fins a arribar al Món dels Dolços. Un meravellós món ple de màgia i fantasia on tots dos són rebuts amb dolces danses de diferents cultures: la Xocolata espanyola\, el Te xinès\, el Cafè de l’Aràbia\, el Massapà francès\, Bastons de Menta russos i com no podia faltar en aquesta producció\, els Carquinyolis i Neules catalans. \nUn viatge de somnis on la nostra protagonista troba la seva força interior que desconeixia tenir. El plaer més dolç d’aquestes festes! \n 
URL:https://poblenouurbandistrict.com/ca/agenda/el-trencanous-ballet-de-barcelona/2025-01-19/
LOCATION:Casino l’aliança del Poblenou\, Rambla del Poblenou\, 42\,\, Barcelona\, Barcelona\, 08005\, Espanya
CATEGORIES:Danza,Música
ATTACH;FMTTYPE=image/jpeg:https://media.poblenouurbandistrict.com/2025/01/25082524/poster-a3-el-trencanous-copia-scaled-1.jpg
END:VEVENT
BEGIN:VEVENT
DTSTART;TZID=Europe/Madrid:20250119T180000
DTEND;TZID=Europe/Madrid:20250119T180000
DTSTAMP:20260423T194116
CREATED:20250110T102907Z
LAST-MODIFIED:20250110T102907Z
UID:10007095-1737309600-1737309600@poblenouurbandistrict.com
SUMMARY:“La Descarguita” - Live! feat JAY KALO CUBAN QUINTET
DESCRIPTION:El pròxim 19 de gener\, de la mà de Street Timba i El Caribe Productions\, ens espera una Matinée Cubana a La Nau\, Barcelona.\nA partir de les 18 h\, Dj La Pantera i Dj La Dura ompliran la sala amb la millor selecció de música cubana per als balladors i\, després\, el Jay Kalo Cuban Quintet oferirà un concert amb la veritable essència cubana\, l’elegància del latin jazz matisat amb la timba d’arrel.\nNo et pots perdre aquesta matinée\, perfecta per a la teva tarda de diumenge! \nPrograma: \n\n18 h: obertura + dj set\n18.30 h: Jay Kalo Cuban Quintet\n20 h: dj set + ball social\n23 h: tancament\n\n  \nMés informació i entrades aquí.
URL:https://poblenouurbandistrict.com/ca/agenda/la-descarguita-live-feat-jay-kalo-cuban-quintet/
LOCATION:La Nau
CATEGORIES:Música
ATTACH;FMTTYPE=image/jpeg:https://media.poblenouurbandistrict.com/2025/01/25082756/jaykalo.jpg
END:VEVENT
END:VCALENDAR