BEGIN:VCALENDAR
VERSION:2.0
PRODID:-//Poblenou Urban District - ECPv6.15.20//NONSGML v1.0//EN
CALSCALE:GREGORIAN
METHOD:PUBLISH
X-ORIGINAL-URL:https://poblenouurbandistrict.com/ca
X-WR-CALDESC:Esdeveniments per Poblenou Urban District
REFRESH-INTERVAL;VALUE=DURATION:PT1H
X-Robots-Tag:noindex
X-PUBLISHED-TTL:PT1H
BEGIN:VTIMEZONE
TZID:Europe/Madrid
BEGIN:DAYLIGHT
TZOFFSETFROM:+0100
TZOFFSETTO:+0200
TZNAME:CEST
DTSTART:20240331T010000
END:DAYLIGHT
BEGIN:STANDARD
TZOFFSETFROM:+0200
TZOFFSETTO:+0100
TZNAME:CET
DTSTART:20241027T010000
END:STANDARD
BEGIN:DAYLIGHT
TZOFFSETFROM:+0100
TZOFFSETTO:+0200
TZNAME:CEST
DTSTART:20250330T010000
END:DAYLIGHT
BEGIN:STANDARD
TZOFFSETFROM:+0200
TZOFFSETTO:+0100
TZNAME:CET
DTSTART:20251026T010000
END:STANDARD
BEGIN:DAYLIGHT
TZOFFSETFROM:+0100
TZOFFSETTO:+0200
TZNAME:CEST
DTSTART:20260329T010000
END:DAYLIGHT
BEGIN:STANDARD
TZOFFSETFROM:+0200
TZOFFSETTO:+0100
TZNAME:CET
DTSTART:20261025T010000
END:STANDARD
END:VTIMEZONE
BEGIN:VEVENT
DTSTART;TZID=Europe/Madrid:20250120T170000
DTEND;TZID=Europe/Madrid:20250120T170000
DTSTAMP:20260423T194241
CREATED:20250107T115827Z
LAST-MODIFIED:20250107T115827Z
UID:10007084-1737392400-1737392400@poblenouurbandistrict.com
SUMMARY:[:ca]Cicle de Cobla a Barcelona - Grans Conjunts[:es]Ciclo de Cobla a Barcelona - Grans Conjunts[:en]Cobla in Barcelona -  Grans conjunts[:]
DESCRIPTION:Un any més\, el Cicle de Cobla al Casino L’Aliança del Poblenou acull els alumnes de cobla de l’Escola Superior de Música de Catalunya en el seu concert final del primer quadrimestre. \n 
URL:https://poblenouurbandistrict.com/ca/agenda/cicle-de-cobla-a-barcelona-grans-conjunts/
LOCATION:Casino l’aliança del Poblenou\, Rambla del Poblenou\, 42\,\, Barcelona\, Barcelona\, 08005\, Espanya
CATEGORIES:Música
ATTACH;FMTTYPE=image/jpeg:https://media.poblenouurbandistrict.com/2025/01/25082521/grans-conjunts.jpg
END:VEVENT
END:VCALENDAR