BEGIN:VCALENDAR
VERSION:2.0
PRODID:-//Poblenou Urban District - ECPv6.15.20//NONSGML v1.0//EN
CALSCALE:GREGORIAN
METHOD:PUBLISH
X-WR-CALNAME:Poblenou Urban District
X-ORIGINAL-URL:https://poblenouurbandistrict.com/ca
X-WR-CALDESC:Esdeveniments per Poblenou Urban District
REFRESH-INTERVAL;VALUE=DURATION:PT1H
X-Robots-Tag:noindex
X-PUBLISHED-TTL:PT1H
BEGIN:VTIMEZONE
TZID:Europe/Madrid
BEGIN:DAYLIGHT
TZOFFSETFROM:+0100
TZOFFSETTO:+0200
TZNAME:CEST
DTSTART:20240331T010000
END:DAYLIGHT
BEGIN:STANDARD
TZOFFSETFROM:+0200
TZOFFSETTO:+0100
TZNAME:CET
DTSTART:20241027T010000
END:STANDARD
BEGIN:DAYLIGHT
TZOFFSETFROM:+0100
TZOFFSETTO:+0200
TZNAME:CEST
DTSTART:20250330T010000
END:DAYLIGHT
BEGIN:STANDARD
TZOFFSETFROM:+0200
TZOFFSETTO:+0100
TZNAME:CET
DTSTART:20251026T010000
END:STANDARD
BEGIN:DAYLIGHT
TZOFFSETFROM:+0100
TZOFFSETTO:+0200
TZNAME:CEST
DTSTART:20260329T010000
END:DAYLIGHT
BEGIN:STANDARD
TZOFFSETFROM:+0200
TZOFFSETTO:+0100
TZNAME:CET
DTSTART:20261025T010000
END:STANDARD
END:VTIMEZONE
BEGIN:VEVENT
DTSTART;TZID=Europe/Madrid:20250126T170000
DTEND;TZID=Europe/Madrid:20250126T220000
DTSTAMP:20260423T194113
CREATED:20250110T104449Z
LAST-MODIFIED:20250110T104449Z
UID:10007099-1737910800-1737928800@poblenouurbandistrict.com
SUMMARY:PINKCLOUD pres. davyboi (Extended Set)
DESCRIPTION:Inexxstable + Totti (Live Set) \n\n\n\n\nEl cap de cartell d’aquesta edició\, Davyboi\, porta el seu estil únic a l’escenari\, garantint una nit inoblidable. Pink Cloud no és només un esdeveniment\, és una experiència dissenyada per trencar la rutina i recarregar la teva ànima en una atmosfera eufòrica i vibrant. \n\n\n\n\nMés informació i entrades aquí.
URL:https://poblenouurbandistrict.com/ca/agenda/pinkcloud-pres-davyboi-extended-set/
LOCATION:La Nau
CATEGORIES:Música
ATTACH;FMTTYPE=image/jpeg:https://media.poblenouurbandistrict.com/2025/01/25082809/pinkcloud.jpg
END:VEVENT
END:VCALENDAR